BEGIN:VCALENDAR
VERSION:2.0
PRODID:-//BlueWaterParent.com - ECPv6.15.20//NONSGML v1.0//EN
CALSCALE:GREGORIAN
METHOD:PUBLISH
X-ORIGINAL-URL:https://bluewaterparent.com
X-WR-CALDESC:Events for BlueWaterParent.com
REFRESH-INTERVAL;VALUE=DURATION:PT1H
X-Robots-Tag:noindex
X-PUBLISHED-TTL:PT1H
BEGIN:VTIMEZONE
TZID:America/New_York
BEGIN:DAYLIGHT
TZOFFSETFROM:-0500
TZOFFSETTO:-0400
TZNAME:EDT
DTSTART:20250309T070000
END:DAYLIGHT
BEGIN:STANDARD
TZOFFSETFROM:-0400
TZOFFSETTO:-0500
TZNAME:EST
DTSTART:20251102T060000
END:STANDARD
BEGIN:DAYLIGHT
TZOFFSETFROM:-0500
TZOFFSETTO:-0400
TZNAME:EDT
DTSTART:20260308T070000
END:DAYLIGHT
BEGIN:STANDARD
TZOFFSETFROM:-0400
TZOFFSETTO:-0500
TZNAME:EST
DTSTART:20261101T060000
END:STANDARD
BEGIN:DAYLIGHT
TZOFFSETFROM:-0500
TZOFFSETTO:-0400
TZNAME:EDT
DTSTART:20270314T070000
END:DAYLIGHT
BEGIN:STANDARD
TZOFFSETFROM:-0400
TZOFFSETTO:-0500
TZNAME:EST
DTSTART:20271107T060000
END:STANDARD
END:VTIMEZONE
BEGIN:VEVENT
DTSTART;VALUE=DATE:20260122
DTEND;VALUE=DATE:20260126
DTSTAMP:20260424T065156
CREATED:20251211T194725Z
LAST-MODIFIED:20251211T194725Z
UID:10016913-1769040000-1769385599@bluewaterparent.com
SUMMARY:St. Clair's Icy Bazaar
DESCRIPTION:
URL:https://bluewaterparent.com/event/st-clairs-icy-bazaar/
LOCATION:Downtown St. Clair\, St. Clair\, MI
CATEGORIES:Fairs and Festivals
END:VEVENT
BEGIN:VEVENT
DTSTART;TZID=America/New_York:20260124T083000
DTEND;TZID=America/New_York:20260124T130000
DTSTAMP:20260424T065156
CREATED:20251210T133901Z
LAST-MODIFIED:20251210T133901Z
UID:10016910-1769243400-1769259600@bluewaterparent.com
SUMMARY:Parenting Basics Class – January
DESCRIPTION:Parenting Basics Class – January\nDate: January 24\, 2026\nTime: 8:30 AM – 1:00 PM\nLocation: Operation Transformation\nCost: $25\nRSVP: https://www.optrans.org/event-details/parenting-basics-class-january-1 \nDescription:\nParenting doesn’t come with a manual… but we’re here to help.\nOperation Transformation invites you to our Parenting Basics Class—a safe and encouraging space where you can: \n\nLearn practical tools for everyday parenting\nFind inspiration and encouragement for the journey\nConnect with other parents who understand what you’re going through\n\nHosted by: Rev. Dr. Tom & Brenda Seppo
URL:https://bluewaterparent.com/event/parenting-basics-class-january/
LOCATION:Operation Transformation\, 1904 Poplar Street\, Port Huron\, MI
CATEGORIES:Help
END:VEVENT
BEGIN:VEVENT
DTSTART;TZID=America/New_York:20260124T100000
DTEND;TZID=America/New_York:20260124T120000
DTSTAMP:20260424T065156
CREATED:20260103T024854Z
LAST-MODIFIED:20260103T024854Z
UID:10021735-1769248800-1769256000@bluewaterparent.com
SUMMARY:Homemade Lava Lamp
DESCRIPTION:Registration requested.
URL:https://bluewaterparent.com/event/homemade-lava-lamp/
LOCATION:Yale Library\, 2 Jones St\, Yale\, MI\, 48097\, United States
END:VEVENT
BEGIN:VEVENT
DTSTART;TZID=America/New_York:20260124T110000
DTEND;TZID=America/New_York:20260124T120000
DTSTAMP:20260424T065156
CREATED:20260103T030215Z
LAST-MODIFIED:20260103T030215Z
UID:10021736-1769252400-1769256000@bluewaterparent.com
SUMMARY:Pokémon Poses for Teens
DESCRIPTION:Registration requested. \n 
URL:https://bluewaterparent.com/event/pokemon-poses-for-teens/
LOCATION:Main Library\, 210 McMorran Blvd\, Port Huron\, MI\, 48060\, United States
CATEGORIES:Free,Teens
END:VEVENT
BEGIN:VEVENT
DTSTART;TZID=America/New_York:20260124T110000
DTEND;TZID=America/New_York:20260124T120000
DTSTAMP:20260424T065156
CREATED:20260103T031028Z
LAST-MODIFIED:20260103T031028Z
UID:10021737-1769252400-1769256000@bluewaterparent.com
SUMMARY:Teen Bingo
DESCRIPTION:Registration requested. \n 
URL:https://bluewaterparent.com/event/teen-bingo/
LOCATION:G. Lynn Campbell Library\, 1955 Allen Rd\, Kimball\, MI\, 48074\, United States
CATEGORIES:Teens
END:VEVENT
BEGIN:VEVENT
DTSTART;TZID=America/New_York:20260124T130000
DTEND;TZID=America/New_York:20260124T140000
DTSTAMP:20260424T065156
CREATED:20260103T031303Z
LAST-MODIFIED:20260103T031303Z
UID:10021738-1769259600-1769263200@bluewaterparent.com
SUMMARY:Snowman Sock Craft
DESCRIPTION:Registration requested.
URL:https://bluewaterparent.com/event/snowman-sock-craft/
LOCATION:St. Clair Library\, 310 S. 2nd Street\, St. Clair\, MI
CATEGORIES:Free
END:VEVENT
BEGIN:VEVENT
DTSTART;TZID=America/New_York:20260124T130000
DTEND;TZID=America/New_York:20260124T143000
DTSTAMP:20260424T065156
CREATED:20260101T205538Z
LAST-MODIFIED:20260101T205538Z
UID:10020965-1769259600-1769265000@bluewaterparent.com
SUMMARY:¡Hola Amigos! – Spanish for Kids
DESCRIPTION:6-week class. Children ages 4-10. Registration is requested.
URL:https://bluewaterparent.com/event/hola-amigos-spanish-for-kids/2026-01-24/
LOCATION:Main Library\, 210 McMorran Blvd\, Port Huron\, MI\, 48060\, United States
END:VEVENT
BEGIN:VEVENT
DTSTART;TZID=America/New_York:20260124T140000
DTEND;TZID=America/New_York:20260124T150000
DTSTAMP:20260424T065156
CREATED:20260103T031707Z
LAST-MODIFIED:20260103T031707Z
UID:10021739-1769263200-1769266800@bluewaterparent.com
SUMMARY:Games & Giggles
DESCRIPTION:Registration requested. \n 
URL:https://bluewaterparent.com/event/games-giggles/
LOCATION:Marine City Library\, 300 S Parker St\, Marine City\, MI\, 48039\, United States
CATEGORIES:Free
END:VEVENT
END:VCALENDAR