BEGIN:VCALENDAR
VERSION:2.0
PRODID:-//BlueWaterParent.com - ECPv6.15.20//NONSGML v1.0//EN
CALSCALE:GREGORIAN
METHOD:PUBLISH
X-ORIGINAL-URL:https://bluewaterparent.com
X-WR-CALDESC:Events for BlueWaterParent.com
REFRESH-INTERVAL;VALUE=DURATION:PT1H
X-Robots-Tag:noindex
X-PUBLISHED-TTL:PT1H
BEGIN:VTIMEZONE
TZID:America/New_York
BEGIN:DAYLIGHT
TZOFFSETFROM:-0500
TZOFFSETTO:-0400
TZNAME:EDT
DTSTART:20250309T070000
END:DAYLIGHT
BEGIN:STANDARD
TZOFFSETFROM:-0400
TZOFFSETTO:-0500
TZNAME:EST
DTSTART:20251102T060000
END:STANDARD
BEGIN:DAYLIGHT
TZOFFSETFROM:-0500
TZOFFSETTO:-0400
TZNAME:EDT
DTSTART:20260308T070000
END:DAYLIGHT
BEGIN:STANDARD
TZOFFSETFROM:-0400
TZOFFSETTO:-0500
TZNAME:EST
DTSTART:20261101T060000
END:STANDARD
BEGIN:DAYLIGHT
TZOFFSETFROM:-0500
TZOFFSETTO:-0400
TZNAME:EDT
DTSTART:20270314T070000
END:DAYLIGHT
BEGIN:STANDARD
TZOFFSETFROM:-0400
TZOFFSETTO:-0500
TZNAME:EST
DTSTART:20271107T060000
END:STANDARD
END:VTIMEZONE
BEGIN:VEVENT
DTSTART;TZID=America/New_York:20260126T090000
DTEND;TZID=America/New_York:20260126T190000
DTSTAMP:20260424T070718
CREATED:20260120T182548Z
LAST-MODIFIED:20260120T182901Z
UID:10021820-1769418000-1769454000@bluewaterparent.com
SUMMARY:Beatrice Thornton Student Art Exhibit
DESCRIPTION:Local Student Art on Display at SC4’s Beatrice Thornton Exhibition
URL:https://bluewaterparent.com/event/batrice-thornton-student-art-exhibit/2026-01-26/
LOCATION:SC4 Fine Arts Gallery\, 323 Erie\, Port Huron\, MI
CATEGORIES:Fairs and Festivals
END:VEVENT
BEGIN:VEVENT
DTSTART;TZID=America/New_York:20260126T100000
DTEND;TZID=America/New_York:20260126T110000
DTSTAMP:20260424T070718
CREATED:20260101T170853Z
LAST-MODIFIED:20260125T194823Z
UID:10017186-1769421600-1769425200@bluewaterparent.com
SUMMARY:Storytime - Yale
DESCRIPTION:
URL:https://bluewaterparent.com/event/storytime-yale-2/2026-01-26/
LOCATION:Yale Library\, 2 Jones St\, Yale\, MI\, 48097\, United States
CATEGORIES:Free,Playgroups
END:VEVENT
BEGIN:VEVENT
DTSTART;TZID=America/New_York:20260126T100000
DTEND;TZID=America/New_York:20260126T110000
DTSTAMP:20260424T070718
CREATED:20260107T225418Z
LAST-MODIFIED:20260107T225418Z
UID:10021769-1769421600-1769425200@bluewaterparent.com
SUMMARY:Discovery City Toddler Time
DESCRIPTION:
URL:https://bluewaterparent.com/event/discovery-city-toddler-time/
LOCATION:Discovery City Children’s Museum\, 317 Grand River Avenue\, Port huron\, MI\, 48060
CATEGORIES:Playgroups
END:VEVENT
BEGIN:VEVENT
DTSTART;TZID=America/New_York:20260126T103000
DTEND;TZID=America/New_York:20260126T113000
DTSTAMP:20260424T070718
CREATED:20260101T175251Z
LAST-MODIFIED:20260125T195022Z
UID:10017708-1769423400-1769427000@bluewaterparent.com
SUMMARY:Storytime - Marine City
DESCRIPTION:From SCCLS – Preschoolers and their adults join us at the library for a happy blend of stories and activities.
URL:https://bluewaterparent.com/event/storytime-marine-city/2026-01-26/
LOCATION:Marine City Library\, 300 S Parker St\, Marine City\, MI\, 48039\, United States
CATEGORIES:Free,Playgroups
END:VEVENT
BEGIN:VEVENT
DTSTART;TZID=America/New_York:20260126T110000
DTEND;TZID=America/New_York:20260126T120000
DTSTAMP:20260424T070718
CREATED:20260101T180238Z
LAST-MODIFIED:20260125T195136Z
UID:10018230-1769425200-1769428800@bluewaterparent.com
SUMMARY:Storytime - Ira
DESCRIPTION:
URL:https://bluewaterparent.com/event/storytime-ira-2/2026-01-26/
LOCATION:Ira Township Library\, 7013 Meldrum Rd\, Ira Township\, Michigan\, 48023\, United States
CATEGORIES:Playgroups
END:VEVENT
BEGIN:VEVENT
DTSTART;TZID=America/New_York:20260126T173000
DTEND;TZID=America/New_York:20260126T190000
DTSTAMP:20260424T070718
CREATED:20260119T023513Z
LAST-MODIFIED:20260119T023513Z
UID:10021795-1769448600-1769454000@bluewaterparent.com
SUMMARY:Painting with Stacey-Winter Owl
DESCRIPTION:All materials will be provided. Registration is requested. \n 
URL:https://bluewaterparent.com/event/painting-with-stacey-winter-owl/
LOCATION:Don Dodge Auditorium\, 200 Grand River Ave.\, Port Huron\, MI\, 48060\, United States
CATEGORIES:Free,Teens
END:VEVENT
END:VCALENDAR