BEGIN:VCALENDAR
VERSION:2.0
PRODID:-//BlueWaterParent.com - ECPv6.15.20//NONSGML v1.0//EN
CALSCALE:GREGORIAN
METHOD:PUBLISH
X-WR-CALNAME:BlueWaterParent.com
X-ORIGINAL-URL:https://bluewaterparent.com
X-WR-CALDESC:Events for BlueWaterParent.com
REFRESH-INTERVAL;VALUE=DURATION:PT1H
X-Robots-Tag:noindex
X-PUBLISHED-TTL:PT1H
BEGIN:VTIMEZONE
TZID:America/New_York
BEGIN:DAYLIGHT
TZOFFSETFROM:-0500
TZOFFSETTO:-0400
TZNAME:EDT
DTSTART:20250309T070000
END:DAYLIGHT
BEGIN:STANDARD
TZOFFSETFROM:-0400
TZOFFSETTO:-0500
TZNAME:EST
DTSTART:20251102T060000
END:STANDARD
BEGIN:DAYLIGHT
TZOFFSETFROM:-0500
TZOFFSETTO:-0400
TZNAME:EDT
DTSTART:20260308T070000
END:DAYLIGHT
BEGIN:STANDARD
TZOFFSETFROM:-0400
TZOFFSETTO:-0500
TZNAME:EST
DTSTART:20261101T060000
END:STANDARD
BEGIN:DAYLIGHT
TZOFFSETFROM:-0500
TZOFFSETTO:-0400
TZNAME:EDT
DTSTART:20270314T070000
END:DAYLIGHT
BEGIN:STANDARD
TZOFFSETFROM:-0400
TZOFFSETTO:-0500
TZNAME:EST
DTSTART:20271107T060000
END:STANDARD
END:VTIMEZONE
BEGIN:VEVENT
DTSTART;TZID=America/New_York:20260127T090000
DTEND;TZID=America/New_York:20260127T190000
DTSTAMP:20260422T183322
CREATED:20260120T182548Z
LAST-MODIFIED:20260120T182901Z
UID:10021821-1769504400-1769540400@bluewaterparent.com
SUMMARY:Beatrice Thornton Student Art Exhibit
DESCRIPTION:Local Student Art on Display at SC4’s Beatrice Thornton Exhibition
URL:https://bluewaterparent.com/event/batrice-thornton-student-art-exhibit/2026-01-27/
LOCATION:SC4 Fine Arts Gallery\, 323 Erie\, Port Huron\, MI
CATEGORIES:Fairs and Festivals
END:VEVENT
BEGIN:VEVENT
DTSTART;TZID=America/New_York:20260127T100000
DTEND;TZID=America/New_York:20260127T103000
DTSTAMP:20260422T183322
CREATED:20260101T182222Z
LAST-MODIFIED:20260101T182536Z
UID:10018493-1769508000-1769509800@bluewaterparent.com
SUMMARY:Rhythm and Rhyme - Port Huron
DESCRIPTION:
URL:https://bluewaterparent.com/event/rhythm-and-rhyme-port-huron-2/2026-01-27/
LOCATION:Main Library\, 210 McMorran Blvd\, Port Huron\, MI\, 48060\, United States
CATEGORIES:Playgroups
END:VEVENT
BEGIN:VEVENT
DTSTART;TZID=America/New_York:20260127T100000
DTEND;TZID=America/New_York:20260127T110000
DTSTAMP:20260422T183322
CREATED:20250923T162306Z
LAST-MODIFIED:20250923T163433Z
UID:10016009-1769508000-1769511600@bluewaterparent.com
SUMMARY:Great Start Playgroup- Algonac
DESCRIPTION:
URL:https://bluewaterparent.com/event/st-clair-county-great-start-playgroups/2026-01-27/
LOCATION:Pointe Tremble Early Childhood Center\, 9541 Phelps Rd\, Clay Township
CATEGORIES:Playgroups
END:VEVENT
BEGIN:VEVENT
DTSTART;TZID=America/New_York:20260127T103000
DTEND;TZID=America/New_York:20260127T113000
DTSTAMP:20260422T183322
CREATED:20251124T172439Z
LAST-MODIFIED:20251124T172439Z
UID:10016770-1769509800-1769513400@bluewaterparent.com
SUMMARY:Storytime- Capac
DESCRIPTION:
URL:https://bluewaterparent.com/event/storytime-capac-3/2026-01-27/
LOCATION:Capac Library\, 111 N Main St\, Capac\, MI\, 48014\, United States
CATEGORIES:Playgroups
END:VEVENT
BEGIN:VEVENT
DTSTART;TZID=America/New_York:20260127T140000
DTEND;TZID=America/New_York:20260127T150000
DTSTAMP:20260422T183322
CREATED:20260107T212202Z
LAST-MODIFIED:20260107T222615Z
UID:10021745-1769522400-1769526000@bluewaterparent.com
SUMMARY:Discovery City Craft Lab
DESCRIPTION:
URL:https://bluewaterparent.com/event/discovery-city-craft-lab/2026-01-27/
LOCATION:Discovery City Children’s Museum\, 317 Grand River Avenue\, Port huron\, MI\, 48060
CATEGORIES:Playgroups
END:VEVENT
BEGIN:VEVENT
DTSTART;TZID=America/New_York:20260127T150000
DTEND;TZID=America/New_York:20260127T160000
DTSTAMP:20260422T183322
CREATED:20260119T024737Z
LAST-MODIFIED:20260119T024905Z
UID:10021796-1769526000-1769529600@bluewaterparent.com
SUMMARY:STEM Builders: Magna Tiles & LEGO
DESCRIPTION:Registration requested. Best suited for ages 5-12.
URL:https://bluewaterparent.com/event/stem-builders-magna-tiles-lego/
LOCATION:Marine City Library\, 300 S Parker St\, Marine City\, MI\, 48039\, United States
END:VEVENT
BEGIN:VEVENT
DTSTART;TZID=America/New_York:20260127T153000
DTEND;TZID=America/New_York:20260127T163000
DTSTAMP:20260422T183322
CREATED:20260119T025130Z
LAST-MODIFIED:20260119T025130Z
UID:10021797-1769527800-1769531400@bluewaterparent.com
SUMMARY:Teen Time - Marysville
DESCRIPTION:
URL:https://bluewaterparent.com/event/teen-time-marysville/
LOCATION:Marysville Library\, 1175 Delaware\, Marysville\, MI
CATEGORIES:Teens
END:VEVENT
BEGIN:VEVENT
DTSTART;TZID=America/New_York:20260127T153000
DTEND;TZID=America/New_York:20260127T173000
DTSTAMP:20260422T183322
CREATED:20260119T025639Z
LAST-MODIFIED:20260119T025639Z
UID:10021798-1769527800-1769535000@bluewaterparent.com
SUMMARY:Teen Movie Fam Jam
DESCRIPTION:Come watch Madagascar 3\, feel free to bring your own blanket!
URL:https://bluewaterparent.com/event/teen-movie-fam-jam/
LOCATION:Yale Library\, 2 Jones St\, Yale\, MI\, 48097\, United States
CATEGORIES:Teens
END:VEVENT
BEGIN:VEVENT
DTSTART;TZID=America/New_York:20260127T170000
DTEND;TZID=America/New_York:20260127T180000
DTSTAMP:20260422T183322
CREATED:20260119T025943Z
LAST-MODIFIED:20260119T025943Z
UID:10021799-1769533200-1769536800@bluewaterparent.com
SUMMARY:Camp Half-Blood
DESCRIPTION:From SCCL: Step into the mythical world of Percy Jackson’s Camp Half-blood\, where the chosen few train to become heroes! Complete camp challenges\, crafts\, and activities based on Greek mythology and the Percy Jackson series and collect beads to complete your camper’s necklace. Unleash your inner hero and embark on an epic adventure! Registration requested. Recommended for ages 5 and up.
URL:https://bluewaterparent.com/event/camp-half-blood/
LOCATION:Memphis Library\, 34830 Potter St\, Memphis\, MI\, 48041\, United States
CATEGORIES:Free
END:VEVENT
BEGIN:VEVENT
DTSTART;TZID=America/New_York:20260127T180000
DTEND;TZID=America/New_York:20260127T183000
DTSTAMP:20260422T183322
CREATED:20260101T183355Z
LAST-MODIFIED:20260125T174102Z
UID:10018755-1769536800-1769538600@bluewaterparent.com
SUMMARY:Bedtime Story - Main Port Huron
DESCRIPTION:
URL:https://bluewaterparent.com/event/bedtime-story-main-port-huron-2/2026-01-27/
LOCATION:Main Library\, 210 McMorran Blvd\, Port Huron\, MI\, 48060\, United States
CATEGORIES:Playgroups
END:VEVENT
END:VCALENDAR