BEGIN:VCALENDAR
VERSION:2.0
PRODID:-//BlueWaterParent.com - ECPv6.15.20//NONSGML v1.0//EN
CALSCALE:GREGORIAN
METHOD:PUBLISH
X-ORIGINAL-URL:https://bluewaterparent.com
X-WR-CALDESC:Events for BlueWaterParent.com
REFRESH-INTERVAL;VALUE=DURATION:PT1H
X-Robots-Tag:noindex
X-PUBLISHED-TTL:PT1H
BEGIN:VTIMEZONE
TZID:America/New_York
BEGIN:DAYLIGHT
TZOFFSETFROM:-0500
TZOFFSETTO:-0400
TZNAME:EDT
DTSTART:20250309T070000
END:DAYLIGHT
BEGIN:STANDARD
TZOFFSETFROM:-0400
TZOFFSETTO:-0500
TZNAME:EST
DTSTART:20251102T060000
END:STANDARD
BEGIN:DAYLIGHT
TZOFFSETFROM:-0500
TZOFFSETTO:-0400
TZNAME:EDT
DTSTART:20260308T070000
END:DAYLIGHT
BEGIN:STANDARD
TZOFFSETFROM:-0400
TZOFFSETTO:-0500
TZNAME:EST
DTSTART:20261101T060000
END:STANDARD
BEGIN:DAYLIGHT
TZOFFSETFROM:-0500
TZOFFSETTO:-0400
TZNAME:EDT
DTSTART:20270314T070000
END:DAYLIGHT
BEGIN:STANDARD
TZOFFSETFROM:-0400
TZOFFSETTO:-0500
TZNAME:EST
DTSTART:20271107T060000
END:STANDARD
END:VTIMEZONE
BEGIN:VEVENT
DTSTART;VALUE=DATE:20260129
DTEND;VALUE=DATE:20260202
DTSTAMP:20260422T170437
CREATED:20260127T153752Z
LAST-MODIFIED:20260127T153752Z
UID:10023229-1769644800-1769990399@bluewaterparent.com
SUMMARY:Silverstick Finals
DESCRIPTION:
URL:https://bluewaterparent.com/event/silverstick-finals/
LOCATION:McMorran Arena\, 701 McMorran Blvd.\, Port Huron\, MI\, 48060
END:VEVENT
BEGIN:VEVENT
DTSTART;TZID=America/New_York:20260129T090000
DTEND;TZID=America/New_York:20260129T190000
DTSTAMP:20260422T170437
CREATED:20260120T182548Z
LAST-MODIFIED:20260120T182901Z
UID:10021823-1769677200-1769713200@bluewaterparent.com
SUMMARY:Beatrice Thornton Student Art Exhibit
DESCRIPTION:Local Student Art on Display at SC4’s Beatrice Thornton Exhibition
URL:https://bluewaterparent.com/event/batrice-thornton-student-art-exhibit/2026-01-29/
LOCATION:SC4 Fine Arts Gallery\, 323 Erie\, Port Huron\, MI
CATEGORIES:Fairs and Festivals
END:VEVENT
BEGIN:VEVENT
DTSTART;TZID=America/New_York:20260129T100000
DTEND;TZID=America/New_York:20260129T120000
DTSTAMP:20260422T170437
CREATED:20260108T160537Z
LAST-MODIFIED:20260108T160615Z
UID:10021773-1769680800-1769688000@bluewaterparent.com
SUMMARY:16th Street Park Stewardship
DESCRIPTION:Help remove invasive vegetation from this urban forest. Learn more here: https://www.porthuronrec.com/nature-programs/16th-st.-park-stewardship. 
URL:https://bluewaterparent.com/event/16th-street-park-stewardship/2026-01-29/
LOCATION:16th Street Park\, 2600 16th Street\, Port Huron\, MI\, 48060
END:VEVENT
BEGIN:VEVENT
DTSTART;TZID=America/New_York:20260129T110000
DTEND;TZID=America/New_York:20260129T113000
DTSTAMP:20260422T170437
CREATED:20260101T200511Z
LAST-MODIFIED:20260101T213808Z
UID:10021102-1769684400-1769686200@bluewaterparent.com
SUMMARY:Storytime - Algonac
DESCRIPTION:  \n 
URL:https://bluewaterparent.com/event/storytime-algonac-2/2026-01-29/
LOCATION:Algonac-Clay Library\, 2011 St Clair River Dr\, Algonac\, MI\, 48001\, United States
CATEGORIES:Playgroups
END:VEVENT
BEGIN:VEVENT
DTSTART;TZID=America/New_York:20260129T130000
DTEND;TZID=America/New_York:20260129T140000
DTSTAMP:20260422T170437
CREATED:20260125T175157Z
LAST-MODIFIED:20260125T175157Z
UID:10022702-1769691600-1769695200@bluewaterparent.com
SUMMARY:Kids Craft Time - Snowflake Art
DESCRIPTION:Kids ages 6-12. Registration requested. \n 
URL:https://bluewaterparent.com/event/kids-craft-time-snowflake-art/
LOCATION:Marysville Library\, 1175 Delaware\, Marysville\, MI
END:VEVENT
BEGIN:VEVENT
DTSTART;TZID=America/New_York:20260129T140000
DTEND;TZID=America/New_York:20260129T150000
DTSTAMP:20260422T170437
CREATED:20260107T224100Z
LAST-MODIFIED:20260107T224100Z
UID:10021759-1769695200-1769698800@bluewaterparent.com
SUMMARY:Discovery Lab
DESCRIPTION:
URL:https://bluewaterparent.com/event/discovery-lab/2026-01-29/
LOCATION:Discovery City Children’s Museum\, 317 Grand River Avenue\, Port huron\, MI\, 48060
CATEGORIES:Playgroups
END:VEVENT
BEGIN:VEVENT
DTSTART;TZID=America/New_York:20260129T143000
DTEND;TZID=America/New_York:20260129T160000
DTSTAMP:20260422T170437
CREATED:20260101T200828Z
LAST-MODIFIED:20260101T200854Z
UID:10019596-1769697000-1769702400@bluewaterparent.com
SUMMARY:Teen Time - Yale
DESCRIPTION:
URL:https://bluewaterparent.com/event/teen-time-yale-3/2026-01-29/
LOCATION:Yale Library\, 2 Jones St\, Yale\, MI\, 48097\, United States
CATEGORIES:Teens
END:VEVENT
BEGIN:VEVENT
DTSTART;TZID=America/New_York:20260129T143000
DTEND;TZID=America/New_York:20260129T160000
DTSTAMP:20260422T170437
CREATED:20260125T175402Z
LAST-MODIFIED:20260125T175402Z
UID:10022703-1769697000-1769702400@bluewaterparent.com
SUMMARY:Candy Box Notebooks
DESCRIPTION:Crafting for teens. Registration requested. \n 
URL:https://bluewaterparent.com/event/candy-box-notebooks/
LOCATION:Yale Library\, 2 Jones St\, Yale\, MI\, 48097\, United States
CATEGORIES:Teens
END:VEVENT
BEGIN:VEVENT
DTSTART;TZID=America/New_York:20260129T170000
DTEND;TZID=America/New_York:20260129T193000
DTSTAMP:20260422T170437
CREATED:20260125T175718Z
LAST-MODIFIED:20260125T175718Z
UID:10022704-1769706000-1769715000@bluewaterparent.com
SUMMARY:Dinner and a Movie
DESCRIPTION:From SCCL: Join us at the G. Lynn Campbell Library for dinner and a movie! Today’s feature presentation is Home Alone. Rated PG. Registration requested. \n 
URL:https://bluewaterparent.com/event/dinner-and-a-movie/
LOCATION:G. Lynn Campbell Library\, 1955 Allen Rd\, Kimball\, MI\, 48074\, United States
END:VEVENT
BEGIN:VEVENT
DTSTART;TZID=America/New_York:20260129T173000
DTEND;TZID=America/New_York:20260129T183000
DTSTAMP:20260422T170437
CREATED:20260125T175927Z
LAST-MODIFIED:20260125T175927Z
UID:10022705-1769707800-1769711400@bluewaterparent.com
SUMMARY:Kids Craft Time Evening Edition - Snowflake Art
DESCRIPTION:Kids ages 6-12. Registration requested. \n 
URL:https://bluewaterparent.com/event/kids-craft-time-evening-edition-snowflake-art/
LOCATION:Marysville Library\, 1175 Delaware\, Marysville\, MI
END:VEVENT
BEGIN:VEVENT
DTSTART;TZID=America/New_York:20260129T180000
DTEND;TZID=America/New_York:20260129T190000
DTSTAMP:20260422T170437
CREATED:20260125T180328Z
LAST-MODIFIED:20260125T180328Z
UID:10022706-1769709600-1769713200@bluewaterparent.com
SUMMARY:Drinks Across the States
DESCRIPTION:From SCCL: Take a refreshing journey around the states through a variety of regional sodas. Each soda has its own unique taste\, reflecting the local cultures and traditions of that state. All participants will be asked to sign a waiver. Geared towards all ages\, children through adults. Registration requested. \n 
URL:https://bluewaterparent.com/event/drinks-across-the-states/
LOCATION:Main Library\, 210 McMorran Blvd\, Port Huron\, MI\, 48060\, United States
END:VEVENT
END:VCALENDAR