BEGIN:VCALENDAR
VERSION:2.0
PRODID:-//BlueWaterParent.com - ECPv6.15.20//NONSGML v1.0//EN
CALSCALE:GREGORIAN
METHOD:PUBLISH
X-WR-CALNAME:BlueWaterParent.com
X-ORIGINAL-URL:https://bluewaterparent.com
X-WR-CALDESC:Events for BlueWaterParent.com
REFRESH-INTERVAL;VALUE=DURATION:PT1H
X-Robots-Tag:noindex
X-PUBLISHED-TTL:PT1H
BEGIN:VTIMEZONE
TZID:America/New_York
BEGIN:DAYLIGHT
TZOFFSETFROM:-0500
TZOFFSETTO:-0400
TZNAME:EDT
DTSTART:20250309T070000
END:DAYLIGHT
BEGIN:STANDARD
TZOFFSETFROM:-0400
TZOFFSETTO:-0500
TZNAME:EST
DTSTART:20251102T060000
END:STANDARD
BEGIN:DAYLIGHT
TZOFFSETFROM:-0500
TZOFFSETTO:-0400
TZNAME:EDT
DTSTART:20260308T070000
END:DAYLIGHT
BEGIN:STANDARD
TZOFFSETFROM:-0400
TZOFFSETTO:-0500
TZNAME:EST
DTSTART:20261101T060000
END:STANDARD
BEGIN:DAYLIGHT
TZOFFSETFROM:-0500
TZOFFSETTO:-0400
TZNAME:EDT
DTSTART:20270314T070000
END:DAYLIGHT
BEGIN:STANDARD
TZOFFSETFROM:-0400
TZOFFSETTO:-0500
TZNAME:EST
DTSTART:20271107T060000
END:STANDARD
END:VTIMEZONE
BEGIN:VEVENT
DTSTART;VALUE=DATE:20260129
DTEND;VALUE=DATE:20260202
DTSTAMP:20260422T170444
CREATED:20260127T153752Z
LAST-MODIFIED:20260127T153752Z
UID:10023229-1769644800-1769990399@bluewaterparent.com
SUMMARY:Silverstick Finals
DESCRIPTION:
URL:https://bluewaterparent.com/event/silverstick-finals/
LOCATION:McMorran Arena\, 701 McMorran Blvd.\, Port Huron\, MI\, 48060
END:VEVENT
BEGIN:VEVENT
DTSTART;TZID=America/New_York:20260130T090000
DTEND;TZID=America/New_York:20260130T160000
DTSTAMP:20260422T170444
CREATED:20260120T182826Z
LAST-MODIFIED:20260120T182826Z
UID:10022251-1769763600-1769788800@bluewaterparent.com
SUMMARY:Beatrice Thornton Student Art Exhibit
DESCRIPTION:Local Student Art on Display at SC4’s Beatrice Thornton Exhibition
URL:https://bluewaterparent.com/event/beatrice-thornton-student-art-exhibit/2026-01-30/
LOCATION:SC4 Fine Arts Gallery\, 323 Erie\, Port Huron\, MI
CATEGORIES:Fairs and Festivals
END:VEVENT
BEGIN:VEVENT
DTSTART;TZID=America/New_York:20260130T100000
DTEND;TZID=America/New_York:20260130T104500
DTSTAMP:20260422T170444
CREATED:20260101T202520Z
LAST-MODIFIED:20260131T171318Z
UID:10020183-1769767200-1769769900@bluewaterparent.com
SUMMARY:Family Storytime - Memphis
DESCRIPTION:
URL:https://bluewaterparent.com/event/family-storytime-capac-2-2/2026-01-30/
LOCATION:Memphis Library\, 34830 Potter St\, Memphis\, MI\, 48041\, United States
CATEGORIES:Playgroups
END:VEVENT
BEGIN:VEVENT
DTSTART;TZID=America/New_York:20260130T100000
DTEND;TZID=America/New_York:20260130T113000
DTSTAMP:20260422T170444
CREATED:20260101T202833Z
LAST-MODIFIED:20260101T202858Z
UID:10020443-1769767200-1769772600@bluewaterparent.com
SUMMARY:Storytime - Main Port Huron
DESCRIPTION:
URL:https://bluewaterparent.com/event/storytime-main-port-huron-2/2026-01-30/
LOCATION:Main Library\, 210 McMorran Blvd\, Port Huron\, MI\, 48060\, United States
CATEGORIES:Free,Playgroups
END:VEVENT
BEGIN:VEVENT
DTSTART;TZID=America/New_York:20260130T103000
DTEND;TZID=America/New_York:20260130T110000
DTSTAMP:20260422T170444
CREATED:20260101T203231Z
LAST-MODIFIED:20260101T203231Z
UID:10020703-1769769000-1769770800@bluewaterparent.com
SUMMARY:Storytime - Burtchville
DESCRIPTION:
URL:https://bluewaterparent.com/event/storytime-burtchville-3/2026-01-30/
LOCATION:Burtchville Library\, 7093 2nd St\, Lakeport\, MI\, 48059\, United States
CATEGORIES:Free,Playgroups
END:VEVENT
BEGIN:VEVENT
DTSTART;TZID=America/New_York:20260130T110000
DTEND;TZID=America/New_York:20260130T120000
DTSTAMP:20260422T170444
CREATED:20260101T164906Z
LAST-MODIFIED:20260101T171615Z
UID:10016925-1769770800-1769774400@bluewaterparent.com
SUMMARY:Playgroup Pals
DESCRIPTION:
URL:https://bluewaterparent.com/event/playgroup-pals-2/2026-01-30/
LOCATION:Ira Township Library\, 7013 Meldrum Rd\, Ira Township\, Michigan\, 48023\, United States
CATEGORIES:Playgroups
END:VEVENT
BEGIN:VEVENT
DTSTART;TZID=America/New_York:20260130T150000
DTEND;TZID=America/New_York:20260130T163000
DTSTAMP:20260422T170444
CREATED:20260125T180609Z
LAST-MODIFIED:20260125T180609Z
UID:10022707-1769785200-1769790600@bluewaterparent.com
SUMMARY:Bookpage Art
DESCRIPTION:Crafting for teens. Registration requested.
URL:https://bluewaterparent.com/event/bookpage-art/
LOCATION:Memphis Library\, 34830 Potter St\, Memphis\, MI\, 48041\, United States
CATEGORIES:Teens
END:VEVENT
END:VCALENDAR