BEGIN:VCALENDAR
VERSION:2.0
PRODID:-//BlueWaterParent.com - ECPv6.15.20//NONSGML v1.0//EN
CALSCALE:GREGORIAN
METHOD:PUBLISH
X-WR-CALNAME:BlueWaterParent.com
X-ORIGINAL-URL:https://bluewaterparent.com
X-WR-CALDESC:Events for BlueWaterParent.com
REFRESH-INTERVAL;VALUE=DURATION:PT1H
X-Robots-Tag:noindex
X-PUBLISHED-TTL:PT1H
BEGIN:VTIMEZONE
TZID:America/New_York
BEGIN:DAYLIGHT
TZOFFSETFROM:-0500
TZOFFSETTO:-0400
TZNAME:EDT
DTSTART:20250309T070000
END:DAYLIGHT
BEGIN:STANDARD
TZOFFSETFROM:-0400
TZOFFSETTO:-0500
TZNAME:EST
DTSTART:20251102T060000
END:STANDARD
BEGIN:DAYLIGHT
TZOFFSETFROM:-0500
TZOFFSETTO:-0400
TZNAME:EDT
DTSTART:20260308T070000
END:DAYLIGHT
BEGIN:STANDARD
TZOFFSETFROM:-0400
TZOFFSETTO:-0500
TZNAME:EST
DTSTART:20261101T060000
END:STANDARD
BEGIN:DAYLIGHT
TZOFFSETFROM:-0500
TZOFFSETTO:-0400
TZNAME:EDT
DTSTART:20270314T070000
END:DAYLIGHT
BEGIN:STANDARD
TZOFFSETFROM:-0400
TZOFFSETTO:-0500
TZNAME:EST
DTSTART:20271107T060000
END:STANDARD
END:VTIMEZONE
BEGIN:VEVENT
DTSTART;VALUE=DATE:20260129
DTEND;VALUE=DATE:20260202
DTSTAMP:20260422T170444
CREATED:20260127T153752Z
LAST-MODIFIED:20260127T153752Z
UID:10023229-1769644800-1769990399@bluewaterparent.com
SUMMARY:Silverstick Finals
DESCRIPTION:
URL:https://bluewaterparent.com/event/silverstick-finals/
LOCATION:McMorran Arena\, 701 McMorran Blvd.\, Port Huron\, MI\, 48060
END:VEVENT
BEGIN:VEVENT
DTSTART;TZID=America/New_York:20260131T120000
DTEND;TZID=America/New_York:20260131T140000
DTSTAMP:20260422T170444
CREATED:20260125T181227Z
LAST-MODIFIED:20260125T181227Z
UID:10022708-1769860800-1769868000@bluewaterparent.com
SUMMARY:Mario Kart Teen Tournament Winter 2026
DESCRIPTION:Registration requested. \n 
URL:https://bluewaterparent.com/event/mario-kart-teen-tournament-winter-2026-2/
LOCATION:Algonac-Clay Library\, 2011 St Clair River Dr\, Algonac\, MI\, 48001\, United States
CATEGORIES:Free,Teens
END:VEVENT
BEGIN:VEVENT
DTSTART;TZID=America/New_York:20260131T130000
DTEND;TZID=America/New_York:20260131T143000
DTSTAMP:20260422T170444
CREATED:20260101T205538Z
LAST-MODIFIED:20260101T205538Z
UID:10020966-1769864400-1769869800@bluewaterparent.com
SUMMARY:¡Hola Amigos! – Spanish for Kids
DESCRIPTION:6-week class. Children ages 4-10. Registration is requested.
URL:https://bluewaterparent.com/event/hola-amigos-spanish-for-kids/2026-01-31/
LOCATION:Main Library\, 210 McMorran Blvd\, Port Huron\, MI\, 48060\, United States
END:VEVENT
BEGIN:VEVENT
DTSTART;TZID=America/New_York:20260131T130000
DTEND;TZID=America/New_York:20260131T150000
DTSTAMP:20260422T170444
CREATED:20260125T181611Z
LAST-MODIFIED:20260125T181611Z
UID:10022709-1769864400-1769871600@bluewaterparent.com
SUMMARY:Learn How To Mind Map
DESCRIPTION:Kids ages 12 to 16. Registration requested. \n 
URL:https://bluewaterparent.com/event/learn-how-to-mind-map/
LOCATION:Marysville Library\, 1175 Delaware\, Marysville\, MI
CATEGORIES:Teens
END:VEVENT
END:VCALENDAR