BEGIN:VCALENDAR
VERSION:2.0
PRODID:-//BlueWaterParent.com - ECPv6.15.20//NONSGML v1.0//EN
CALSCALE:GREGORIAN
METHOD:PUBLISH
X-WR-CALNAME:BlueWaterParent.com
X-ORIGINAL-URL:https://bluewaterparent.com
X-WR-CALDESC:Events for BlueWaterParent.com
REFRESH-INTERVAL;VALUE=DURATION:PT1H
X-Robots-Tag:noindex
X-PUBLISHED-TTL:PT1H
BEGIN:VTIMEZONE
TZID:America/New_York
BEGIN:DAYLIGHT
TZOFFSETFROM:-0500
TZOFFSETTO:-0400
TZNAME:EDT
DTSTART:20250309T070000
END:DAYLIGHT
BEGIN:STANDARD
TZOFFSETFROM:-0400
TZOFFSETTO:-0500
TZNAME:EST
DTSTART:20251102T060000
END:STANDARD
BEGIN:DAYLIGHT
TZOFFSETFROM:-0500
TZOFFSETTO:-0400
TZNAME:EDT
DTSTART:20260308T070000
END:DAYLIGHT
BEGIN:STANDARD
TZOFFSETFROM:-0400
TZOFFSETTO:-0500
TZNAME:EST
DTSTART:20261101T060000
END:STANDARD
BEGIN:DAYLIGHT
TZOFFSETFROM:-0500
TZOFFSETTO:-0400
TZNAME:EDT
DTSTART:20270314T070000
END:DAYLIGHT
BEGIN:STANDARD
TZOFFSETFROM:-0400
TZOFFSETTO:-0500
TZNAME:EST
DTSTART:20271107T060000
END:STANDARD
END:VTIMEZONE
BEGIN:VEVENT
DTSTART;VALUE=DATE:20260129
DTEND;VALUE=DATE:20260202
DTSTAMP:20260422T143632
CREATED:20260127T153752Z
LAST-MODIFIED:20260127T153752Z
UID:10023229-1769644800-1769990399@bluewaterparent.com
SUMMARY:Silverstick Finals
DESCRIPTION:
URL:https://bluewaterparent.com/event/silverstick-finals/
LOCATION:McMorran Arena\, 701 McMorran Blvd.\, Port Huron\, MI\, 48060
END:VEVENT
BEGIN:VEVENT
DTSTART;TZID=America/New_York:20260201T100000
DTEND;TZID=America/New_York:20260201T110000
DTSTAMP:20260422T143632
CREATED:20250513T153448Z
LAST-MODIFIED:20250513T153520Z
UID:10014266-1769940000-1769943600@bluewaterparent.com
SUMMARY:Sensory-Friendly Sundays at Discovery City
DESCRIPTION:During Sensory Friendly Sundays\, we offer families additional tools and support to create a welcoming and comfortable learning environment. Admission will be limited\, lights will be dimmed\, and quiet play equipment will be provided to ensure a more quiet and spacious setting. Sensory bags will also be available for children.Registration IS required for this eventCost: $5 \nRegister here: https://www.discoverycityph.com/
URL:https://bluewaterparent.com/event/sensory-friendly-mondays-2/2026-02-01/
LOCATION:Discovery City Children’s Museum\, 317 Grand River Avenue\, Port huron\, MI\, 48060
CATEGORIES:Playgroups
END:VEVENT
BEGIN:VEVENT
DTSTART;TZID=America/New_York:20260201T130000
DTEND;TZID=America/New_York:20260201T170000
DTSTAMP:20260422T143632
CREATED:20250807T170824Z
LAST-MODIFIED:20250807T170824Z
UID:10015209-1769950800-1769965200@bluewaterparent.com
SUMMARY:Port Huron Township Heritage Museum
DESCRIPTION:
URL:https://bluewaterparent.com/event/port-huron-township-heritage-museum/2026-02-01/
LOCATION:Port Huron Township Heritage Museum\, 3800 Lapeer Rd.\, Port Huron Township\, MI
END:VEVENT
END:VCALENDAR