BEGIN:VCALENDAR
VERSION:2.0
PRODID:-//BlueWaterParent.com - ECPv6.15.20//NONSGML v1.0//EN
CALSCALE:GREGORIAN
METHOD:PUBLISH
X-ORIGINAL-URL:https://bluewaterparent.com
X-WR-CALDESC:Events for BlueWaterParent.com
REFRESH-INTERVAL;VALUE=DURATION:PT1H
X-Robots-Tag:noindex
X-PUBLISHED-TTL:PT1H
BEGIN:VTIMEZONE
TZID:America/New_York
BEGIN:DAYLIGHT
TZOFFSETFROM:-0500
TZOFFSETTO:-0400
TZNAME:EDT
DTSTART:20250309T070000
END:DAYLIGHT
BEGIN:STANDARD
TZOFFSETFROM:-0400
TZOFFSETTO:-0500
TZNAME:EST
DTSTART:20251102T060000
END:STANDARD
BEGIN:DAYLIGHT
TZOFFSETFROM:-0500
TZOFFSETTO:-0400
TZNAME:EDT
DTSTART:20260308T070000
END:DAYLIGHT
BEGIN:STANDARD
TZOFFSETFROM:-0400
TZOFFSETTO:-0500
TZNAME:EST
DTSTART:20261101T060000
END:STANDARD
BEGIN:DAYLIGHT
TZOFFSETFROM:-0500
TZOFFSETTO:-0400
TZNAME:EDT
DTSTART:20270314T070000
END:DAYLIGHT
BEGIN:STANDARD
TZOFFSETFROM:-0400
TZOFFSETTO:-0500
TZNAME:EST
DTSTART:20271107T060000
END:STANDARD
END:VTIMEZONE
BEGIN:VEVENT
DTSTART;TZID=America/New_York:20260202T090000
DTEND;TZID=America/New_York:20260202T190000
DTSTAMP:20260422T143642
CREATED:20260120T182548Z
LAST-MODIFIED:20260120T182901Z
UID:10021824-1770022800-1770058800@bluewaterparent.com
SUMMARY:Beatrice Thornton Student Art Exhibit
DESCRIPTION:Local Student Art on Display at SC4’s Beatrice Thornton Exhibition
URL:https://bluewaterparent.com/event/batrice-thornton-student-art-exhibit/2026-02-02/
LOCATION:SC4 Fine Arts Gallery\, 323 Erie\, Port Huron\, MI
CATEGORIES:Fairs and Festivals
END:VEVENT
BEGIN:VEVENT
DTSTART;TZID=America/New_York:20260202T100000
DTEND;TZID=America/New_York:20260202T110000
DTSTAMP:20260422T143642
CREATED:20260101T170853Z
LAST-MODIFIED:20260125T194823Z
UID:10017187-1770026400-1770030000@bluewaterparent.com
SUMMARY:Storytime - Yale
DESCRIPTION:
URL:https://bluewaterparent.com/event/storytime-yale-2/2026-02-02/
LOCATION:Yale Library\, 2 Jones St\, Yale\, MI\, 48097\, United States
CATEGORIES:Free,Playgroups
END:VEVENT
BEGIN:VEVENT
DTSTART;TZID=America/New_York:20260202T100000
DTEND;TZID=America/New_York:20260202T120000
DTSTAMP:20260422T143642
CREATED:20260120T185436Z
LAST-MODIFIED:20260124T183954Z
UID:10022340-1770026400-1770033600@bluewaterparent.com
SUMMARY:SCCLS Bookmobile- Lynn Township Hall
DESCRIPTION:1st Monday of the month: \n\nLynn Township Hall\, 13995 Yale Rd\, Yale (10 a.m. – noon)\nMiles Apartments\, 2300 Krafft Rd. Fort Gratiot (2 – 4 p.m)\n\n1st Tuesday of the month: \n\nBerlin Township Hall\, 740 Capac Rd. Allenton\, (11 a.m. – 1 p.m)\nChina Township Hall\, 4560 Indian Trail\, China\, MI 48054 (2 – 4 p.m)\n\n1st Wednesday of the month: \n\nIndian Trails Mobile Home Park\, 3650 Metcalf Rd. Burtchville Twp. (2 – 4 p.m)\n\n1st Friday of the month: \n\nPresbyterian Village of Lake Huron Woods\, 5221 Lakeshore Rd. Ft. Gratiot (10 a.m. – 2 p.m)\n\n2nd Wednesday of the month: \n\nCottrellville Township Hall\, 7008 Marsh Rd. Marine City (2 – 4 p.m)\n2nd Thursday of the month:\nPeru Village Senior Housing\, 718 Erie\, Port Huron (10 a.m. – noon)\nDesmond Village Senior Housing\, 919 7th St. Port Huron (1 – 3 p.m)\n\n3rd Wednesday of the month: \n\nBlue Water Lodge\, 2840 Keewahdin Rd. Ft. Gratiot Twp. (10 a.m. – noon)\n\n3rd Friday of the month: \n\nDutton Estates Apartments\, 1970 River Rd. St. Clair ( 2 – 4 p.m)\n\n4th Thursday of the month: \n\nVicksburg Halls\, 1100 New York Ave. Marysville ( 9 – 11 a.m)\nPalmer Park Manor\, 400 S. 3rd St.\, St. Clair (11:30 a.m. – 1:30 p.m) Algonquin Place\, 1205 St. Clair Blvd.\, Algonac (2 – 4 p.m.)
URL:https://bluewaterparent.com/event/sccls-bookmobile/2026-02-02/
LOCATION:Lynn Township Hall\, 13995 Yale Rd.\, Yale\, MI
END:VEVENT
BEGIN:VEVENT
DTSTART;TZID=America/New_York:20260202T103000
DTEND;TZID=America/New_York:20260202T113000
DTSTAMP:20260422T143642
CREATED:20260101T175251Z
LAST-MODIFIED:20260125T195022Z
UID:10017709-1770028200-1770031800@bluewaterparent.com
SUMMARY:Storytime - Marine City
DESCRIPTION:From SCCLS – Preschoolers and their adults join us at the library for a happy blend of stories and activities.
URL:https://bluewaterparent.com/event/storytime-marine-city/2026-02-02/
LOCATION:Marine City Library\, 300 S Parker St\, Marine City\, MI\, 48039\, United States
CATEGORIES:Free,Playgroups
END:VEVENT
BEGIN:VEVENT
DTSTART;TZID=America/New_York:20260202T110000
DTEND;TZID=America/New_York:20260202T120000
DTSTAMP:20260422T143642
CREATED:20260101T180238Z
LAST-MODIFIED:20260125T195136Z
UID:10018231-1770030000-1770033600@bluewaterparent.com
SUMMARY:Storytime - Ira
DESCRIPTION:
URL:https://bluewaterparent.com/event/storytime-ira-2/2026-02-02/
LOCATION:Ira Township Library\, 7013 Meldrum Rd\, Ira Township\, Michigan\, 48023\, United States
CATEGORIES:Playgroups
END:VEVENT
BEGIN:VEVENT
DTSTART;TZID=America/New_York:20260202T140000
DTEND;TZID=America/New_York:20260202T160000
DTSTAMP:20260422T143642
CREATED:20260120T185658Z
LAST-MODIFIED:20260124T183759Z
UID:10022364-1770040800-1770048000@bluewaterparent.com
SUMMARY:SCCLS Bookmobile- Miles Apartments
DESCRIPTION:1st Monday of the month: \n\nLynn Township Hall\, 13995 Yale Rd\, Yale (10 a.m. – noon)\nMiles Apartments\, 2300 Krafft Rd. Fort Gratiot (2 – 4 p.m)\n\n1st Tuesday of the month: \n\nBerlin Township Hall\, 740 Capac Rd. Allenton\, (11 a.m. – 1 p.m)\nChina Township Hall\, 4560 Indian Trail\, China\, MI 48054 (2 – 4 p.m)\n\n1st Wednesday of the month: \n\nIndian Trails Mobile Home Park\, 3650 Metcalf Rd. Burtchville Twp. (2 – 4 p.m)\n\n1st Friday of the month: \n\nPresbyterian Village of Lake Huron Woods\, 5221 Lakeshore Rd. Ft. Gratiot (10 a.m. – 2 p.m)\n\n2nd Wednesday of the month: \n\nCottrellville Township Hall\, 7008 Marsh Rd. Marine City (2 – 4 p.m)\n2nd Thursday of the month:\nPeru Village Senior Housing\, 718 Erie\, Port Huron (10 a.m. – noon)\nDesmond Village Senior Housing\, 919 7th St. Port Huron (1 – 3 p.m)\n\n3rd Wednesday of the month: \n\nBlue Water Lodge\, 2840 Keewahdin Rd. Ft. Gratiot Twp. (10 a.m. – noon)\n\n3rd Friday of the month: \n\nDutton Estates Apartments\, 1970 River Rd. St. Clair ( 2 – 4 p.m)\n\n4th Thursday of the month: \n\nVicksburg Halls\, 1100 New York Ave. Marysville ( 9 – 11 a.m)\nPalmer Park Manor\, 400 S. 3rd St.\, St. Clair (11:30 a.m. – 1:30 p.m) Algonquin Place\, 1205 St. Clair Blvd.\, Algonac (2 – 4 p.m.)
URL:https://bluewaterparent.com/event/sccls-bookmobile-2/2026-02-02/
LOCATION:Miles Apartments\, 2300 Krafft Rd\, Fort Gratiot\, MI
END:VEVENT
BEGIN:VEVENT
DTSTART;TZID=America/New_York:20260202T180000
DTEND;TZID=America/New_York:20260202T190000
DTSTAMP:20260422T143642
CREATED:20260125T182055Z
LAST-MODIFIED:20260125T182055Z
UID:10022710-1770055200-1770058800@bluewaterparent.com
SUMMARY:Coding Robots
DESCRIPTION:From SCCL: Learn basic coding by playing with robots! These toys come with objectives to work towards\, find out how to get to your goals\, or just make your robot dance! Registration requested. \n\n 
URL:https://bluewaterparent.com/event/coding-robots/
LOCATION:Algonac-Clay Library\, 2011 St Clair River Dr\, Algonac\, MI\, 48001\, United States
END:VEVENT
END:VCALENDAR