BEGIN:VCALENDAR
VERSION:2.0
PRODID:-//BlueWaterParent.com - ECPv6.15.20//NONSGML v1.0//EN
CALSCALE:GREGORIAN
METHOD:PUBLISH
X-WR-CALNAME:BlueWaterParent.com
X-ORIGINAL-URL:https://bluewaterparent.com
X-WR-CALDESC:Events for BlueWaterParent.com
REFRESH-INTERVAL;VALUE=DURATION:PT1H
X-Robots-Tag:noindex
X-PUBLISHED-TTL:PT1H
BEGIN:VTIMEZONE
TZID:America/New_York
BEGIN:DAYLIGHT
TZOFFSETFROM:-0500
TZOFFSETTO:-0400
TZNAME:EDT
DTSTART:20250309T070000
END:DAYLIGHT
BEGIN:STANDARD
TZOFFSETFROM:-0400
TZOFFSETTO:-0500
TZNAME:EST
DTSTART:20251102T060000
END:STANDARD
BEGIN:DAYLIGHT
TZOFFSETFROM:-0500
TZOFFSETTO:-0400
TZNAME:EDT
DTSTART:20260308T070000
END:DAYLIGHT
BEGIN:STANDARD
TZOFFSETFROM:-0400
TZOFFSETTO:-0500
TZNAME:EST
DTSTART:20261101T060000
END:STANDARD
BEGIN:DAYLIGHT
TZOFFSETFROM:-0500
TZOFFSETTO:-0400
TZNAME:EDT
DTSTART:20270314T070000
END:DAYLIGHT
BEGIN:STANDARD
TZOFFSETFROM:-0400
TZOFFSETTO:-0500
TZNAME:EST
DTSTART:20271107T060000
END:STANDARD
END:VTIMEZONE
BEGIN:VEVENT
DTSTART;VALUE=DATE:20260206
DTEND;VALUE=DATE:20260208
DTSTAMP:20260422T131834
CREATED:20251114T185509Z
LAST-MODIFIED:20251114T185509Z
UID:10016282-1770336000-1770508799@bluewaterparent.com
SUMMARY:Port Huron Chilly Fest
DESCRIPTION:
URL:https://bluewaterparent.com/event/port-huron-chilly-fest/
LOCATION:Downtown Port Huron
CATEGORIES:Fairs and Festivals
END:VEVENT
BEGIN:VEVENT
DTSTART;TZID=America/New_York:20260206T100000
DTEND;TZID=America/New_York:20260206T104500
DTSTAMP:20260422T131834
CREATED:20260101T202520Z
LAST-MODIFIED:20260131T171318Z
UID:10020184-1770372000-1770374700@bluewaterparent.com
SUMMARY:Family Storytime - Memphis
DESCRIPTION:
URL:https://bluewaterparent.com/event/family-storytime-capac-2-2/2026-02-06/
LOCATION:Memphis Library\, 34830 Potter St\, Memphis\, MI\, 48041\, United States
CATEGORIES:Playgroups
END:VEVENT
BEGIN:VEVENT
DTSTART;TZID=America/New_York:20260206T100000
DTEND;TZID=America/New_York:20260206T113000
DTSTAMP:20260422T131834
CREATED:20260101T202833Z
LAST-MODIFIED:20260101T202858Z
UID:10020444-1770372000-1770377400@bluewaterparent.com
SUMMARY:Storytime - Main Port Huron
DESCRIPTION:
URL:https://bluewaterparent.com/event/storytime-main-port-huron-2/2026-02-06/
LOCATION:Main Library\, 210 McMorran Blvd\, Port Huron\, MI\, 48060\, United States
CATEGORIES:Free,Playgroups
END:VEVENT
BEGIN:VEVENT
DTSTART;TZID=America/New_York:20260206T100000
DTEND;TZID=America/New_York:20260206T140000
DTSTAMP:20260422T131834
CREATED:20260124T190249Z
LAST-MODIFIED:20260124T190249Z
UID:10022456-1770372000-1770386400@bluewaterparent.com
SUMMARY:SCCLS Bookmobile- Presbyterian Village of Lake Huron Woods
DESCRIPTION:1st Monday of the month: \n\nLynn Township Hall\, 13995 Yale Rd\, Yale (10 a.m. – noon)\nMiles Apartments\, 2300 Krafft Rd. Fort Gratiot (2 – 4 p.m)\n\n1st Tuesday of the month: \n\nBerlin Township Hall\, 740 Capac Rd. Allenton\, (11 a.m. – 1 p.m)\nChina Township Hall\, 4560 Indian Trail\, China\, MI 48054 (2 – 4 p.m)\n\n1st Wednesday of the month: \n\nIndian Trails Mobile Home Park\, 3650 Metcalf Rd. Burtchville Twp. (2 – 4 p.m)\n\n1st Friday of the month: \n\nPresbyterian Village of Lake Huron Woods\, 5221 Lakeshore Rd. Ft. Gratiot (10 a.m. – 2 p.m)\n\n2nd Wednesday of the month: \n\nCottrellville Township Hall\, 7008 Marsh Rd. Marine City (2 – 4 p.m)\n2nd Thursday of the month:\nPeru Village Senior Housing\, 718 Erie\, Port Huron (10 a.m. – noon)\nDesmond Village Senior Housing\, 919 7th St. Port Huron (1 – 3 p.m)\n\n3rd Wednesday of the month: \n\nBlue Water Lodge\, 2840 Keewahdin Rd. Ft. Gratiot Twp. (10 a.m. – noon)\n\n3rd Friday of the month: \n\nDutton Estates Apartments\, 1970 River Rd. St. Clair ( 2 – 4 p.m)\n\n4th Thursday of the month: \n\nVicksburg Halls\, 1100 New York Ave. Marysville ( 9 – 11 a.m)\nPalmer Park Manor\, 400 S. 3rd St.\, St. Clair (11:30 a.m. – 1:30 p.m) Algonquin Place\, 1205 St. Clair Blvd.\, Algonac (2 – 4 p.m.)
URL:https://bluewaterparent.com/event/sccls-bookmobile-presbyterian-village-of-lake-huron-woods/2026-02-06/
LOCATION:Presbyterian Village of Lake Huron Woods\, 5221 Lakeshore\, Fort Gratiot\, MI
END:VEVENT
BEGIN:VEVENT
DTSTART;TZID=America/New_York:20260206T103000
DTEND;TZID=America/New_York:20260206T110000
DTSTAMP:20260422T131834
CREATED:20260101T203231Z
LAST-MODIFIED:20260101T203231Z
UID:10020704-1770373800-1770375600@bluewaterparent.com
SUMMARY:Storytime - Burtchville
DESCRIPTION:
URL:https://bluewaterparent.com/event/storytime-burtchville-3/2026-02-06/
LOCATION:Burtchville Library\, 7093 2nd St\, Lakeport\, MI\, 48059\, United States
CATEGORIES:Free,Playgroups
END:VEVENT
BEGIN:VEVENT
DTSTART;TZID=America/New_York:20260206T110000
DTEND;TZID=America/New_York:20260206T120000
DTSTAMP:20260422T131834
CREATED:20260101T164906Z
LAST-MODIFIED:20260101T171615Z
UID:10016926-1770375600-1770379200@bluewaterparent.com
SUMMARY:Playgroup Pals
DESCRIPTION:
URL:https://bluewaterparent.com/event/playgroup-pals-2/2026-02-06/
LOCATION:Ira Township Library\, 7013 Meldrum Rd\, Ira Township\, Michigan\, 48023\, United States
CATEGORIES:Playgroups
END:VEVENT
BEGIN:VEVENT
DTSTART;TZID=America/New_York:20260206T150000
DTEND;TZID=America/New_York:20260206T163000
DTSTAMP:20260422T131834
CREATED:20260101T204005Z
LAST-MODIFIED:20260103T023339Z
UID:10021607-1770390000-1770395400@bluewaterparent.com
SUMMARY:Friday Game Zone
DESCRIPTION:
URL:https://bluewaterparent.com/event/friday-game-zone/2026-02-06/
LOCATION:Ira Township Library\, 7013 Meldrum Rd\, Ira Township\, Michigan\, 48023\, United States
CATEGORIES:Free
END:VEVENT
END:VCALENDAR