BEGIN:VCALENDAR
VERSION:2.0
PRODID:-//BlueWaterParent.com - ECPv6.15.20//NONSGML v1.0//EN
CALSCALE:GREGORIAN
METHOD:PUBLISH
X-ORIGINAL-URL:https://bluewaterparent.com
X-WR-CALDESC:Events for BlueWaterParent.com
REFRESH-INTERVAL;VALUE=DURATION:PT1H
X-Robots-Tag:noindex
X-PUBLISHED-TTL:PT1H
BEGIN:VTIMEZONE
TZID:America/New_York
BEGIN:DAYLIGHT
TZOFFSETFROM:-0500
TZOFFSETTO:-0400
TZNAME:EDT
DTSTART:20250309T070000
END:DAYLIGHT
BEGIN:STANDARD
TZOFFSETFROM:-0400
TZOFFSETTO:-0500
TZNAME:EST
DTSTART:20251102T060000
END:STANDARD
BEGIN:DAYLIGHT
TZOFFSETFROM:-0500
TZOFFSETTO:-0400
TZNAME:EDT
DTSTART:20260308T070000
END:DAYLIGHT
BEGIN:STANDARD
TZOFFSETFROM:-0400
TZOFFSETTO:-0500
TZNAME:EST
DTSTART:20261101T060000
END:STANDARD
BEGIN:DAYLIGHT
TZOFFSETFROM:-0500
TZOFFSETTO:-0400
TZNAME:EDT
DTSTART:20270314T070000
END:DAYLIGHT
BEGIN:STANDARD
TZOFFSETFROM:-0400
TZOFFSETTO:-0500
TZNAME:EST
DTSTART:20271107T060000
END:STANDARD
END:VTIMEZONE
BEGIN:VEVENT
DTSTART;VALUE=DATE:20260206
DTEND;VALUE=DATE:20260208
DTSTAMP:20260422T131830
CREATED:20251114T185509Z
LAST-MODIFIED:20251114T185509Z
UID:10016282-1770336000-1770508799@bluewaterparent.com
SUMMARY:Port Huron Chilly Fest
DESCRIPTION:
URL:https://bluewaterparent.com/event/port-huron-chilly-fest/
LOCATION:Downtown Port Huron
CATEGORIES:Fairs and Festivals
END:VEVENT
BEGIN:VEVENT
DTSTART;TZID=America/New_York:20260207T080000
DTEND;TZID=America/New_York:20260207T170000
DTSTAMP:20260422T131830
CREATED:20260125T184223Z
LAST-MODIFIED:20260125T184223Z
UID:10022716-1770451200-1770483600@bluewaterparent.com
SUMMARY:Pom-Pom Monsters
DESCRIPTION:Registration requested. \n 
URL:https://bluewaterparent.com/event/pom-pom-monsters/
LOCATION:St. Clair Library\, 310 S. 2nd Street\, St. Clair\, MI
END:VEVENT
BEGIN:VEVENT
DTSTART;TZID=America/New_York:20260207T110000
DTEND;TZID=America/New_York:20260207T120000
DTSTAMP:20260422T131830
CREATED:20260125T184045Z
LAST-MODIFIED:20260125T184045Z
UID:10022715-1770462000-1770465600@bluewaterparent.com
SUMMARY:Valentine Craft Station for Kids
DESCRIPTION:Registration requested.
URL:https://bluewaterparent.com/event/valentine-craft-station-for-kids/
LOCATION:Algonac-Clay Library\, 2011 St Clair River Dr\, Algonac\, MI\, 48001\, United States
END:VEVENT
BEGIN:VEVENT
DTSTART;TZID=America/New_York:20260207T130000
DTEND;TZID=America/New_York:20260207T143000
DTSTAMP:20260422T131830
CREATED:20260101T205538Z
LAST-MODIFIED:20260101T205538Z
UID:10020967-1770469200-1770474600@bluewaterparent.com
SUMMARY:¡Hola Amigos! – Spanish for Kids
DESCRIPTION:6-week class. Children ages 4-10. Registration is requested.
URL:https://bluewaterparent.com/event/hola-amigos-spanish-for-kids/2026-02-07/
LOCATION:Main Library\, 210 McMorran Blvd\, Port Huron\, MI\, 48060\, United States
END:VEVENT
BEGIN:VEVENT
DTSTART;TZID=America/New_York:20260207T130000
DTEND;TZID=America/New_York:20260207T150000
DTSTAMP:20260422T131830
CREATED:20260125T184355Z
LAST-MODIFIED:20260125T184355Z
UID:10022717-1770469200-1770476400@bluewaterparent.com
SUMMARY:CRAFT: Friendship Bracelets
DESCRIPTION:
URL:https://bluewaterparent.com/event/craft-friendship-bracelets/
LOCATION:Yale Library\, 2 Jones St\, Yale\, MI\, 48097\, United States
END:VEVENT
END:VCALENDAR