BEGIN:VCALENDAR
VERSION:2.0
PRODID:-//BlueWaterParent.com - ECPv6.15.20//NONSGML v1.0//EN
CALSCALE:GREGORIAN
METHOD:PUBLISH
X-ORIGINAL-URL:https://bluewaterparent.com
X-WR-CALDESC:Events for BlueWaterParent.com
REFRESH-INTERVAL;VALUE=DURATION:PT1H
X-Robots-Tag:noindex
X-PUBLISHED-TTL:PT1H
BEGIN:VTIMEZONE
TZID:America/New_York
BEGIN:DAYLIGHT
TZOFFSETFROM:-0500
TZOFFSETTO:-0400
TZNAME:EDT
DTSTART:20250309T070000
END:DAYLIGHT
BEGIN:STANDARD
TZOFFSETFROM:-0400
TZOFFSETTO:-0500
TZNAME:EST
DTSTART:20251102T060000
END:STANDARD
BEGIN:DAYLIGHT
TZOFFSETFROM:-0500
TZOFFSETTO:-0400
TZNAME:EDT
DTSTART:20260308T070000
END:DAYLIGHT
BEGIN:STANDARD
TZOFFSETFROM:-0400
TZOFFSETTO:-0500
TZNAME:EST
DTSTART:20261101T060000
END:STANDARD
BEGIN:DAYLIGHT
TZOFFSETFROM:-0500
TZOFFSETTO:-0400
TZNAME:EDT
DTSTART:20270314T070000
END:DAYLIGHT
BEGIN:STANDARD
TZOFFSETFROM:-0400
TZOFFSETTO:-0500
TZNAME:EST
DTSTART:20271107T060000
END:STANDARD
END:VTIMEZONE
BEGIN:VEVENT
DTSTART;TZID=America/New_York:20260209T090000
DTEND;TZID=America/New_York:20260209T190000
DTSTAMP:20260422T131828
CREATED:20260120T183050Z
LAST-MODIFIED:20260120T183843Z
UID:10022318-1770627600-1770663600@bluewaterparent.com
SUMMARY:Beatrice Thornton Student Art Exhibit
DESCRIPTION:Local Student Art on Display at SC4’s Beatrice Thornton Exhibition
URL:https://bluewaterparent.com/event/beatrice-thornton-student-art-exhibit-2/2026-02-09/
LOCATION:SC4 Fine Arts Gallery\, 323 Erie\, Port Huron\, MI
CATEGORIES:Fairs and Festivals
END:VEVENT
BEGIN:VEVENT
DTSTART;TZID=America/New_York:20260209T100000
DTEND;TZID=America/New_York:20260209T110000
DTSTAMP:20260422T131828
CREATED:20260101T170853Z
LAST-MODIFIED:20260125T194823Z
UID:10017188-1770631200-1770634800@bluewaterparent.com
SUMMARY:Storytime - Yale
DESCRIPTION:
URL:https://bluewaterparent.com/event/storytime-yale-2/2026-02-09/
LOCATION:Yale Library\, 2 Jones St\, Yale\, MI\, 48097\, United States
CATEGORIES:Free,Playgroups
END:VEVENT
BEGIN:VEVENT
DTSTART;TZID=America/New_York:20260209T103000
DTEND;TZID=America/New_York:20260209T113000
DTSTAMP:20260422T131828
CREATED:20260101T175251Z
LAST-MODIFIED:20260125T195022Z
UID:10017710-1770633000-1770636600@bluewaterparent.com
SUMMARY:Storytime - Marine City
DESCRIPTION:From SCCLS – Preschoolers and their adults join us at the library for a happy blend of stories and activities.
URL:https://bluewaterparent.com/event/storytime-marine-city/2026-02-09/
LOCATION:Marine City Library\, 300 S Parker St\, Marine City\, MI\, 48039\, United States
CATEGORIES:Free,Playgroups
END:VEVENT
BEGIN:VEVENT
DTSTART;TZID=America/New_York:20260209T110000
DTEND;TZID=America/New_York:20260209T120000
DTSTAMP:20260422T131828
CREATED:20260101T180238Z
LAST-MODIFIED:20260125T195136Z
UID:10018232-1770634800-1770638400@bluewaterparent.com
SUMMARY:Storytime - Ira
DESCRIPTION:
URL:https://bluewaterparent.com/event/storytime-ira-2/2026-02-09/
LOCATION:Ira Township Library\, 7013 Meldrum Rd\, Ira Township\, Michigan\, 48023\, United States
CATEGORIES:Playgroups
END:VEVENT
BEGIN:VEVENT
DTSTART;TZID=America/New_York:20260209T160000
DTEND;TZID=America/New_York:20260209T180000
DTSTAMP:20260422T131828
CREATED:20260101T211427Z
LAST-MODIFIED:20260101T211427Z
UID:10021033-1770652800-1770660000@bluewaterparent.com
SUMMARY:Teen Scene
DESCRIPTION:Ages 13-18.
URL:https://bluewaterparent.com/event/teen-scene/2026-02-09/
LOCATION:Capac Library\, 111 N Main St\, Capac\, MI\, 48014\, United States
CATEGORIES:Teens
END:VEVENT
END:VCALENDAR