BEGIN:VCALENDAR
VERSION:2.0
PRODID:-//BlueWaterParent.com - ECPv6.15.20//NONSGML v1.0//EN
CALSCALE:GREGORIAN
METHOD:PUBLISH
X-ORIGINAL-URL:https://bluewaterparent.com
X-WR-CALDESC:Events for BlueWaterParent.com
REFRESH-INTERVAL;VALUE=DURATION:PT1H
X-Robots-Tag:noindex
X-PUBLISHED-TTL:PT1H
BEGIN:VTIMEZONE
TZID:America/New_York
BEGIN:DAYLIGHT
TZOFFSETFROM:-0500
TZOFFSETTO:-0400
TZNAME:EDT
DTSTART:20250309T070000
END:DAYLIGHT
BEGIN:STANDARD
TZOFFSETFROM:-0400
TZOFFSETTO:-0500
TZNAME:EST
DTSTART:20251102T060000
END:STANDARD
BEGIN:DAYLIGHT
TZOFFSETFROM:-0500
TZOFFSETTO:-0400
TZNAME:EDT
DTSTART:20260308T070000
END:DAYLIGHT
BEGIN:STANDARD
TZOFFSETFROM:-0400
TZOFFSETTO:-0500
TZNAME:EST
DTSTART:20261101T060000
END:STANDARD
BEGIN:DAYLIGHT
TZOFFSETFROM:-0500
TZOFFSETTO:-0400
TZNAME:EDT
DTSTART:20270314T070000
END:DAYLIGHT
BEGIN:STANDARD
TZOFFSETFROM:-0400
TZOFFSETTO:-0500
TZNAME:EST
DTSTART:20271107T060000
END:STANDARD
END:VTIMEZONE
BEGIN:VEVENT
DTSTART;TZID=America/New_York:20260211T090000
DTEND;TZID=America/New_York:20260211T190000
DTSTAMP:20260422T131833
CREATED:20260120T183050Z
LAST-MODIFIED:20260120T183843Z
UID:10022338-1770800400-1770836400@bluewaterparent.com
SUMMARY:Beatrice Thornton Student Art Exhibit
DESCRIPTION:Local Student Art on Display at SC4’s Beatrice Thornton Exhibition
URL:https://bluewaterparent.com/event/beatrice-thornton-student-art-exhibit-2/2026-02-11/
LOCATION:SC4 Fine Arts Gallery\, 323 Erie\, Port Huron\, MI
CATEGORIES:Fairs and Festivals
END:VEVENT
BEGIN:VEVENT
DTSTART;TZID=America/New_York:20260211T100000
DTEND;TZID=America/New_York:20260211T110000
DTSTAMP:20260422T131833
CREATED:20250923T162640Z
LAST-MODIFIED:20250923T163546Z
UID:10016034-1770804000-1770807600@bluewaterparent.com
SUMMARY:Great Start Playgroup - Marysville
DESCRIPTION:
URL:https://bluewaterparent.com/event/great-start-playgroup-marysville/2026-02-11/
LOCATION:St. Clair County RESA East Campus\, 1111 Delaware Avenue\, Marysville\, MI
CATEGORIES:Playgroups
END:VEVENT
BEGIN:VEVENT
DTSTART;TZID=America/New_York:20260211T100000
DTEND;TZID=America/New_York:20260211T113000
DTSTAMP:20260422T131833
CREATED:20260101T191224Z
LAST-MODIFIED:20260101T192208Z
UID:10019097-1770804000-1770809400@bluewaterparent.com
SUMMARY:Storytime - Main
DESCRIPTION:From SCCLS – Join us for a happy blend of stories\, rhymes\, and songs for preschool children\, followed by activity time with play structured to hone both fine and gross motor skills essential for learning.
URL:https://bluewaterparent.com/event/storytime-main/2026-02-11/
LOCATION:Main Library\, 210 McMorran Blvd\, Port Huron\, MI\, 48060\, United States
CATEGORIES:Free,Playgroups
END:VEVENT
BEGIN:VEVENT
DTSTART;TZID=America/New_York:20260211T110000
DTEND;TZID=America/New_York:20260211T120000
DTSTAMP:20260422T131833
CREATED:20260101T193603Z
LAST-MODIFIED:20260101T193640Z
UID:10019225-1770807600-1770811200@bluewaterparent.com
SUMMARY:Storytime - G. Lynn Campbell
DESCRIPTION:From SCCLS – Bring your preschool-age children for some Storytime fun! They will enjoy a reading\, an energetic activity\, and a craft.
URL:https://bluewaterparent.com/event/storytime-g-lynn-campbell-2/2026-02-11/
LOCATION:G. Lynn Campbell Library\, 1955 Allen Rd\, Kimball\, MI\, 48074\, United States
CATEGORIES:Free,Playgroups
END:VEVENT
BEGIN:VEVENT
DTSTART;TZID=America/New_York:20260211T140000
DTEND;TZID=America/New_York:20260211T160000
DTSTAMP:20260422T131833
CREATED:20260124T190839Z
LAST-MODIFIED:20260124T190839Z
UID:10022492-1770818400-1770825600@bluewaterparent.com
SUMMARY:SCCLS Bookmobile- Cottrellville Township Hall
DESCRIPTION:1st Monday of the month: \n\nLynn Township Hall\, 13995 Yale Rd\, Yale (10 a.m. – noon)\nMiles Apartments\, 2300 Krafft Rd. Fort Gratiot (2 – 4 p.m)\n\n1st Tuesday of the month: \n\nBerlin Township Hall\, 740 Capac Rd. Allenton\, (11 a.m. – 1 p.m)\nChina Township Hall\, 4560 Indian Trail\, China\, MI 48054 (2 – 4 p.m)\n\n1st Wednesday of the month: \n\nIndian Trails Mobile Home Park\, 3650 Metcalf Rd. Burtchville Twp. (2 – 4 p.m)\n\n1st Friday of the month: \n\nPresbyterian Village of Lake Huron Woods\, 5221 Lakeshore Rd. Ft. Gratiot (10 a.m. – 2 p.m)\n\n2nd Wednesday of the month: \n\nCottrellville Township Hall\, 7008 Marsh Rd. Marine City (2 – 4 p.m)\n2nd Thursday of the month:\nPeru Village Senior Housing\, 718 Erie\, Port Huron (10 a.m. – noon)\nDesmond Village Senior Housing\, 919 7th St. Port Huron (1 – 3 p.m)\n\n3rd Wednesday of the month: \n\nBlue Water Lodge\, 2840 Keewahdin Rd. Ft. Gratiot Twp. (10 a.m. – noon)\n\n3rd Friday of the month: \n\nDutton Estates Apartments\, 1970 River Rd. St. Clair ( 2 – 4 p.m)\n\n4th Thursday of the month: \n\nVicksburg Halls\, 1100 New York Ave. Marysville ( 9 – 11 a.m)\nPalmer Park Manor\, 400 S. 3rd St.\, St. Clair (11:30 a.m. – 1:30 p.m) Algonquin Place\, 1205 St. Clair Blvd.\, Algonac (2 – 4 p.m.)
URL:https://bluewaterparent.com/event/sccls-bookmobile-cottrellville-township-hall/2026-02-11/
LOCATION:cottrellville Township Hall\, 7008 Marsh Rd\, Marine City\, MI
END:VEVENT
BEGIN:VEVENT
DTSTART;TZID=America/New_York:20260211T150000
DTEND;TZID=America/New_York:20260211T160000
DTSTAMP:20260422T131833
CREATED:20260125T190300Z
LAST-MODIFIED:20260125T190300Z
UID:10022782-1770822000-1770825600@bluewaterparent.com
SUMMARY:Teen Craft "Scented Heart Sachet"
DESCRIPTION:Registration and waiver REQUIRED.
URL:https://bluewaterparent.com/event/teen-craft-scented-heart-sachet/
LOCATION:Marine City Library\, 300 S Parker St\, Marine City\, MI\, 48039\, United States
CATEGORIES:Teens
END:VEVENT
BEGIN:VEVENT
DTSTART;TZID=America/New_York:20260211T153000
DTEND;TZID=America/New_York:20260211T163000
DTSTAMP:20260422T131833
CREATED:20260125T190448Z
LAST-MODIFIED:20260125T190448Z
UID:10022783-1770823800-1770827400@bluewaterparent.com
SUMMARY:Japanese Conversation Club
DESCRIPTION:From SCCL: Are you learning Japanese and looking for a friendly space to practice speaking? Whether you’re just starting out or have some experience\, the Japanese Conversation Club is the perfect place to improve your skills and build confidence in a relaxed\, supportive environment. No fluency required – just a willingness to participate and try.
URL:https://bluewaterparent.com/event/japanese-conversation-club/
LOCATION:Main Library\, 210 McMorran Blvd\, Port Huron\, MI\, 48060\, United States
CATEGORIES:Teens
END:VEVENT
BEGIN:VEVENT
DTSTART;TZID=America/New_York:20260211T160000
DTEND;TZID=America/New_York:20260211T170000
DTSTAMP:20260422T131833
CREATED:20260125T190641Z
LAST-MODIFIED:20260125T190641Z
UID:10022784-1770825600-1770829200@bluewaterparent.com
SUMMARY:Masquerade Mask Making!
DESCRIPTION:Registration requested. \n 
URL:https://bluewaterparent.com/event/masquerade-mask-making/
LOCATION:Capac Library\, 111 N Main St\, Capac\, MI\, 48014\, United States
CATEGORIES:Teens
END:VEVENT
END:VCALENDAR