BEGIN:VCALENDAR
VERSION:2.0
PRODID:-//BlueWaterParent.com - ECPv6.15.20//NONSGML v1.0//EN
CALSCALE:GREGORIAN
METHOD:PUBLISH
X-ORIGINAL-URL:https://bluewaterparent.com
X-WR-CALDESC:Events for BlueWaterParent.com
REFRESH-INTERVAL;VALUE=DURATION:PT1H
X-Robots-Tag:noindex
X-PUBLISHED-TTL:PT1H
BEGIN:VTIMEZONE
TZID:America/New_York
BEGIN:DAYLIGHT
TZOFFSETFROM:-0500
TZOFFSETTO:-0400
TZNAME:EDT
DTSTART:20250309T070000
END:DAYLIGHT
BEGIN:STANDARD
TZOFFSETFROM:-0400
TZOFFSETTO:-0500
TZNAME:EST
DTSTART:20251102T060000
END:STANDARD
BEGIN:DAYLIGHT
TZOFFSETFROM:-0500
TZOFFSETTO:-0400
TZNAME:EDT
DTSTART:20260308T070000
END:DAYLIGHT
BEGIN:STANDARD
TZOFFSETFROM:-0400
TZOFFSETTO:-0500
TZNAME:EST
DTSTART:20261101T060000
END:STANDARD
BEGIN:DAYLIGHT
TZOFFSETFROM:-0500
TZOFFSETTO:-0400
TZNAME:EDT
DTSTART:20270314T070000
END:DAYLIGHT
BEGIN:STANDARD
TZOFFSETFROM:-0400
TZOFFSETTO:-0500
TZNAME:EST
DTSTART:20271107T060000
END:STANDARD
END:VTIMEZONE
BEGIN:VEVENT
DTSTART;TZID=America/New_York:20260213T090000
DTEND;TZID=America/New_York:20260213T160000
DTSTAMP:20260422T143641
CREATED:20260120T182826Z
LAST-MODIFIED:20260120T182826Z
UID:10022253-1770973200-1770998400@bluewaterparent.com
SUMMARY:Beatrice Thornton Student Art Exhibit
DESCRIPTION:Local Student Art on Display at SC4’s Beatrice Thornton Exhibition
URL:https://bluewaterparent.com/event/beatrice-thornton-student-art-exhibit/2026-02-13/
LOCATION:SC4 Fine Arts Gallery\, 323 Erie\, Port Huron\, MI
CATEGORIES:Fairs and Festivals
END:VEVENT
BEGIN:VEVENT
DTSTART;TZID=America/New_York:20260213T090000
DTEND;TZID=America/New_York:20260213T160000
DTSTAMP:20260422T143641
CREATED:20260120T183452Z
LAST-MODIFIED:20260120T183452Z
UID:10022336-1770973200-1770998400@bluewaterparent.com
SUMMARY:Beatrice Thornton Student Art Exhibit
DESCRIPTION:Local Student Art on Display at SC4’s Beatrice Thornton Exhibition
URL:https://bluewaterparent.com/event/beatrice-thornton-student-art-exhibit-3/2026-02-13/
LOCATION:SC4 Fine Arts Gallery\, 323 Erie\, Port Huron\, MI
CATEGORIES:Fairs and Festivals
END:VEVENT
BEGIN:VEVENT
DTSTART;TZID=America/New_York:20260213T100000
DTEND;TZID=America/New_York:20260213T104500
DTSTAMP:20260422T143641
CREATED:20260101T202520Z
LAST-MODIFIED:20260131T171318Z
UID:10020185-1770976800-1770979500@bluewaterparent.com
SUMMARY:Family Storytime - Memphis
DESCRIPTION:
URL:https://bluewaterparent.com/event/family-storytime-capac-2-2/2026-02-13/
LOCATION:Memphis Library\, 34830 Potter St\, Memphis\, MI\, 48041\, United States
CATEGORIES:Playgroups
END:VEVENT
BEGIN:VEVENT
DTSTART;TZID=America/New_York:20260213T100000
DTEND;TZID=America/New_York:20260213T110000
DTSTAMP:20260422T143641
CREATED:20260125T193944Z
LAST-MODIFIED:20260125T193944Z
UID:10022966-1770976800-1770980400@bluewaterparent.com
SUMMARY:Reading with our Therapy Dog
DESCRIPTION:  \n 
URL:https://bluewaterparent.com/event/reading-with-our-therapy-dog/
LOCATION:G. Lynn Campbell Library\, 1955 Allen Rd\, Kimball\, MI\, 48074\, United States
END:VEVENT
BEGIN:VEVENT
DTSTART;TZID=America/New_York:20260213T100000
DTEND;TZID=America/New_York:20260213T113000
DTSTAMP:20260422T143641
CREATED:20260101T202833Z
LAST-MODIFIED:20260101T202858Z
UID:10020445-1770976800-1770982200@bluewaterparent.com
SUMMARY:Storytime - Main Port Huron
DESCRIPTION:
URL:https://bluewaterparent.com/event/storytime-main-port-huron-2/2026-02-13/
LOCATION:Main Library\, 210 McMorran Blvd\, Port Huron\, MI\, 48060\, United States
CATEGORIES:Free,Playgroups
END:VEVENT
BEGIN:VEVENT
DTSTART;TZID=America/New_York:20260213T103000
DTEND;TZID=America/New_York:20260213T110000
DTSTAMP:20260422T143642
CREATED:20260101T203231Z
LAST-MODIFIED:20260101T203231Z
UID:10020705-1770978600-1770980400@bluewaterparent.com
SUMMARY:Storytime - Burtchville
DESCRIPTION:
URL:https://bluewaterparent.com/event/storytime-burtchville-3/2026-02-13/
LOCATION:Burtchville Library\, 7093 2nd St\, Lakeport\, MI\, 48059\, United States
CATEGORIES:Free,Playgroups
END:VEVENT
BEGIN:VEVENT
DTSTART;TZID=America/New_York:20260213T110000
DTEND;TZID=America/New_York:20260213T120000
DTSTAMP:20260422T143642
CREATED:20260101T164906Z
LAST-MODIFIED:20260101T171615Z
UID:10016927-1770980400-1770984000@bluewaterparent.com
SUMMARY:Playgroup Pals
DESCRIPTION:
URL:https://bluewaterparent.com/event/playgroup-pals-2/2026-02-13/
LOCATION:Ira Township Library\, 7013 Meldrum Rd\, Ira Township\, Michigan\, 48023\, United States
CATEGORIES:Playgroups
END:VEVENT
END:VCALENDAR