BEGIN:VCALENDAR
VERSION:2.0
PRODID:-//BlueWaterParent.com - ECPv6.15.20//NONSGML v1.0//EN
CALSCALE:GREGORIAN
METHOD:PUBLISH
X-WR-CALNAME:BlueWaterParent.com
X-ORIGINAL-URL:https://bluewaterparent.com
X-WR-CALDESC:Events for BlueWaterParent.com
REFRESH-INTERVAL;VALUE=DURATION:PT1H
X-Robots-Tag:noindex
X-PUBLISHED-TTL:PT1H
BEGIN:VTIMEZONE
TZID:America/New_York
BEGIN:DAYLIGHT
TZOFFSETFROM:-0500
TZOFFSETTO:-0400
TZNAME:EDT
DTSTART:20250309T070000
END:DAYLIGHT
BEGIN:STANDARD
TZOFFSETFROM:-0400
TZOFFSETTO:-0500
TZNAME:EST
DTSTART:20251102T060000
END:STANDARD
BEGIN:DAYLIGHT
TZOFFSETFROM:-0500
TZOFFSETTO:-0400
TZNAME:EDT
DTSTART:20260308T070000
END:DAYLIGHT
BEGIN:STANDARD
TZOFFSETFROM:-0400
TZOFFSETTO:-0500
TZNAME:EST
DTSTART:20261101T060000
END:STANDARD
BEGIN:DAYLIGHT
TZOFFSETFROM:-0500
TZOFFSETTO:-0400
TZNAME:EDT
DTSTART:20270314T070000
END:DAYLIGHT
BEGIN:STANDARD
TZOFFSETFROM:-0400
TZOFFSETTO:-0500
TZNAME:EST
DTSTART:20271107T060000
END:STANDARD
END:VTIMEZONE
BEGIN:VEVENT
DTSTART;TZID=America/New_York:20260305T100000
DTEND;TZID=America/New_York:20260305T110000
DTSTAMP:20260422T100234
CREATED:20260307T014510Z
LAST-MODIFIED:20260307T014908Z
UID:10016037-1772704800-1772708400@bluewaterparent.com
SUMMARY:Great Start Playgroup - Marysville
DESCRIPTION:
URL:https://bluewaterparent.com/event/great-start-playgroup-marysville-3/2026-03-05/
LOCATION:St. Clair County RESA East Campus\, 1111 Delaware Avenue\, Marysville\, MI
CATEGORIES:Playgroups
END:VEVENT
BEGIN:VEVENT
DTSTART;TZID=America/New_York:20260305T100000
DTEND;TZID=America/New_York:20260305T120000
DTSTAMP:20260422T100234
CREATED:20260108T160537Z
LAST-MODIFIED:20260108T160615Z
UID:10021778-1772704800-1772712000@bluewaterparent.com
SUMMARY:16th Street Park Stewardship
DESCRIPTION:Help remove invasive vegetation from this urban forest. Learn more here: https://www.porthuronrec.com/nature-programs/16th-st.-park-stewardship. 
URL:https://bluewaterparent.com/event/16th-street-park-stewardship/2026-03-05/
LOCATION:16th Street Park\, 2600 16th Street\, Port Huron\, MI\, 48060
END:VEVENT
BEGIN:VEVENT
DTSTART;TZID=America/New_York:20260305T103000
DTEND;TZID=America/New_York:20260305T111500
DTSTAMP:20260422T100234
CREATED:20260121T205611Z
LAST-MODIFIED:20260121T205611Z
UID:10022379-1772706600-1772709300@bluewaterparent.com
SUMMARY:Little Tunes Music Class- Salvation Army
DESCRIPTION:
URL:https://bluewaterparent.com/event/little-tunes-music-class-salvation-army/2026-03-05/
LOCATION:Salvation Army Port Huron  – The Sal Community Center\, 2000 Court Street\, Port Huron\, MI\, 48060
CATEGORIES:Playgroups
END:VEVENT
BEGIN:VEVENT
DTSTART;TZID=America/New_York:20260305T110000
DTEND;TZID=America/New_York:20260305T113000
DTSTAMP:20260422T100234
CREATED:20260101T200511Z
LAST-MODIFIED:20260101T213808Z
UID:10021107-1772708400-1772710200@bluewaterparent.com
SUMMARY:Storytime - Algonac
DESCRIPTION:  \n 
URL:https://bluewaterparent.com/event/storytime-algonac-2/2026-03-05/
LOCATION:Algonac-Clay Library\, 2011 St Clair River Dr\, Algonac\, MI\, 48001\, United States
CATEGORIES:Playgroups
END:VEVENT
BEGIN:VEVENT
DTSTART;TZID=America/New_York:20260305T140000
DTEND;TZID=America/New_York:20260305T150000
DTSTAMP:20260422T100234
CREATED:20260107T224100Z
LAST-MODIFIED:20260107T224100Z
UID:10021764-1772719200-1772722800@bluewaterparent.com
SUMMARY:Discovery Lab
DESCRIPTION:
URL:https://bluewaterparent.com/event/discovery-lab/2026-03-05/
LOCATION:Discovery City Children’s Museum\, 317 Grand River Avenue\, Port huron\, MI\, 48060
CATEGORIES:Playgroups
END:VEVENT
BEGIN:VEVENT
DTSTART;TZID=America/New_York:20260305T143000
DTEND;TZID=America/New_York:20260305T160000
DTSTAMP:20260422T100234
CREATED:20260101T200828Z
LAST-MODIFIED:20260101T200854Z
UID:10019601-1772721000-1772726400@bluewaterparent.com
SUMMARY:Teen Time - Yale
DESCRIPTION:
URL:https://bluewaterparent.com/event/teen-time-yale-3/2026-03-05/
LOCATION:Yale Library\, 2 Jones St\, Yale\, MI\, 48097\, United States
CATEGORIES:Teens
END:VEVENT
BEGIN:VEVENT
DTSTART;TZID=America/New_York:20260305T153000
DTEND;TZID=America/New_York:20260305T180000
DTSTAMP:20260422T100234
CREATED:20260101T201514Z
LAST-MODIFIED:20260103T021445Z
UID:10021506-1772724600-1772733600@bluewaterparent.com
SUMMARY:To D&D\, And Beyond!
DESCRIPTION:  \n 
URL:https://bluewaterparent.com/event/to-dd-and-beyond-3/2026-03-05/
LOCATION:Marysville Library\, 1175 Delaware\, Marysville\, MI
CATEGORIES:Teens
END:VEVENT
BEGIN:VEVENT
DTSTART;TZID=America/New_York:20260305T171500
DTEND;TZID=America/New_York:20260305T174500
DTSTAMP:20260422T100234
CREATED:20260301T202413Z
LAST-MODIFIED:20260301T202414Z
UID:10022792-1772730900-1772732700@bluewaterparent.com
SUMMARY:Michigan Chillers Book Club
DESCRIPTION:  \n 
URL:https://bluewaterparent.com/event/little-house-on-the-prairie-book-club-for-kids-2-2/
LOCATION:Capac Library\, 111 N Main St\, Capac\, MI\, 48014\, United States
CATEGORIES:Free
END:VEVENT
BEGIN:VEVENT
DTSTART;TZID=America/New_York:20260305T173000
DTEND;TZID=America/New_York:20260305T183000
DTSTAMP:20260422T100234
CREATED:20260219T135357Z
LAST-MODIFIED:20260219T135357Z
UID:10023525-1772731800-1772735400@bluewaterparent.com
SUMMARY:St. Edward-on-the-Lake School Open House
DESCRIPTION:
URL:https://bluewaterparent.com/event/st-edward-on-the-lake-school-open-house/
LOCATION:St. Edward on the Lake Catholic School\, 6995 Lakeshore Rd.\, Lakeport\, MI
END:VEVENT
END:VCALENDAR