BEGIN:VCALENDAR
VERSION:2.0
PRODID:-//BlueWaterParent.com - ECPv6.15.20//NONSGML v1.0//EN
CALSCALE:GREGORIAN
METHOD:PUBLISH
X-ORIGINAL-URL:https://bluewaterparent.com
X-WR-CALDESC:Events for BlueWaterParent.com
REFRESH-INTERVAL;VALUE=DURATION:PT1H
X-Robots-Tag:noindex
X-PUBLISHED-TTL:PT1H
BEGIN:VTIMEZONE
TZID:America/New_York
BEGIN:DAYLIGHT
TZOFFSETFROM:-0500
TZOFFSETTO:-0400
TZNAME:EDT
DTSTART:20250309T070000
END:DAYLIGHT
BEGIN:STANDARD
TZOFFSETFROM:-0400
TZOFFSETTO:-0500
TZNAME:EST
DTSTART:20251102T060000
END:STANDARD
BEGIN:DAYLIGHT
TZOFFSETFROM:-0500
TZOFFSETTO:-0400
TZNAME:EDT
DTSTART:20260308T070000
END:DAYLIGHT
BEGIN:STANDARD
TZOFFSETFROM:-0400
TZOFFSETTO:-0500
TZNAME:EST
DTSTART:20261101T060000
END:STANDARD
BEGIN:DAYLIGHT
TZOFFSETFROM:-0500
TZOFFSETTO:-0400
TZNAME:EDT
DTSTART:20270314T070000
END:DAYLIGHT
BEGIN:STANDARD
TZOFFSETFROM:-0400
TZOFFSETTO:-0500
TZNAME:EST
DTSTART:20271107T060000
END:STANDARD
END:VTIMEZONE
BEGIN:VEVENT
DTSTART;TZID=America/New_York:20260316T100000
DTEND;TZID=America/New_York:20260316T110000
DTSTAMP:20260422T071017
CREATED:20260101T192653Z
LAST-MODIFIED:20260307T025320Z
UID:10024345-1773655200-1773658800@bluewaterparent.com
SUMMARY:Storytime - St. Clair
DESCRIPTION:From SCCLS – Join us for a fun and educational blend of stories\, crafts\, movement activities\, and songs.
URL:https://bluewaterparent.com/event/storytime-st-clair/2026-03-16/
LOCATION:St. Clair Library\, 310 S. 2nd Street\, St. Clair\, MI
CATEGORIES:Free,Playgroups
END:VEVENT
BEGIN:VEVENT
DTSTART;TZID=America/New_York:20260316T100000
DTEND;TZID=America/New_York:20260316T110000
DTSTAMP:20260422T071017
CREATED:20260125T194928Z
LAST-MODIFIED:20260125T194929Z
UID:10017454-1773655200-1773658800@bluewaterparent.com
SUMMARY:Storytime - Marysville
DESCRIPTION:From SCCLS – Preschoolers and their adults: Join us at the library for a happy blend of stories\, rhymes\, music and movement\, followed by a creative activity time.
URL:https://bluewaterparent.com/event/storytime-marysville-3/2026-03-16/
LOCATION:Marysville Library\, 1175 Delaware\, Marysville\, MI
CATEGORIES:Free,Playgroups
END:VEVENT
BEGIN:VEVENT
DTSTART;TZID=America/New_York:20260316T100000
DTEND;TZID=America/New_York:20260316T110000
DTSTAMP:20260422T071017
CREATED:20260307T142323Z
LAST-MODIFIED:20260307T142325Z
UID:10017193-1773655200-1773658800@bluewaterparent.com
SUMMARY:Storytime - Yale
DESCRIPTION:
URL:https://bluewaterparent.com/event/storytime-yale-2-2-2/2026-03-16/
LOCATION:Yale Library\, 2 Jones St\, Yale\, MI\, 48097\, United States
CATEGORIES:Free,Playgroups
END:VEVENT
BEGIN:VEVENT
DTSTART;TZID=America/New_York:20260316T110000
DTEND;TZID=America/New_York:20260316T120000
DTSTAMP:20260422T071017
CREATED:20260101T180238Z
LAST-MODIFIED:20260125T195136Z
UID:10018237-1773658800-1773662400@bluewaterparent.com
SUMMARY:Storytime - Ira
DESCRIPTION:
URL:https://bluewaterparent.com/event/storytime-ira-2/2026-03-16/
LOCATION:Ira Township Library\, 7013 Meldrum Rd\, Ira Township\, Michigan\, 48023\, United States
CATEGORIES:Playgroups
END:VEVENT
BEGIN:VEVENT
DTSTART;TZID=America/New_York:20260316T160000
DTEND;TZID=America/New_York:20260316T170000
DTSTAMP:20260422T071017
CREATED:20260307T143133Z
LAST-MODIFIED:20260307T143133Z
UID:10024611-1773676800-1773680400@bluewaterparent.com
SUMMARY:Craft: Ugly Book Cover Renovation
DESCRIPTION:Teen craft project.
URL:https://bluewaterparent.com/event/craft-ugly-book-cover-renovation/
LOCATION:Main Library\, 210 McMorran Blvd\, Port Huron\, MI\, 48060\, United States
CATEGORIES:Free,Teens
END:VEVENT
BEGIN:VEVENT
DTSTART;TZID=America/New_York:20260316T173000
DTEND;TZID=America/New_York:20260316T193000
DTSTAMP:20260422T071017
CREATED:20260307T143720Z
LAST-MODIFIED:20260307T143720Z
UID:10024612-1773682200-1773689400@bluewaterparent.com
SUMMARY:DocuMondays - The Boys:  The Sherman Brothers' Story
DESCRIPTION:From SCCL: Step behind the curtain of Disney and Pixar with a special documentary film series for teens and adults. From legendary animators to unforgettable music makers\, explore the people and stories that shaped some of the most beloved films in history. Each month\, we’ll watch a documentary\, talk about the people behind it\, and highlight books you can check out to dive deeper into their lives and the art of animation. Popcorn and water will be provided. Registration requested.
URL:https://bluewaterparent.com/event/documondays-the-boys-the-sherman-brothers-story/
LOCATION:Main Library\, 210 McMorran Blvd\, Port Huron\, MI\, 48060\, United States
CATEGORIES:Free,Teens
END:VEVENT
END:VCALENDAR