BEGIN:VCALENDAR
VERSION:2.0
PRODID:-//BlueWaterParent.com - ECPv6.15.20//NONSGML v1.0//EN
CALSCALE:GREGORIAN
METHOD:PUBLISH
X-WR-CALNAME:BlueWaterParent.com
X-ORIGINAL-URL:https://bluewaterparent.com
X-WR-CALDESC:Events for BlueWaterParent.com
REFRESH-INTERVAL;VALUE=DURATION:PT1H
X-Robots-Tag:noindex
X-PUBLISHED-TTL:PT1H
BEGIN:VTIMEZONE
TZID:America/New_York
BEGIN:DAYLIGHT
TZOFFSETFROM:-0500
TZOFFSETTO:-0400
TZNAME:EDT
DTSTART:20250309T070000
END:DAYLIGHT
BEGIN:STANDARD
TZOFFSETFROM:-0400
TZOFFSETTO:-0500
TZNAME:EST
DTSTART:20251102T060000
END:STANDARD
BEGIN:DAYLIGHT
TZOFFSETFROM:-0500
TZOFFSETTO:-0400
TZNAME:EDT
DTSTART:20260308T070000
END:DAYLIGHT
BEGIN:STANDARD
TZOFFSETFROM:-0400
TZOFFSETTO:-0500
TZNAME:EST
DTSTART:20261101T060000
END:STANDARD
BEGIN:DAYLIGHT
TZOFFSETFROM:-0500
TZOFFSETTO:-0400
TZNAME:EDT
DTSTART:20270314T070000
END:DAYLIGHT
BEGIN:STANDARD
TZOFFSETFROM:-0400
TZOFFSETTO:-0500
TZNAME:EST
DTSTART:20271107T060000
END:STANDARD
END:VTIMEZONE
BEGIN:VEVENT
DTSTART;TZID=America/New_York:20260423T090000
DTEND;TZID=America/New_York:20260423T110000
DTSTAMP:20260423T040153
CREATED:20260124T195204Z
LAST-MODIFIED:20260124T195204Z
UID:10022657-1776934800-1776942000@bluewaterparent.com
SUMMARY:SCCLS Bookmobile- Vicksburg Hall
DESCRIPTION:1st Monday of the month: \n\nLynn Township Hall\, 13995 Yale Rd\, Yale (10 a.m. – noon)\nMiles Apartments\, 2300 Krafft Rd. Fort Gratiot (2 – 4 p.m)\n\n1st Tuesday of the month: \n\nBerlin Township Hall\, 740 Capac Rd. Allenton\, (11 a.m. – 1 p.m)\nChina Township Hall\, 4560 Indian Trail\, China\, MI 48054 (2 – 4 p.m)\n\n1st Wednesday of the month: \n\nIndian Trails Mobile Home Park\, 3650 Metcalf Rd. Burtchville Twp. (2 – 4 p.m)\n\n1st Friday of the month: \n\nPresbyterian Village of Lake Huron Woods\, 5221 Lakeshore Rd. Ft. Gratiot (10 a.m. – 2 p.m)\n\n2nd Wednesday of the month: \n\nCottrellville Township Hall\, 7008 Marsh Rd. Marine City (2 – 4 p.m)\n2nd Thursday of the month:\nPeru Village Senior Housing\, 718 Erie\, Port Huron (10 a.m. – noon)\nDesmond Village Senior Housing\, 919 7th St. Port Huron (1 – 3 p.m)\n\n3rd Wednesday of the month: \n\nBlue Water Lodge\, 2840 Keewahdin Rd. Ft. Gratiot Twp. (10 a.m. – noon)\n\n3rd Friday of the month: \n\nDutton Estates Apartments\, 1970 River Rd. St. Clair ( 2 – 4 p.m)\n\n4th Thursday of the month: \n\nVicksburg Halls\, 1100 New York Ave. Marysville ( 9 – 11 a.m)\nPalmer Park Manor\, 400 S. 3rd St.\, St. Clair (11:30 a.m. – 1:30 p.m) Algonquin Place\, 1205 St. Clair Blvd.\, Algonac (2 – 4 p.m.)
URL:https://bluewaterparent.com/event/sccls-bookmobile-vicksburg-hall/2026-04-23/
LOCATION:Vicksburg Halls\, 1100 New York Avenue\, Marysville\, MI
END:VEVENT
BEGIN:VEVENT
DTSTART;TZID=America/New_York:20260423T100000
DTEND;TZID=America/New_York:20260423T110000
DTSTAMP:20260423T040153
CREATED:20251201T004011Z
LAST-MODIFIED:20260307T021133Z
UID:10023829-1776938400-1776942000@bluewaterparent.com
SUMMARY:Great Start Playgroup - Avoca
DESCRIPTION:
URL:https://bluewaterparent.com/event/great-start-playgroup-emmett/2026-04-23/
LOCATION:Avoca Elementary\, 8751 Willow St.\, Avoca\, MI\, 48006\, United States
CATEGORIES:Playgroups
END:VEVENT
BEGIN:VEVENT
DTSTART;TZID=America/New_York:20260423T100000
DTEND;TZID=America/New_York:20260423T110000
DTSTAMP:20260423T040153
CREATED:20260307T014510Z
LAST-MODIFIED:20260307T014908Z
UID:10023568-1776938400-1776942000@bluewaterparent.com
SUMMARY:Great Start Playgroup - Marysville
DESCRIPTION:
URL:https://bluewaterparent.com/event/great-start-playgroup-marysville-3/2026-04-23/
LOCATION:St. Clair County RESA East Campus\, 1111 Delaware Avenue\, Marysville\, MI
CATEGORIES:Playgroups
END:VEVENT
BEGIN:VEVENT
DTSTART;TZID=America/New_York:20260423T110000
DTEND;TZID=America/New_York:20260423T113000
DTSTAMP:20260423T040153
CREATED:20260101T200511Z
LAST-MODIFIED:20260101T213808Z
UID:10021114-1776942000-1776943800@bluewaterparent.com
SUMMARY:Storytime - Algonac
DESCRIPTION:  \n 
URL:https://bluewaterparent.com/event/storytime-algonac-2/2026-04-23/
LOCATION:Algonac-Clay Library\, 2011 St Clair River Dr\, Algonac\, MI\, 48001\, United States
CATEGORIES:Playgroups
END:VEVENT
BEGIN:VEVENT
DTSTART;TZID=America/New_York:20260423T140000
DTEND;TZID=America/New_York:20260423T160000
DTSTAMP:20260423T040153
CREATED:20260124T195445Z
LAST-MODIFIED:20260124T195445Z
UID:10022690-1776952800-1776960000@bluewaterparent.com
SUMMARY:SCCLS Bookmobile- Palmer Park Manor Algonac
DESCRIPTION:1st Monday of the month: \n\nLynn Township Hall\, 13995 Yale Rd\, Yale (10 a.m. – noon)\nMiles Apartments\, 2300 Krafft Rd. Fort Gratiot (2 – 4 p.m)\n\n1st Tuesday of the month: \n\nBerlin Township Hall\, 740 Capac Rd. Allenton\, (11 a.m. – 1 p.m)\nChina Township Hall\, 4560 Indian Trail\, China\, MI 48054 (2 – 4 p.m)\n\n1st Wednesday of the month: \n\nIndian Trails Mobile Home Park\, 3650 Metcalf Rd. Burtchville Twp. (2 – 4 p.m)\n\n1st Friday of the month: \n\nPresbyterian Village of Lake Huron Woods\, 5221 Lakeshore Rd. Ft. Gratiot (10 a.m. – 2 p.m)\n\n2nd Wednesday of the month: \n\nCottrellville Township Hall\, 7008 Marsh Rd. Marine City (2 – 4 p.m)\n2nd Thursday of the month:\nPeru Village Senior Housing\, 718 Erie\, Port Huron (10 a.m. – noon)\nDesmond Village Senior Housing\, 919 7th St. Port Huron (1 – 3 p.m)\n\n3rd Wednesday of the month: \n\nBlue Water Lodge\, 2840 Keewahdin Rd. Ft. Gratiot Twp. (10 a.m. – noon)\n\n3rd Friday of the month: \n\nDutton Estates Apartments\, 1970 River Rd. St. Clair ( 2 – 4 p.m)\n\n4th Thursday of the month: \n\nVicksburg Halls\, 1100 New York Ave. Marysville ( 9 – 11 a.m)\nPalmer Park Manor\, 400 S. 3rd St.\, St. Clair (11:30 a.m. – 1:30 p.m) Algonquin Place\, 1205 St. Clair Blvd.\, Algonac (2 – 4 p.m.)
URL:https://bluewaterparent.com/event/sccls-bookmobile-palmer-park-manor-algonac/2026-04-23/
LOCATION:Palmer Park Manor\, 1205 St\, Clair Blvd\, Algonac\, MI
END:VEVENT
BEGIN:VEVENT
DTSTART;TZID=America/New_York:20260423T143000
DTEND;TZID=America/New_York:20260423T160000
DTSTAMP:20260423T040153
CREATED:20260101T200828Z
LAST-MODIFIED:20260101T200854Z
UID:10019608-1776954600-1776960000@bluewaterparent.com
SUMMARY:Teen Time - Yale
DESCRIPTION:
URL:https://bluewaterparent.com/event/teen-time-yale-3/2026-04-23/
LOCATION:Yale Library\, 2 Jones St\, Yale\, MI\, 48097\, United States
CATEGORIES:Teens
END:VEVENT
BEGIN:VEVENT
DTSTART;TZID=America/New_York:20260423T171500
DTEND;TZID=America/New_York:20260423T174500
DTSTAMP:20260423T040153
CREATED:20260328T183605Z
LAST-MODIFIED:20260328T183607Z
UID:10024804-1776964500-1776966300@bluewaterparent.com
SUMMARY:Little House on the Prairie Book Club for Kids
DESCRIPTION:  \n 
URL:https://bluewaterparent.com/event/little-house-on-the-prairie-book-club-for-kids-2-3/2026-04-23/
LOCATION:Capac Library\, 111 N Main St\, Capac\, MI\, 48014\, United States
CATEGORIES:Free
END:VEVENT
BEGIN:VEVENT
DTSTART;TZID=America/New_York:20260423T173000
DTEND;TZID=America/New_York:20260423T190000
DTSTAMP:20260423T040153
CREATED:20260328T185704Z
LAST-MODIFIED:20260401T014425Z
UID:10024902-1776965400-1776970800@bluewaterparent.com
SUMMARY:CRAFT: Earth Day Paper Mache
DESCRIPTION:Registation requested.
URL:https://bluewaterparent.com/event/craft-earth-day-paper-mache-2/
LOCATION:G. Lynn Campbell Library\, 1955 Allen Rd\, Kimball\, MI\, 48074\, United States
CATEGORIES:Free
END:VEVENT
BEGIN:VEVENT
DTSTART;TZID=America/New_York:20260423T180000
DTEND;TZID=America/New_York:20260423T190000
DTSTAMP:20260423T040153
CREATED:20260328T185723Z
LAST-MODIFIED:20260401T014507Z
UID:10024909-1776967200-1776970800@bluewaterparent.com
SUMMARY:Learn to play an instrument with Blue Water New Horizons Music
DESCRIPTION:Registation requested.
URL:https://bluewaterparent.com/event/learn-to-play-an-instrument-with-blue-water-new-horizons-music/
LOCATION:Don Dodge Auditorium\, 200 Grand River Ave.\, Port Huron\, MI\, 48060\, United States
CATEGORIES:Free
END:VEVENT
END:VCALENDAR