BEGIN:VCALENDAR
VERSION:2.0
PRODID:-//BlueWaterParent.com - ECPv6.15.20//NONSGML v1.0//EN
CALSCALE:GREGORIAN
METHOD:PUBLISH
X-WR-CALNAME:BlueWaterParent.com
X-ORIGINAL-URL:https://bluewaterparent.com
X-WR-CALDESC:Events for BlueWaterParent.com
REFRESH-INTERVAL;VALUE=DURATION:PT1H
X-Robots-Tag:noindex
X-PUBLISHED-TTL:PT1H
BEGIN:VTIMEZONE
TZID:America/New_York
BEGIN:DAYLIGHT
TZOFFSETFROM:-0500
TZOFFSETTO:-0400
TZNAME:EDT
DTSTART:20270314T070000
END:DAYLIGHT
BEGIN:STANDARD
TZOFFSETFROM:-0400
TZOFFSETTO:-0500
TZNAME:EST
DTSTART:20271107T060000
END:STANDARD
BEGIN:DAYLIGHT
TZOFFSETFROM:-0500
TZOFFSETTO:-0400
TZNAME:EDT
DTSTART:20280312T070000
END:DAYLIGHT
BEGIN:STANDARD
TZOFFSETFROM:-0400
TZOFFSETTO:-0500
TZNAME:EST
DTSTART:20281105T060000
END:STANDARD
BEGIN:DAYLIGHT
TZOFFSETFROM:-0500
TZOFFSETTO:-0400
TZNAME:EDT
DTSTART:20290311T070000
END:DAYLIGHT
BEGIN:STANDARD
TZOFFSETFROM:-0400
TZOFFSETTO:-0500
TZNAME:EST
DTSTART:20291104T060000
END:STANDARD
END:VTIMEZONE
BEGIN:VEVENT
DTSTART;TZID=America/New_York:20280627T180000
DTEND;TZID=America/New_York:20280627T183000
DTSTAMP:20260419T092415
CREATED:20260419T002148Z
LAST-MODIFIED:20260419T003520Z
UID:10025716-1845741600-1845743400@bluewaterparent.com
SUMMARY:Bedtime Storytime - Port Huron
DESCRIPTION:
URL:https://bluewaterparent.com/event/bedtime-storytime/2028-06-27/
LOCATION:Main Library\, 210 McMorran Blvd\, Port Huron\, MI\, 48060\, United States
CATEGORIES:Playgroups
END:VEVENT
BEGIN:VEVENT
DTSTART;TZID=America/New_York:20280628T100000
DTEND;TZID=America/New_York:20280628T110000
DTSTAMP:20260419T092415
CREATED:20260419T003159Z
LAST-MODIFIED:20260419T003555Z
UID:10025977-1845799200-1845802800@bluewaterparent.com
SUMMARY:Storytime - Port Huron
DESCRIPTION:
URL:https://bluewaterparent.com/event/storytime-port-huron/2028-06-28/
LOCATION:Main Library\, 210 McMorran Blvd\, Port Huron\, MI\, 48060\, United States
CATEGORIES:Playgroups
END:VEVENT
BEGIN:VEVENT
DTSTART;TZID=America/New_York:20280629T100000
DTEND;TZID=America/New_York:20280629T110000
DTSTAMP:20260419T092415
CREATED:20251201T004011Z
LAST-MODIFIED:20260307T021133Z
UID:10023943-1845885600-1845889200@bluewaterparent.com
SUMMARY:Great Start Playgroup - Avoca
DESCRIPTION:
URL:https://bluewaterparent.com/event/great-start-playgroup-emmett/2028-06-29/
LOCATION:Avoca Elementary\, 8751 Willow St.\, Avoca\, MI\, 48006\, United States
CATEGORIES:Playgroups
END:VEVENT
BEGIN:VEVENT
DTSTART;TZID=America/New_York:20280629T100000
DTEND;TZID=America/New_York:20280629T110000
DTSTAMP:20260419T092415
CREATED:20260307T014510Z
LAST-MODIFIED:20260307T014908Z
UID:10023682-1845885600-1845889200@bluewaterparent.com
SUMMARY:Great Start Playgroup - Marysville
DESCRIPTION:
URL:https://bluewaterparent.com/event/great-start-playgroup-marysville-3/2028-06-29/
LOCATION:St. Clair County RESA East Campus\, 1111 Delaware Avenue\, Marysville\, MI
CATEGORIES:Playgroups
END:VEVENT
BEGIN:VEVENT
DTSTART;TZID=America/New_York:20280629T110000
DTEND;TZID=America/New_York:20280629T113000
DTSTAMP:20260419T092415
CREATED:20260101T200511Z
LAST-MODIFIED:20260101T213808Z
UID:10021228-1845889200-1845891000@bluewaterparent.com
SUMMARY:Storytime - Algonac
DESCRIPTION:  \n 
URL:https://bluewaterparent.com/event/storytime-algonac-2/2028-06-29/
LOCATION:Algonac-Clay Library\, 2011 St Clair River Dr\, Algonac\, MI\, 48001\, United States
CATEGORIES:Playgroups
END:VEVENT
BEGIN:VEVENT
DTSTART;TZID=America/New_York:20280630T100000
DTEND;TZID=America/New_York:20280630T104500
DTSTAMP:20260419T092415
CREATED:20260101T202520Z
LAST-MODIFIED:20260131T171318Z
UID:10023369-1845972000-1845974700@bluewaterparent.com
SUMMARY:Family Storytime - Memphis
DESCRIPTION:
URL:https://bluewaterparent.com/event/family-storytime-capac-2-2/2028-06-30/
LOCATION:Memphis Library\, 34830 Potter St\, Memphis\, MI\, 48041\, United States
CATEGORIES:Playgroups
END:VEVENT
BEGIN:VEVENT
DTSTART;TZID=America/New_York:20280630T100000
DTEND;TZID=America/New_York:20280630T110000
DTSTAMP:20260419T092415
CREATED:20260419T003829Z
LAST-MODIFIED:20260419T003829Z
UID:10026238-1845972000-1845975600@bluewaterparent.com
SUMMARY:Storytime - Port Huron
DESCRIPTION:
URL:https://bluewaterparent.com/event/storytime-port-huron-2/2028-06-30/
LOCATION:Main Library\, 210 McMorran Blvd\, Port Huron\, MI\, 48060\, United States
CATEGORIES:Playgroups
END:VEVENT
BEGIN:VEVENT
DTSTART;TZID=America/New_York:20280630T110000
DTEND;TZID=America/New_York:20280630T120000
DTSTAMP:20260419T092415
CREATED:20260101T164906Z
LAST-MODIFIED:20260101T171615Z
UID:10017051-1845975600-1845979200@bluewaterparent.com
SUMMARY:Playgroup Pals
DESCRIPTION:
URL:https://bluewaterparent.com/event/playgroup-pals-2/2028-06-30/
LOCATION:Ira Township Library\, 7013 Meldrum Rd\, Ira Township\, Michigan\, 48023\, United States
CATEGORIES:Playgroups
END:VEVENT
BEGIN:VEVENT
DTSTART;TZID=America/New_York:20280703T100000
DTEND;TZID=America/New_York:20280703T110000
DTSTAMP:20260419T092415
CREATED:20260101T192653Z
LAST-MODIFIED:20260307T025320Z
UID:10024465-1846231200-1846234800@bluewaterparent.com
SUMMARY:Storytime - St. Clair
DESCRIPTION:From SCCLS – Join us for a fun and educational blend of stories\, crafts\, movement activities\, and songs.
URL:https://bluewaterparent.com/event/storytime-st-clair/2028-07-03/
LOCATION:St. Clair Library\, 310 S. 2nd Street\, St. Clair\, MI
CATEGORIES:Free,Playgroups
END:VEVENT
BEGIN:VEVENT
DTSTART;TZID=America/New_York:20280703T100000
DTEND;TZID=America/New_York:20280703T110000
DTSTAMP:20260419T092415
CREATED:20260125T194928Z
LAST-MODIFIED:20260125T194929Z
UID:10017574-1846231200-1846234800@bluewaterparent.com
SUMMARY:Storytime - Marysville
DESCRIPTION:From SCCLS – Preschoolers and their adults: Join us at the library for a happy blend of stories\, rhymes\, music and movement\, followed by a creative activity time.
URL:https://bluewaterparent.com/event/storytime-marysville-3/2028-07-03/
LOCATION:Marysville Library\, 1175 Delaware\, Marysville\, MI
CATEGORIES:Free,Playgroups
END:VEVENT
BEGIN:VEVENT
DTSTART;TZID=America/New_York:20280703T100000
DTEND;TZID=America/New_York:20280703T110000
DTSTAMP:20260419T092415
CREATED:20260307T142323Z
LAST-MODIFIED:20260307T142325Z
UID:10017313-1846231200-1846234800@bluewaterparent.com
SUMMARY:Storytime - Yale
DESCRIPTION:
URL:https://bluewaterparent.com/event/storytime-yale-2-2-2/2028-07-03/
LOCATION:Yale Library\, 2 Jones St\, Yale\, MI\, 48097\, United States
CATEGORIES:Free,Playgroups
END:VEVENT
BEGIN:VEVENT
DTSTART;TZID=America/New_York:20280703T103000
DTEND;TZID=America/New_York:20280703T110000
DTSTAMP:20260419T092415
CREATED:20260401T010404Z
LAST-MODIFIED:20260401T010407Z
UID:10025078-1846233000-1846234800@bluewaterparent.com
SUMMARY:Storytime - Burtchville
DESCRIPTION:
URL:https://bluewaterparent.com/event/storytime-burtchville-3-2/2028-07-03/
LOCATION:Burtchville Library\, 7093 2nd St\, Lakeport\, MI\, 48059\, United States
CATEGORIES:Free,Playgroups
END:VEVENT
BEGIN:VEVENT
DTSTART;TZID=America/New_York:20280703T103000
DTEND;TZID=America/New_York:20280703T113000
DTSTAMP:20260419T092415
CREATED:20260321T165751Z
LAST-MODIFIED:20260321T165752Z
UID:10024723-1846233000-1846236600@bluewaterparent.com
SUMMARY:Storytime - Marine City
DESCRIPTION:From SCCLS – Preschoolers and their adults join us at the library for a happy blend of stories and activities.
URL:https://bluewaterparent.com/event/storytime-marine-city-2-2/2028-07-03/
LOCATION:Marine City Library\, 300 S Parker St\, Marine City\, MI\, 48039\, United States
CATEGORIES:Free,Playgroups
END:VEVENT
BEGIN:VEVENT
DTSTART;TZID=America/New_York:20280704T100000
DTEND;TZID=America/New_York:20280704T103000
DTSTAMP:20260419T092415
CREATED:20260418T235804Z
LAST-MODIFIED:20260419T000903Z
UID:10025456-1846317600-1846319400@bluewaterparent.com
SUMMARY:Rhythm and Rhyme - Port Huron
DESCRIPTION:For children ages 0-3 and their caregivers.
URL:https://bluewaterparent.com/event/rhythm-and-rhyme-port-huron/2028-07-04/
LOCATION:Main Library\, 210 McMorran Blvd\, Port Huron\, MI\, 48060\, United States
CATEGORIES:Playgroups
END:VEVENT
BEGIN:VEVENT
DTSTART;TZID=America/New_York:20280704T180000
DTEND;TZID=America/New_York:20280704T183000
DTSTAMP:20260419T092415
CREATED:20260419T002148Z
LAST-MODIFIED:20260419T003520Z
UID:10025717-1846346400-1846348200@bluewaterparent.com
SUMMARY:Bedtime Storytime - Port Huron
DESCRIPTION:
URL:https://bluewaterparent.com/event/bedtime-storytime/2028-07-04/
LOCATION:Main Library\, 210 McMorran Blvd\, Port Huron\, MI\, 48060\, United States
CATEGORIES:Playgroups
END:VEVENT
BEGIN:VEVENT
DTSTART;TZID=America/New_York:20280705T100000
DTEND;TZID=America/New_York:20280705T110000
DTSTAMP:20260419T092415
CREATED:20260419T003159Z
LAST-MODIFIED:20260419T003555Z
UID:10025978-1846404000-1846407600@bluewaterparent.com
SUMMARY:Storytime - Port Huron
DESCRIPTION:
URL:https://bluewaterparent.com/event/storytime-port-huron/2028-07-05/
LOCATION:Main Library\, 210 McMorran Blvd\, Port Huron\, MI\, 48060\, United States
CATEGORIES:Playgroups
END:VEVENT
BEGIN:VEVENT
DTSTART;TZID=America/New_York:20280706T100000
DTEND;TZID=America/New_York:20280706T110000
DTSTAMP:20260419T092415
CREATED:20251201T004011Z
LAST-MODIFIED:20260307T021133Z
UID:10023944-1846490400-1846494000@bluewaterparent.com
SUMMARY:Great Start Playgroup - Avoca
DESCRIPTION:
URL:https://bluewaterparent.com/event/great-start-playgroup-emmett/2028-07-06/
LOCATION:Avoca Elementary\, 8751 Willow St.\, Avoca\, MI\, 48006\, United States
CATEGORIES:Playgroups
END:VEVENT
BEGIN:VEVENT
DTSTART;TZID=America/New_York:20280706T100000
DTEND;TZID=America/New_York:20280706T110000
DTSTAMP:20260419T092415
CREATED:20260307T014510Z
LAST-MODIFIED:20260307T014908Z
UID:10023683-1846490400-1846494000@bluewaterparent.com
SUMMARY:Great Start Playgroup - Marysville
DESCRIPTION:
URL:https://bluewaterparent.com/event/great-start-playgroup-marysville-3/2028-07-06/
LOCATION:St. Clair County RESA East Campus\, 1111 Delaware Avenue\, Marysville\, MI
CATEGORIES:Playgroups
END:VEVENT
BEGIN:VEVENT
DTSTART;TZID=America/New_York:20280706T110000
DTEND;TZID=America/New_York:20280706T113000
DTSTAMP:20260419T092415
CREATED:20260101T200511Z
LAST-MODIFIED:20260101T213808Z
UID:10021229-1846494000-1846495800@bluewaterparent.com
SUMMARY:Storytime - Algonac
DESCRIPTION:  \n 
URL:https://bluewaterparent.com/event/storytime-algonac-2/2028-07-06/
LOCATION:Algonac-Clay Library\, 2011 St Clair River Dr\, Algonac\, MI\, 48001\, United States
CATEGORIES:Playgroups
END:VEVENT
BEGIN:VEVENT
DTSTART;TZID=America/New_York:20280707T100000
DTEND;TZID=America/New_York:20280707T104500
DTSTAMP:20260419T092415
CREATED:20260101T202520Z
LAST-MODIFIED:20260131T171318Z
UID:10023370-1846576800-1846579500@bluewaterparent.com
SUMMARY:Family Storytime - Memphis
DESCRIPTION:
URL:https://bluewaterparent.com/event/family-storytime-capac-2-2/2028-07-07/
LOCATION:Memphis Library\, 34830 Potter St\, Memphis\, MI\, 48041\, United States
CATEGORIES:Playgroups
END:VEVENT
BEGIN:VEVENT
DTSTART;TZID=America/New_York:20280707T100000
DTEND;TZID=America/New_York:20280707T110000
DTSTAMP:20260419T092415
CREATED:20260419T003829Z
LAST-MODIFIED:20260419T003829Z
UID:10026239-1846576800-1846580400@bluewaterparent.com
SUMMARY:Storytime - Port Huron
DESCRIPTION:
URL:https://bluewaterparent.com/event/storytime-port-huron-2/2028-07-07/
LOCATION:Main Library\, 210 McMorran Blvd\, Port Huron\, MI\, 48060\, United States
CATEGORIES:Playgroups
END:VEVENT
BEGIN:VEVENT
DTSTART;TZID=America/New_York:20280707T110000
DTEND;TZID=America/New_York:20280707T120000
DTSTAMP:20260419T092415
CREATED:20260101T164906Z
LAST-MODIFIED:20260101T171615Z
UID:10017052-1846580400-1846584000@bluewaterparent.com
SUMMARY:Playgroup Pals
DESCRIPTION:
URL:https://bluewaterparent.com/event/playgroup-pals-2/2028-07-07/
LOCATION:Ira Township Library\, 7013 Meldrum Rd\, Ira Township\, Michigan\, 48023\, United States
CATEGORIES:Playgroups
END:VEVENT
BEGIN:VEVENT
DTSTART;TZID=America/New_York:20280710T100000
DTEND;TZID=America/New_York:20280710T110000
DTSTAMP:20260419T092415
CREATED:20260101T192653Z
LAST-MODIFIED:20260307T025320Z
UID:10024466-1846836000-1846839600@bluewaterparent.com
SUMMARY:Storytime - St. Clair
DESCRIPTION:From SCCLS – Join us for a fun and educational blend of stories\, crafts\, movement activities\, and songs.
URL:https://bluewaterparent.com/event/storytime-st-clair/2028-07-10/
LOCATION:St. Clair Library\, 310 S. 2nd Street\, St. Clair\, MI
CATEGORIES:Free,Playgroups
END:VEVENT
BEGIN:VEVENT
DTSTART;TZID=America/New_York:20280710T100000
DTEND;TZID=America/New_York:20280710T110000
DTSTAMP:20260419T092415
CREATED:20260125T194928Z
LAST-MODIFIED:20260125T194929Z
UID:10017575-1846836000-1846839600@bluewaterparent.com
SUMMARY:Storytime - Marysville
DESCRIPTION:From SCCLS – Preschoolers and their adults: Join us at the library for a happy blend of stories\, rhymes\, music and movement\, followed by a creative activity time.
URL:https://bluewaterparent.com/event/storytime-marysville-3/2028-07-10/
LOCATION:Marysville Library\, 1175 Delaware\, Marysville\, MI
CATEGORIES:Free,Playgroups
END:VEVENT
BEGIN:VEVENT
DTSTART;TZID=America/New_York:20280710T100000
DTEND;TZID=America/New_York:20280710T110000
DTSTAMP:20260419T092415
CREATED:20260307T142323Z
LAST-MODIFIED:20260307T142325Z
UID:10017314-1846836000-1846839600@bluewaterparent.com
SUMMARY:Storytime - Yale
DESCRIPTION:
URL:https://bluewaterparent.com/event/storytime-yale-2-2-2/2028-07-10/
LOCATION:Yale Library\, 2 Jones St\, Yale\, MI\, 48097\, United States
CATEGORIES:Free,Playgroups
END:VEVENT
BEGIN:VEVENT
DTSTART;TZID=America/New_York:20280710T103000
DTEND;TZID=America/New_York:20280710T110000
DTSTAMP:20260419T092415
CREATED:20260401T010404Z
LAST-MODIFIED:20260401T010407Z
UID:10025079-1846837800-1846839600@bluewaterparent.com
SUMMARY:Storytime - Burtchville
DESCRIPTION:
URL:https://bluewaterparent.com/event/storytime-burtchville-3-2/2028-07-10/
LOCATION:Burtchville Library\, 7093 2nd St\, Lakeport\, MI\, 48059\, United States
CATEGORIES:Free,Playgroups
END:VEVENT
BEGIN:VEVENT
DTSTART;TZID=America/New_York:20280710T103000
DTEND;TZID=America/New_York:20280710T113000
DTSTAMP:20260419T092415
CREATED:20260321T165751Z
LAST-MODIFIED:20260321T165752Z
UID:10017836-1846837800-1846841400@bluewaterparent.com
SUMMARY:Storytime - Marine City
DESCRIPTION:From SCCLS – Preschoolers and their adults join us at the library for a happy blend of stories and activities.
URL:https://bluewaterparent.com/event/storytime-marine-city-2-2/2028-07-10/
LOCATION:Marine City Library\, 300 S Parker St\, Marine City\, MI\, 48039\, United States
CATEGORIES:Free,Playgroups
END:VEVENT
BEGIN:VEVENT
DTSTART;TZID=America/New_York:20280711T100000
DTEND;TZID=America/New_York:20280711T103000
DTSTAMP:20260419T092415
CREATED:20260418T235804Z
LAST-MODIFIED:20260419T000903Z
UID:10025457-1846922400-1846924200@bluewaterparent.com
SUMMARY:Rhythm and Rhyme - Port Huron
DESCRIPTION:For children ages 0-3 and their caregivers.
URL:https://bluewaterparent.com/event/rhythm-and-rhyme-port-huron/2028-07-11/
LOCATION:Main Library\, 210 McMorran Blvd\, Port Huron\, MI\, 48060\, United States
CATEGORIES:Playgroups
END:VEVENT
BEGIN:VEVENT
DTSTART;TZID=America/New_York:20280711T180000
DTEND;TZID=America/New_York:20280711T183000
DTSTAMP:20260419T092415
CREATED:20260419T002148Z
LAST-MODIFIED:20260419T003520Z
UID:10025718-1846951200-1846953000@bluewaterparent.com
SUMMARY:Bedtime Storytime - Port Huron
DESCRIPTION:
URL:https://bluewaterparent.com/event/bedtime-storytime/2028-07-11/
LOCATION:Main Library\, 210 McMorran Blvd\, Port Huron\, MI\, 48060\, United States
CATEGORIES:Playgroups
END:VEVENT
BEGIN:VEVENT
DTSTART;TZID=America/New_York:20280712T100000
DTEND;TZID=America/New_York:20280712T110000
DTSTAMP:20260419T092415
CREATED:20260419T003159Z
LAST-MODIFIED:20260419T003555Z
UID:10025979-1847008800-1847012400@bluewaterparent.com
SUMMARY:Storytime - Port Huron
DESCRIPTION:
URL:https://bluewaterparent.com/event/storytime-port-huron/2028-07-12/
LOCATION:Main Library\, 210 McMorran Blvd\, Port Huron\, MI\, 48060\, United States
CATEGORIES:Playgroups
END:VEVENT
END:VCALENDAR