BEGIN:VCALENDAR
VERSION:2.0
PRODID:-//BlueWaterParent.com - ECPv6.15.20//NONSGML v1.0//EN
CALSCALE:GREGORIAN
METHOD:PUBLISH
X-WR-CALNAME:BlueWaterParent.com
X-ORIGINAL-URL:https://bluewaterparent.com
X-WR-CALDESC:Events for BlueWaterParent.com
REFRESH-INTERVAL;VALUE=DURATION:PT1H
X-Robots-Tag:noindex
X-PUBLISHED-TTL:PT1H
BEGIN:VTIMEZONE
TZID:America/New_York
BEGIN:DAYLIGHT
TZOFFSETFROM:-0500
TZOFFSETTO:-0400
TZNAME:EDT
DTSTART:20270314T070000
END:DAYLIGHT
BEGIN:STANDARD
TZOFFSETFROM:-0400
TZOFFSETTO:-0500
TZNAME:EST
DTSTART:20271107T060000
END:STANDARD
BEGIN:DAYLIGHT
TZOFFSETFROM:-0500
TZOFFSETTO:-0400
TZNAME:EDT
DTSTART:20280312T070000
END:DAYLIGHT
BEGIN:STANDARD
TZOFFSETFROM:-0400
TZOFFSETTO:-0500
TZNAME:EST
DTSTART:20281105T060000
END:STANDARD
BEGIN:DAYLIGHT
TZOFFSETFROM:-0500
TZOFFSETTO:-0400
TZNAME:EDT
DTSTART:20290311T070000
END:DAYLIGHT
BEGIN:STANDARD
TZOFFSETFROM:-0400
TZOFFSETTO:-0500
TZNAME:EST
DTSTART:20291104T060000
END:STANDARD
END:VTIMEZONE
BEGIN:VEVENT
DTSTART;TZID=America/New_York:20280911T100000
DTEND;TZID=America/New_York:20280911T110000
DTSTAMP:20260419T145638
CREATED:20260307T142323Z
LAST-MODIFIED:20260307T142325Z
UID:10017323-1852279200-1852282800@bluewaterparent.com
SUMMARY:Storytime - Yale
DESCRIPTION:
URL:https://bluewaterparent.com/event/storytime-yale-2-2-2/2028-09-11/
LOCATION:Yale Library\, 2 Jones St\, Yale\, MI\, 48097\, United States
CATEGORIES:Free,Playgroups
END:VEVENT
BEGIN:VEVENT
DTSTART;TZID=America/New_York:20280911T103000
DTEND;TZID=America/New_York:20280911T110000
DTSTAMP:20260419T145638
CREATED:20260401T010404Z
LAST-MODIFIED:20260401T010407Z
UID:10025088-1852281000-1852282800@bluewaterparent.com
SUMMARY:Storytime - Burtchville
DESCRIPTION:
URL:https://bluewaterparent.com/event/storytime-burtchville-3-2/2028-09-11/
LOCATION:Burtchville Library\, 7093 2nd St\, Lakeport\, MI\, 48059\, United States
CATEGORIES:Free,Playgroups
END:VEVENT
BEGIN:VEVENT
DTSTART;TZID=America/New_York:20280911T103000
DTEND;TZID=America/New_York:20280911T113000
DTSTAMP:20260419T145638
CREATED:20260321T165751Z
LAST-MODIFIED:20260321T165752Z
UID:10024728-1852281000-1852284600@bluewaterparent.com
SUMMARY:Storytime - Marine City
DESCRIPTION:From SCCLS – Preschoolers and their adults join us at the library for a happy blend of stories and activities.
URL:https://bluewaterparent.com/event/storytime-marine-city-2-2/2028-09-11/
LOCATION:Marine City Library\, 300 S Parker St\, Marine City\, MI\, 48039\, United States
CATEGORIES:Free,Playgroups
END:VEVENT
BEGIN:VEVENT
DTSTART;TZID=America/New_York:20280912T100000
DTEND;TZID=America/New_York:20280912T103000
DTSTAMP:20260419T145638
CREATED:20260418T235804Z
LAST-MODIFIED:20260419T000903Z
UID:10025466-1852365600-1852367400@bluewaterparent.com
SUMMARY:Rhythm and Rhyme - Port Huron
DESCRIPTION:For children ages 0-3 and their caregivers.
URL:https://bluewaterparent.com/event/rhythm-and-rhyme-port-huron/2028-09-12/
LOCATION:Main Library\, 210 McMorran Blvd\, Port Huron\, MI\, 48060\, United States
CATEGORIES:Playgroups
END:VEVENT
BEGIN:VEVENT
DTSTART;TZID=America/New_York:20280912T180000
DTEND;TZID=America/New_York:20280912T183000
DTSTAMP:20260419T145638
CREATED:20260419T002148Z
LAST-MODIFIED:20260419T003520Z
UID:10025727-1852394400-1852396200@bluewaterparent.com
SUMMARY:Bedtime Storytime - Port Huron
DESCRIPTION:
URL:https://bluewaterparent.com/event/bedtime-storytime/2028-09-12/
LOCATION:Main Library\, 210 McMorran Blvd\, Port Huron\, MI\, 48060\, United States
CATEGORIES:Playgroups
END:VEVENT
BEGIN:VEVENT
DTSTART;TZID=America/New_York:20280913T100000
DTEND;TZID=America/New_York:20280913T110000
DTSTAMP:20260419T145638
CREATED:20260419T003159Z
LAST-MODIFIED:20260419T003555Z
UID:10025988-1852452000-1852455600@bluewaterparent.com
SUMMARY:Storytime - Port Huron
DESCRIPTION:
URL:https://bluewaterparent.com/event/storytime-port-huron/2028-09-13/
LOCATION:Main Library\, 210 McMorran Blvd\, Port Huron\, MI\, 48060\, United States
CATEGORIES:Playgroups
END:VEVENT
BEGIN:VEVENT
DTSTART;TZID=America/New_York:20280914T100000
DTEND;TZID=America/New_York:20280914T110000
DTSTAMP:20260419T145638
CREATED:20251201T004011Z
LAST-MODIFIED:20260307T021133Z
UID:10023954-1852538400-1852542000@bluewaterparent.com
SUMMARY:Great Start Playgroup - Avoca
DESCRIPTION:
URL:https://bluewaterparent.com/event/great-start-playgroup-emmett/2028-09-14/
LOCATION:Avoca Elementary\, 8751 Willow St.\, Avoca\, MI\, 48006\, United States
CATEGORIES:Playgroups
END:VEVENT
BEGIN:VEVENT
DTSTART;TZID=America/New_York:20280914T100000
DTEND;TZID=America/New_York:20280914T110000
DTSTAMP:20260419T145638
CREATED:20260307T014510Z
LAST-MODIFIED:20260307T014908Z
UID:10023693-1852538400-1852542000@bluewaterparent.com
SUMMARY:Great Start Playgroup - Marysville
DESCRIPTION:
URL:https://bluewaterparent.com/event/great-start-playgroup-marysville-3/2028-09-14/
LOCATION:St. Clair County RESA East Campus\, 1111 Delaware Avenue\, Marysville\, MI
CATEGORIES:Playgroups
END:VEVENT
BEGIN:VEVENT
DTSTART;TZID=America/New_York:20280914T110000
DTEND;TZID=America/New_York:20280914T113000
DTSTAMP:20260419T145638
CREATED:20260101T200511Z
LAST-MODIFIED:20260101T213808Z
UID:10021239-1852542000-1852543800@bluewaterparent.com
SUMMARY:Storytime - Algonac
DESCRIPTION:  \n 
URL:https://bluewaterparent.com/event/storytime-algonac-2/2028-09-14/
LOCATION:Algonac-Clay Library\, 2011 St Clair River Dr\, Algonac\, MI\, 48001\, United States
CATEGORIES:Playgroups
END:VEVENT
BEGIN:VEVENT
DTSTART;TZID=America/New_York:20280915T100000
DTEND;TZID=America/New_York:20280915T104500
DTSTAMP:20260419T145638
CREATED:20260101T202520Z
LAST-MODIFIED:20260131T171318Z
UID:10023380-1852624800-1852627500@bluewaterparent.com
SUMMARY:Family Storytime - Memphis
DESCRIPTION:
URL:https://bluewaterparent.com/event/family-storytime-capac-2-2/2028-09-15/
LOCATION:Memphis Library\, 34830 Potter St\, Memphis\, MI\, 48041\, United States
CATEGORIES:Playgroups
END:VEVENT
BEGIN:VEVENT
DTSTART;TZID=America/New_York:20280915T100000
DTEND;TZID=America/New_York:20280915T110000
DTSTAMP:20260419T145638
CREATED:20260419T003829Z
LAST-MODIFIED:20260419T003829Z
UID:10026249-1852624800-1852628400@bluewaterparent.com
SUMMARY:Storytime - Port Huron
DESCRIPTION:
URL:https://bluewaterparent.com/event/storytime-port-huron-2/2028-09-15/
LOCATION:Main Library\, 210 McMorran Blvd\, Port Huron\, MI\, 48060\, United States
CATEGORIES:Playgroups
END:VEVENT
BEGIN:VEVENT
DTSTART;TZID=America/New_York:20280915T110000
DTEND;TZID=America/New_York:20280915T120000
DTSTAMP:20260419T145638
CREATED:20260101T164906Z
LAST-MODIFIED:20260101T171615Z
UID:10017062-1852628400-1852632000@bluewaterparent.com
SUMMARY:Playgroup Pals
DESCRIPTION:
URL:https://bluewaterparent.com/event/playgroup-pals-2/2028-09-15/
LOCATION:Ira Township Library\, 7013 Meldrum Rd\, Ira Township\, Michigan\, 48023\, United States
CATEGORIES:Playgroups
END:VEVENT
BEGIN:VEVENT
DTSTART;TZID=America/New_York:20280918T100000
DTEND;TZID=America/New_York:20280918T110000
DTSTAMP:20260419T145638
CREATED:20260101T192653Z
LAST-MODIFIED:20260307T025320Z
UID:10024476-1852884000-1852887600@bluewaterparent.com
SUMMARY:Storytime - St. Clair
DESCRIPTION:From SCCLS – Join us for a fun and educational blend of stories\, crafts\, movement activities\, and songs.
URL:https://bluewaterparent.com/event/storytime-st-clair/2028-09-18/
LOCATION:St. Clair Library\, 310 S. 2nd Street\, St. Clair\, MI
CATEGORIES:Free,Playgroups
END:VEVENT
BEGIN:VEVENT
DTSTART;TZID=America/New_York:20280918T100000
DTEND;TZID=America/New_York:20280918T110000
DTSTAMP:20260419T145638
CREATED:20260125T194928Z
LAST-MODIFIED:20260125T194929Z
UID:10017585-1852884000-1852887600@bluewaterparent.com
SUMMARY:Storytime - Marysville
DESCRIPTION:From SCCLS – Preschoolers and their adults: Join us at the library for a happy blend of stories\, rhymes\, music and movement\, followed by a creative activity time.
URL:https://bluewaterparent.com/event/storytime-marysville-3/2028-09-18/
LOCATION:Marysville Library\, 1175 Delaware\, Marysville\, MI
CATEGORIES:Free,Playgroups
END:VEVENT
BEGIN:VEVENT
DTSTART;TZID=America/New_York:20280918T100000
DTEND;TZID=America/New_York:20280918T110000
DTSTAMP:20260419T145638
CREATED:20260307T142323Z
LAST-MODIFIED:20260307T142325Z
UID:10017324-1852884000-1852887600@bluewaterparent.com
SUMMARY:Storytime - Yale
DESCRIPTION:
URL:https://bluewaterparent.com/event/storytime-yale-2-2-2/2028-09-18/
LOCATION:Yale Library\, 2 Jones St\, Yale\, MI\, 48097\, United States
CATEGORIES:Free,Playgroups
END:VEVENT
BEGIN:VEVENT
DTSTART;TZID=America/New_York:20280918T103000
DTEND;TZID=America/New_York:20280918T110000
DTSTAMP:20260419T145638
CREATED:20260401T010404Z
LAST-MODIFIED:20260401T010407Z
UID:10025089-1852885800-1852887600@bluewaterparent.com
SUMMARY:Storytime - Burtchville
DESCRIPTION:
URL:https://bluewaterparent.com/event/storytime-burtchville-3-2/2028-09-18/
LOCATION:Burtchville Library\, 7093 2nd St\, Lakeport\, MI\, 48059\, United States
CATEGORIES:Free,Playgroups
END:VEVENT
BEGIN:VEVENT
DTSTART;TZID=America/New_York:20280918T103000
DTEND;TZID=America/New_York:20280918T113000
DTSTAMP:20260419T145638
CREATED:20260321T165751Z
LAST-MODIFIED:20260321T165752Z
UID:10017846-1852885800-1852889400@bluewaterparent.com
SUMMARY:Storytime - Marine City
DESCRIPTION:From SCCLS – Preschoolers and their adults join us at the library for a happy blend of stories and activities.
URL:https://bluewaterparent.com/event/storytime-marine-city-2-2/2028-09-18/
LOCATION:Marine City Library\, 300 S Parker St\, Marine City\, MI\, 48039\, United States
CATEGORIES:Free,Playgroups
END:VEVENT
BEGIN:VEVENT
DTSTART;TZID=America/New_York:20280919T100000
DTEND;TZID=America/New_York:20280919T103000
DTSTAMP:20260419T145638
CREATED:20260418T235804Z
LAST-MODIFIED:20260419T000903Z
UID:10025467-1852970400-1852972200@bluewaterparent.com
SUMMARY:Rhythm and Rhyme - Port Huron
DESCRIPTION:For children ages 0-3 and their caregivers.
URL:https://bluewaterparent.com/event/rhythm-and-rhyme-port-huron/2028-09-19/
LOCATION:Main Library\, 210 McMorran Blvd\, Port Huron\, MI\, 48060\, United States
CATEGORIES:Playgroups
END:VEVENT
BEGIN:VEVENT
DTSTART;TZID=America/New_York:20280919T180000
DTEND;TZID=America/New_York:20280919T183000
DTSTAMP:20260419T145638
CREATED:20260419T002148Z
LAST-MODIFIED:20260419T003520Z
UID:10025728-1852999200-1853001000@bluewaterparent.com
SUMMARY:Bedtime Storytime - Port Huron
DESCRIPTION:
URL:https://bluewaterparent.com/event/bedtime-storytime/2028-09-19/
LOCATION:Main Library\, 210 McMorran Blvd\, Port Huron\, MI\, 48060\, United States
CATEGORIES:Playgroups
END:VEVENT
BEGIN:VEVENT
DTSTART;TZID=America/New_York:20280920T100000
DTEND;TZID=America/New_York:20280920T110000
DTSTAMP:20260419T145638
CREATED:20260419T003159Z
LAST-MODIFIED:20260419T003555Z
UID:10025989-1853056800-1853060400@bluewaterparent.com
SUMMARY:Storytime - Port Huron
DESCRIPTION:
URL:https://bluewaterparent.com/event/storytime-port-huron/2028-09-20/
LOCATION:Main Library\, 210 McMorran Blvd\, Port Huron\, MI\, 48060\, United States
CATEGORIES:Playgroups
END:VEVENT
BEGIN:VEVENT
DTSTART;TZID=America/New_York:20280921T100000
DTEND;TZID=America/New_York:20280921T110000
DTSTAMP:20260419T145638
CREATED:20251201T004011Z
LAST-MODIFIED:20260307T021133Z
UID:10023955-1853143200-1853146800@bluewaterparent.com
SUMMARY:Great Start Playgroup - Avoca
DESCRIPTION:
URL:https://bluewaterparent.com/event/great-start-playgroup-emmett/2028-09-21/
LOCATION:Avoca Elementary\, 8751 Willow St.\, Avoca\, MI\, 48006\, United States
CATEGORIES:Playgroups
END:VEVENT
BEGIN:VEVENT
DTSTART;TZID=America/New_York:20280921T100000
DTEND;TZID=America/New_York:20280921T110000
DTSTAMP:20260419T145638
CREATED:20260307T014510Z
LAST-MODIFIED:20260307T014908Z
UID:10023694-1853143200-1853146800@bluewaterparent.com
SUMMARY:Great Start Playgroup - Marysville
DESCRIPTION:
URL:https://bluewaterparent.com/event/great-start-playgroup-marysville-3/2028-09-21/
LOCATION:St. Clair County RESA East Campus\, 1111 Delaware Avenue\, Marysville\, MI
CATEGORIES:Playgroups
END:VEVENT
BEGIN:VEVENT
DTSTART;TZID=America/New_York:20280921T110000
DTEND;TZID=America/New_York:20280921T113000
DTSTAMP:20260419T145638
CREATED:20260101T200511Z
LAST-MODIFIED:20260101T213808Z
UID:10021240-1853146800-1853148600@bluewaterparent.com
SUMMARY:Storytime - Algonac
DESCRIPTION:  \n 
URL:https://bluewaterparent.com/event/storytime-algonac-2/2028-09-21/
LOCATION:Algonac-Clay Library\, 2011 St Clair River Dr\, Algonac\, MI\, 48001\, United States
CATEGORIES:Playgroups
END:VEVENT
BEGIN:VEVENT
DTSTART;TZID=America/New_York:20280922T100000
DTEND;TZID=America/New_York:20280922T104500
DTSTAMP:20260419T145638
CREATED:20260101T202520Z
LAST-MODIFIED:20260131T171318Z
UID:10023381-1853229600-1853232300@bluewaterparent.com
SUMMARY:Family Storytime - Memphis
DESCRIPTION:
URL:https://bluewaterparent.com/event/family-storytime-capac-2-2/2028-09-22/
LOCATION:Memphis Library\, 34830 Potter St\, Memphis\, MI\, 48041\, United States
CATEGORIES:Playgroups
END:VEVENT
BEGIN:VEVENT
DTSTART;TZID=America/New_York:20280922T100000
DTEND;TZID=America/New_York:20280922T110000
DTSTAMP:20260419T145638
CREATED:20260419T003829Z
LAST-MODIFIED:20260419T003829Z
UID:10026250-1853229600-1853233200@bluewaterparent.com
SUMMARY:Storytime - Port Huron
DESCRIPTION:
URL:https://bluewaterparent.com/event/storytime-port-huron-2/2028-09-22/
LOCATION:Main Library\, 210 McMorran Blvd\, Port Huron\, MI\, 48060\, United States
CATEGORIES:Playgroups
END:VEVENT
BEGIN:VEVENT
DTSTART;TZID=America/New_York:20280922T110000
DTEND;TZID=America/New_York:20280922T120000
DTSTAMP:20260419T145638
CREATED:20260101T164906Z
LAST-MODIFIED:20260101T171615Z
UID:10017063-1853233200-1853236800@bluewaterparent.com
SUMMARY:Playgroup Pals
DESCRIPTION:
URL:https://bluewaterparent.com/event/playgroup-pals-2/2028-09-22/
LOCATION:Ira Township Library\, 7013 Meldrum Rd\, Ira Township\, Michigan\, 48023\, United States
CATEGORIES:Playgroups
END:VEVENT
BEGIN:VEVENT
DTSTART;TZID=America/New_York:20280925T100000
DTEND;TZID=America/New_York:20280925T110000
DTSTAMP:20260419T145638
CREATED:20260101T192653Z
LAST-MODIFIED:20260307T025320Z
UID:10024477-1853488800-1853492400@bluewaterparent.com
SUMMARY:Storytime - St. Clair
DESCRIPTION:From SCCLS – Join us for a fun and educational blend of stories\, crafts\, movement activities\, and songs.
URL:https://bluewaterparent.com/event/storytime-st-clair/2028-09-25/
LOCATION:St. Clair Library\, 310 S. 2nd Street\, St. Clair\, MI
CATEGORIES:Free,Playgroups
END:VEVENT
BEGIN:VEVENT
DTSTART;TZID=America/New_York:20280925T100000
DTEND;TZID=America/New_York:20280925T110000
DTSTAMP:20260419T145638
CREATED:20260125T194928Z
LAST-MODIFIED:20260125T194929Z
UID:10017586-1853488800-1853492400@bluewaterparent.com
SUMMARY:Storytime - Marysville
DESCRIPTION:From SCCLS – Preschoolers and their adults: Join us at the library for a happy blend of stories\, rhymes\, music and movement\, followed by a creative activity time.
URL:https://bluewaterparent.com/event/storytime-marysville-3/2028-09-25/
LOCATION:Marysville Library\, 1175 Delaware\, Marysville\, MI
CATEGORIES:Free,Playgroups
END:VEVENT
BEGIN:VEVENT
DTSTART;TZID=America/New_York:20280925T100000
DTEND;TZID=America/New_York:20280925T110000
DTSTAMP:20260419T145638
CREATED:20260307T142323Z
LAST-MODIFIED:20260307T142325Z
UID:10017325-1853488800-1853492400@bluewaterparent.com
SUMMARY:Storytime - Yale
DESCRIPTION:
URL:https://bluewaterparent.com/event/storytime-yale-2-2-2/2028-09-25/
LOCATION:Yale Library\, 2 Jones St\, Yale\, MI\, 48097\, United States
CATEGORIES:Free,Playgroups
END:VEVENT
BEGIN:VEVENT
DTSTART;TZID=America/New_York:20280925T103000
DTEND;TZID=America/New_York:20280925T110000
DTSTAMP:20260419T145638
CREATED:20260401T010404Z
LAST-MODIFIED:20260401T010407Z
UID:10025090-1853490600-1853492400@bluewaterparent.com
SUMMARY:Storytime - Burtchville
DESCRIPTION:
URL:https://bluewaterparent.com/event/storytime-burtchville-3-2/2028-09-25/
LOCATION:Burtchville Library\, 7093 2nd St\, Lakeport\, MI\, 48059\, United States
CATEGORIES:Free,Playgroups
END:VEVENT
END:VCALENDAR