BEGIN:VCALENDAR
VERSION:2.0
PRODID:-//BlueWaterParent.com - ECPv6.15.20//NONSGML v1.0//EN
CALSCALE:GREGORIAN
METHOD:PUBLISH
X-WR-CALNAME:BlueWaterParent.com
X-ORIGINAL-URL:https://bluewaterparent.com
X-WR-CALDESC:Events for BlueWaterParent.com
REFRESH-INTERVAL;VALUE=DURATION:PT1H
X-Robots-Tag:noindex
X-PUBLISHED-TTL:PT1H
BEGIN:VTIMEZONE
TZID:America/New_York
BEGIN:DAYLIGHT
TZOFFSETFROM:-0500
TZOFFSETTO:-0400
TZNAME:EDT
DTSTART:20270314T070000
END:DAYLIGHT
BEGIN:STANDARD
TZOFFSETFROM:-0400
TZOFFSETTO:-0500
TZNAME:EST
DTSTART:20271107T060000
END:STANDARD
BEGIN:DAYLIGHT
TZOFFSETFROM:-0500
TZOFFSETTO:-0400
TZNAME:EDT
DTSTART:20280312T070000
END:DAYLIGHT
BEGIN:STANDARD
TZOFFSETFROM:-0400
TZOFFSETTO:-0500
TZNAME:EST
DTSTART:20281105T060000
END:STANDARD
BEGIN:DAYLIGHT
TZOFFSETFROM:-0500
TZOFFSETTO:-0400
TZNAME:EDT
DTSTART:20290311T070000
END:DAYLIGHT
BEGIN:STANDARD
TZOFFSETFROM:-0400
TZOFFSETTO:-0500
TZNAME:EST
DTSTART:20291104T060000
END:STANDARD
BEGIN:DAYLIGHT
TZOFFSETFROM:-0500
TZOFFSETTO:-0400
TZNAME:EDT
DTSTART:20300310T070000
END:DAYLIGHT
BEGIN:STANDARD
TZOFFSETFROM:-0400
TZOFFSETTO:-0500
TZNAME:EST
DTSTART:20301103T060000
END:STANDARD
END:VTIMEZONE
BEGIN:VEVENT
DTSTART;TZID=America/New_York:20281228T100000
DTEND;TZID=America/New_York:20281228T110000
DTSTAMP:20260420T231058
CREATED:20251201T004011Z
LAST-MODIFIED:20260307T021133Z
UID:10023969-1861610400-1861614000@bluewaterparent.com
SUMMARY:Great Start Playgroup - Avoca
DESCRIPTION:
URL:https://bluewaterparent.com/event/great-start-playgroup-emmett/2028-12-28/
LOCATION:Avoca Elementary\, 8751 Willow St.\, Avoca\, MI\, 48006\, United States
CATEGORIES:Playgroups
END:VEVENT
BEGIN:VEVENT
DTSTART;TZID=America/New_York:20281228T100000
DTEND;TZID=America/New_York:20281228T110000
DTSTAMP:20260420T231058
CREATED:20260307T014510Z
LAST-MODIFIED:20260307T014908Z
UID:10023708-1861610400-1861614000@bluewaterparent.com
SUMMARY:Great Start Playgroup - Marysville
DESCRIPTION:
URL:https://bluewaterparent.com/event/great-start-playgroup-marysville-3/2028-12-28/
LOCATION:St. Clair County RESA East Campus\, 1111 Delaware Avenue\, Marysville\, MI
CATEGORIES:Playgroups
END:VEVENT
BEGIN:VEVENT
DTSTART;TZID=America/New_York:20281228T110000
DTEND;TZID=America/New_York:20281228T113000
DTSTAMP:20260420T231058
CREATED:20260101T200511Z
LAST-MODIFIED:20260101T213808Z
UID:10021254-1861614000-1861615800@bluewaterparent.com
SUMMARY:Storytime - Algonac
DESCRIPTION:  \n 
URL:https://bluewaterparent.com/event/storytime-algonac-2/2028-12-28/
LOCATION:Algonac-Clay Library\, 2011 St Clair River Dr\, Algonac\, MI\, 48001\, United States
CATEGORIES:Playgroups
END:VEVENT
BEGIN:VEVENT
DTSTART;TZID=America/New_York:20281229T100000
DTEND;TZID=America/New_York:20281229T104500
DTSTAMP:20260420T231058
CREATED:20260101T202520Z
LAST-MODIFIED:20260131T171318Z
UID:10023395-1861696800-1861699500@bluewaterparent.com
SUMMARY:Family Storytime - Memphis
DESCRIPTION:
URL:https://bluewaterparent.com/event/family-storytime-capac-2-2/2028-12-29/
LOCATION:Memphis Library\, 34830 Potter St\, Memphis\, MI\, 48041\, United States
CATEGORIES:Playgroups
END:VEVENT
BEGIN:VEVENT
DTSTART;TZID=America/New_York:20281229T100000
DTEND;TZID=America/New_York:20281229T110000
DTSTAMP:20260420T231058
CREATED:20260419T003829Z
LAST-MODIFIED:20260419T003829Z
UID:10026264-1861696800-1861700400@bluewaterparent.com
SUMMARY:Storytime - Port Huron
DESCRIPTION:
URL:https://bluewaterparent.com/event/storytime-port-huron-2/2028-12-29/
LOCATION:Main Library\, 210 McMorran Blvd\, Port Huron\, MI\, 48060\, United States
CATEGORIES:Playgroups
END:VEVENT
BEGIN:VEVENT
DTSTART;TZID=America/New_York:20281229T110000
DTEND;TZID=America/New_York:20281229T120000
DTSTAMP:20260420T231058
CREATED:20260101T164906Z
LAST-MODIFIED:20260101T171615Z
UID:10017077-1861700400-1861704000@bluewaterparent.com
SUMMARY:Playgroup Pals
DESCRIPTION:
URL:https://bluewaterparent.com/event/playgroup-pals-2/2028-12-29/
LOCATION:Ira Township Library\, 7013 Meldrum Rd\, Ira Township\, Michigan\, 48023\, United States
CATEGORIES:Playgroups
END:VEVENT
BEGIN:VEVENT
DTSTART;TZID=America/New_York:20290101T100000
DTEND;TZID=America/New_York:20290101T110000
DTSTAMP:20260420T231058
CREATED:20260101T192653Z
LAST-MODIFIED:20260307T025320Z
UID:10024491-1861956000-1861959600@bluewaterparent.com
SUMMARY:Storytime - St. Clair
DESCRIPTION:From SCCLS – Join us for a fun and educational blend of stories\, crafts\, movement activities\, and songs.
URL:https://bluewaterparent.com/event/storytime-st-clair/2029-01-01/
LOCATION:St. Clair Library\, 310 S. 2nd Street\, St. Clair\, MI
CATEGORIES:Free,Playgroups
END:VEVENT
BEGIN:VEVENT
DTSTART;TZID=America/New_York:20290101T100000
DTEND;TZID=America/New_York:20290101T110000
DTSTAMP:20260420T231058
CREATED:20260125T194928Z
LAST-MODIFIED:20260125T194929Z
UID:10017600-1861956000-1861959600@bluewaterparent.com
SUMMARY:Storytime - Marysville
DESCRIPTION:From SCCLS – Preschoolers and their adults: Join us at the library for a happy blend of stories\, rhymes\, music and movement\, followed by a creative activity time.
URL:https://bluewaterparent.com/event/storytime-marysville-3/2029-01-01/
LOCATION:Marysville Library\, 1175 Delaware\, Marysville\, MI
CATEGORIES:Free,Playgroups
END:VEVENT
BEGIN:VEVENT
DTSTART;TZID=America/New_York:20290101T100000
DTEND;TZID=America/New_York:20290101T110000
DTSTAMP:20260420T231058
CREATED:20260307T142323Z
LAST-MODIFIED:20260307T142325Z
UID:10017339-1861956000-1861959600@bluewaterparent.com
SUMMARY:Storytime - Yale
DESCRIPTION:
URL:https://bluewaterparent.com/event/storytime-yale-2-2-2/2029-01-01/
LOCATION:Yale Library\, 2 Jones St\, Yale\, MI\, 48097\, United States
CATEGORIES:Free,Playgroups
END:VEVENT
BEGIN:VEVENT
DTSTART;TZID=America/New_York:20290101T103000
DTEND;TZID=America/New_York:20290101T110000
DTSTAMP:20260420T231058
CREATED:20260401T010404Z
LAST-MODIFIED:20260401T010407Z
UID:10025104-1861957800-1861959600@bluewaterparent.com
SUMMARY:Storytime - Burtchville
DESCRIPTION:
URL:https://bluewaterparent.com/event/storytime-burtchville-3-2/2029-01-01/
LOCATION:Burtchville Library\, 7093 2nd St\, Lakeport\, MI\, 48059\, United States
CATEGORIES:Free,Playgroups
END:VEVENT
BEGIN:VEVENT
DTSTART;TZID=America/New_York:20290101T103000
DTEND;TZID=America/New_York:20290101T113000
DTSTAMP:20260420T231058
CREATED:20260321T165751Z
LAST-MODIFIED:20260321T165752Z
UID:10024736-1861957800-1861961400@bluewaterparent.com
SUMMARY:Storytime - Marine City
DESCRIPTION:From SCCLS – Preschoolers and their adults join us at the library for a happy blend of stories and activities.
URL:https://bluewaterparent.com/event/storytime-marine-city-2-2/2029-01-01/
LOCATION:Marine City Library\, 300 S Parker St\, Marine City\, MI\, 48039\, United States
CATEGORIES:Free,Playgroups
END:VEVENT
BEGIN:VEVENT
DTSTART;TZID=America/New_York:20290102T100000
DTEND;TZID=America/New_York:20290102T103000
DTSTAMP:20260420T231058
CREATED:20260418T235804Z
LAST-MODIFIED:20260419T000903Z
UID:10025482-1862042400-1862044200@bluewaterparent.com
SUMMARY:Rhythm and Rhyme - Port Huron
DESCRIPTION:For children ages 0-3 and their caregivers.
URL:https://bluewaterparent.com/event/rhythm-and-rhyme-port-huron/2029-01-02/
LOCATION:Main Library\, 210 McMorran Blvd\, Port Huron\, MI\, 48060\, United States
CATEGORIES:Playgroups
END:VEVENT
BEGIN:VEVENT
DTSTART;TZID=America/New_York:20290102T180000
DTEND;TZID=America/New_York:20290102T183000
DTSTAMP:20260420T231058
CREATED:20260419T002148Z
LAST-MODIFIED:20260419T003520Z
UID:10025743-1862071200-1862073000@bluewaterparent.com
SUMMARY:Bedtime Storytime - Port Huron
DESCRIPTION:
URL:https://bluewaterparent.com/event/bedtime-storytime/2029-01-02/
LOCATION:Main Library\, 210 McMorran Blvd\, Port Huron\, MI\, 48060\, United States
CATEGORIES:Playgroups
END:VEVENT
BEGIN:VEVENT
DTSTART;TZID=America/New_York:20290103T100000
DTEND;TZID=America/New_York:20290103T110000
DTSTAMP:20260420T231058
CREATED:20260419T003159Z
LAST-MODIFIED:20260419T003555Z
UID:10026004-1862128800-1862132400@bluewaterparent.com
SUMMARY:Storytime - Port Huron
DESCRIPTION:
URL:https://bluewaterparent.com/event/storytime-port-huron/2029-01-03/
LOCATION:Main Library\, 210 McMorran Blvd\, Port Huron\, MI\, 48060\, United States
CATEGORIES:Playgroups
END:VEVENT
BEGIN:VEVENT
DTSTART;TZID=America/New_York:20290104T100000
DTEND;TZID=America/New_York:20290104T110000
DTSTAMP:20260420T231058
CREATED:20251201T004011Z
LAST-MODIFIED:20260307T021133Z
UID:10023970-1862215200-1862218800@bluewaterparent.com
SUMMARY:Great Start Playgroup - Avoca
DESCRIPTION:
URL:https://bluewaterparent.com/event/great-start-playgroup-emmett/2029-01-04/
LOCATION:Avoca Elementary\, 8751 Willow St.\, Avoca\, MI\, 48006\, United States
CATEGORIES:Playgroups
END:VEVENT
BEGIN:VEVENT
DTSTART;TZID=America/New_York:20290104T100000
DTEND;TZID=America/New_York:20290104T110000
DTSTAMP:20260420T231058
CREATED:20260307T014510Z
LAST-MODIFIED:20260307T014908Z
UID:10023709-1862215200-1862218800@bluewaterparent.com
SUMMARY:Great Start Playgroup - Marysville
DESCRIPTION:
URL:https://bluewaterparent.com/event/great-start-playgroup-marysville-3/2029-01-04/
LOCATION:St. Clair County RESA East Campus\, 1111 Delaware Avenue\, Marysville\, MI
CATEGORIES:Playgroups
END:VEVENT
BEGIN:VEVENT
DTSTART;TZID=America/New_York:20290104T110000
DTEND;TZID=America/New_York:20290104T113000
DTSTAMP:20260420T231058
CREATED:20260101T200511Z
LAST-MODIFIED:20260101T213808Z
UID:10021255-1862218800-1862220600@bluewaterparent.com
SUMMARY:Storytime - Algonac
DESCRIPTION:  \n 
URL:https://bluewaterparent.com/event/storytime-algonac-2/2029-01-04/
LOCATION:Algonac-Clay Library\, 2011 St Clair River Dr\, Algonac\, MI\, 48001\, United States
CATEGORIES:Playgroups
END:VEVENT
BEGIN:VEVENT
DTSTART;TZID=America/New_York:20290105T100000
DTEND;TZID=America/New_York:20290105T104500
DTSTAMP:20260420T231058
CREATED:20260101T202520Z
LAST-MODIFIED:20260131T171318Z
UID:10023396-1862301600-1862304300@bluewaterparent.com
SUMMARY:Family Storytime - Memphis
DESCRIPTION:
URL:https://bluewaterparent.com/event/family-storytime-capac-2-2/2029-01-05/
LOCATION:Memphis Library\, 34830 Potter St\, Memphis\, MI\, 48041\, United States
CATEGORIES:Playgroups
END:VEVENT
BEGIN:VEVENT
DTSTART;TZID=America/New_York:20290105T100000
DTEND;TZID=America/New_York:20290105T110000
DTSTAMP:20260420T231058
CREATED:20260419T003829Z
LAST-MODIFIED:20260419T003829Z
UID:10026265-1862301600-1862305200@bluewaterparent.com
SUMMARY:Storytime - Port Huron
DESCRIPTION:
URL:https://bluewaterparent.com/event/storytime-port-huron-2/2029-01-05/
LOCATION:Main Library\, 210 McMorran Blvd\, Port Huron\, MI\, 48060\, United States
CATEGORIES:Playgroups
END:VEVENT
BEGIN:VEVENT
DTSTART;TZID=America/New_York:20290105T110000
DTEND;TZID=America/New_York:20290105T120000
DTSTAMP:20260420T231058
CREATED:20260101T164906Z
LAST-MODIFIED:20260101T171615Z
UID:10017078-1862305200-1862308800@bluewaterparent.com
SUMMARY:Playgroup Pals
DESCRIPTION:
URL:https://bluewaterparent.com/event/playgroup-pals-2/2029-01-05/
LOCATION:Ira Township Library\, 7013 Meldrum Rd\, Ira Township\, Michigan\, 48023\, United States
CATEGORIES:Playgroups
END:VEVENT
BEGIN:VEVENT
DTSTART;TZID=America/New_York:20290108T100000
DTEND;TZID=America/New_York:20290108T110000
DTSTAMP:20260420T231058
CREATED:20260101T192653Z
LAST-MODIFIED:20260307T025320Z
UID:10024492-1862560800-1862564400@bluewaterparent.com
SUMMARY:Storytime - St. Clair
DESCRIPTION:From SCCLS – Join us for a fun and educational blend of stories\, crafts\, movement activities\, and songs.
URL:https://bluewaterparent.com/event/storytime-st-clair/2029-01-08/
LOCATION:St. Clair Library\, 310 S. 2nd Street\, St. Clair\, MI
CATEGORIES:Free,Playgroups
END:VEVENT
BEGIN:VEVENT
DTSTART;TZID=America/New_York:20290108T100000
DTEND;TZID=America/New_York:20290108T110000
DTSTAMP:20260420T231058
CREATED:20260125T194928Z
LAST-MODIFIED:20260125T194929Z
UID:10017601-1862560800-1862564400@bluewaterparent.com
SUMMARY:Storytime - Marysville
DESCRIPTION:From SCCLS – Preschoolers and their adults: Join us at the library for a happy blend of stories\, rhymes\, music and movement\, followed by a creative activity time.
URL:https://bluewaterparent.com/event/storytime-marysville-3/2029-01-08/
LOCATION:Marysville Library\, 1175 Delaware\, Marysville\, MI
CATEGORIES:Free,Playgroups
END:VEVENT
BEGIN:VEVENT
DTSTART;TZID=America/New_York:20290108T100000
DTEND;TZID=America/New_York:20290108T110000
DTSTAMP:20260420T231058
CREATED:20260307T142323Z
LAST-MODIFIED:20260307T142325Z
UID:10017340-1862560800-1862564400@bluewaterparent.com
SUMMARY:Storytime - Yale
DESCRIPTION:
URL:https://bluewaterparent.com/event/storytime-yale-2-2-2/2029-01-08/
LOCATION:Yale Library\, 2 Jones St\, Yale\, MI\, 48097\, United States
CATEGORIES:Free,Playgroups
END:VEVENT
BEGIN:VEVENT
DTSTART;TZID=America/New_York:20290108T103000
DTEND;TZID=America/New_York:20290108T110000
DTSTAMP:20260420T231058
CREATED:20260401T010404Z
LAST-MODIFIED:20260401T010407Z
UID:10025105-1862562600-1862564400@bluewaterparent.com
SUMMARY:Storytime - Burtchville
DESCRIPTION:
URL:https://bluewaterparent.com/event/storytime-burtchville-3-2/2029-01-08/
LOCATION:Burtchville Library\, 7093 2nd St\, Lakeport\, MI\, 48059\, United States
CATEGORIES:Free,Playgroups
END:VEVENT
BEGIN:VEVENT
DTSTART;TZID=America/New_York:20290108T103000
DTEND;TZID=America/New_York:20290108T113000
DTSTAMP:20260420T231058
CREATED:20260321T165751Z
LAST-MODIFIED:20260321T165752Z
UID:10017862-1862562600-1862566200@bluewaterparent.com
SUMMARY:Storytime - Marine City
DESCRIPTION:From SCCLS – Preschoolers and their adults join us at the library for a happy blend of stories and activities.
URL:https://bluewaterparent.com/event/storytime-marine-city-2-2/2029-01-08/
LOCATION:Marine City Library\, 300 S Parker St\, Marine City\, MI\, 48039\, United States
CATEGORIES:Free,Playgroups
END:VEVENT
BEGIN:VEVENT
DTSTART;TZID=America/New_York:20290109T100000
DTEND;TZID=America/New_York:20290109T103000
DTSTAMP:20260420T231058
CREATED:20260418T235804Z
LAST-MODIFIED:20260419T000903Z
UID:10025483-1862647200-1862649000@bluewaterparent.com
SUMMARY:Rhythm and Rhyme - Port Huron
DESCRIPTION:For children ages 0-3 and their caregivers.
URL:https://bluewaterparent.com/event/rhythm-and-rhyme-port-huron/2029-01-09/
LOCATION:Main Library\, 210 McMorran Blvd\, Port Huron\, MI\, 48060\, United States
CATEGORIES:Playgroups
END:VEVENT
BEGIN:VEVENT
DTSTART;TZID=America/New_York:20290109T180000
DTEND;TZID=America/New_York:20290109T183000
DTSTAMP:20260420T231058
CREATED:20260419T002148Z
LAST-MODIFIED:20260419T003520Z
UID:10025744-1862676000-1862677800@bluewaterparent.com
SUMMARY:Bedtime Storytime - Port Huron
DESCRIPTION:
URL:https://bluewaterparent.com/event/bedtime-storytime/2029-01-09/
LOCATION:Main Library\, 210 McMorran Blvd\, Port Huron\, MI\, 48060\, United States
CATEGORIES:Playgroups
END:VEVENT
BEGIN:VEVENT
DTSTART;TZID=America/New_York:20290110T100000
DTEND;TZID=America/New_York:20290110T110000
DTSTAMP:20260420T231058
CREATED:20260419T003159Z
LAST-MODIFIED:20260419T003555Z
UID:10026005-1862733600-1862737200@bluewaterparent.com
SUMMARY:Storytime - Port Huron
DESCRIPTION:
URL:https://bluewaterparent.com/event/storytime-port-huron/2029-01-10/
LOCATION:Main Library\, 210 McMorran Blvd\, Port Huron\, MI\, 48060\, United States
CATEGORIES:Playgroups
END:VEVENT
BEGIN:VEVENT
DTSTART;TZID=America/New_York:20290111T100000
DTEND;TZID=America/New_York:20290111T110000
DTSTAMP:20260420T231058
CREATED:20251201T004011Z
LAST-MODIFIED:20260307T021133Z
UID:10023971-1862820000-1862823600@bluewaterparent.com
SUMMARY:Great Start Playgroup - Avoca
DESCRIPTION:
URL:https://bluewaterparent.com/event/great-start-playgroup-emmett/2029-01-11/
LOCATION:Avoca Elementary\, 8751 Willow St.\, Avoca\, MI\, 48006\, United States
CATEGORIES:Playgroups
END:VEVENT
BEGIN:VEVENT
DTSTART;TZID=America/New_York:20290111T100000
DTEND;TZID=America/New_York:20290111T110000
DTSTAMP:20260420T231058
CREATED:20260307T014510Z
LAST-MODIFIED:20260307T014908Z
UID:10023710-1862820000-1862823600@bluewaterparent.com
SUMMARY:Great Start Playgroup - Marysville
DESCRIPTION:
URL:https://bluewaterparent.com/event/great-start-playgroup-marysville-3/2029-01-11/
LOCATION:St. Clair County RESA East Campus\, 1111 Delaware Avenue\, Marysville\, MI
CATEGORIES:Playgroups
END:VEVENT
END:VCALENDAR