BEGIN:VCALENDAR
VERSION:2.0
PRODID:-//BlueWaterParent.com - ECPv6.15.20//NONSGML v1.0//EN
CALSCALE:GREGORIAN
METHOD:PUBLISH
X-WR-CALNAME:BlueWaterParent.com
X-ORIGINAL-URL:https://bluewaterparent.com
X-WR-CALDESC:Events for BlueWaterParent.com
REFRESH-INTERVAL;VALUE=DURATION:PT1H
X-Robots-Tag:noindex
X-PUBLISHED-TTL:PT1H
BEGIN:VTIMEZONE
TZID:America/New_York
BEGIN:DAYLIGHT
TZOFFSETFROM:-0500
TZOFFSETTO:-0400
TZNAME:EDT
DTSTART:20260308T070000
END:DAYLIGHT
BEGIN:STANDARD
TZOFFSETFROM:-0400
TZOFFSETTO:-0500
TZNAME:EST
DTSTART:20261101T060000
END:STANDARD
BEGIN:DAYLIGHT
TZOFFSETFROM:-0500
TZOFFSETTO:-0400
TZNAME:EDT
DTSTART:20270314T070000
END:DAYLIGHT
BEGIN:STANDARD
TZOFFSETFROM:-0400
TZOFFSETTO:-0500
TZNAME:EST
DTSTART:20271107T060000
END:STANDARD
BEGIN:DAYLIGHT
TZOFFSETFROM:-0500
TZOFFSETTO:-0400
TZNAME:EDT
DTSTART:20280312T070000
END:DAYLIGHT
BEGIN:STANDARD
TZOFFSETFROM:-0400
TZOFFSETTO:-0500
TZNAME:EST
DTSTART:20281105T060000
END:STANDARD
END:VTIMEZONE
BEGIN:VEVENT
DTSTART;TZID=America/New_York:20270824T180000
DTEND;TZID=America/New_York:20270824T183000
DTSTAMP:20260419T150313
CREATED:20260419T002148Z
LAST-MODIFIED:20260419T003520Z
UID:10025672-1819130400-1819132200@bluewaterparent.com
SUMMARY:Bedtime Storytime - Port Huron
DESCRIPTION:
URL:https://bluewaterparent.com/event/bedtime-storytime/2027-08-24/
LOCATION:Main Library\, 210 McMorran Blvd\, Port Huron\, MI\, 48060\, United States
CATEGORIES:Playgroups
END:VEVENT
BEGIN:VEVENT
DTSTART;TZID=America/New_York:20270825T100000
DTEND;TZID=America/New_York:20270825T110000
DTSTAMP:20260419T150313
CREATED:20260419T003159Z
LAST-MODIFIED:20260419T003555Z
UID:10025933-1819188000-1819191600@bluewaterparent.com
SUMMARY:Storytime - Port Huron
DESCRIPTION:
URL:https://bluewaterparent.com/event/storytime-port-huron/2027-08-25/
LOCATION:Main Library\, 210 McMorran Blvd\, Port Huron\, MI\, 48060\, United States
CATEGORIES:Playgroups
END:VEVENT
BEGIN:VEVENT
DTSTART;TZID=America/New_York:20270826T100000
DTEND;TZID=America/New_York:20270826T110000
DTSTAMP:20260419T150313
CREATED:20251201T004011Z
LAST-MODIFIED:20260307T021133Z
UID:10023899-1819274400-1819278000@bluewaterparent.com
SUMMARY:Great Start Playgroup - Avoca
DESCRIPTION:
URL:https://bluewaterparent.com/event/great-start-playgroup-emmett/2027-08-26/
LOCATION:Avoca Elementary\, 8751 Willow St.\, Avoca\, MI\, 48006\, United States
CATEGORIES:Playgroups
END:VEVENT
BEGIN:VEVENT
DTSTART;TZID=America/New_York:20270826T100000
DTEND;TZID=America/New_York:20270826T110000
DTSTAMP:20260419T150313
CREATED:20260307T014510Z
LAST-MODIFIED:20260307T014908Z
UID:10023638-1819274400-1819278000@bluewaterparent.com
SUMMARY:Great Start Playgroup - Marysville
DESCRIPTION:
URL:https://bluewaterparent.com/event/great-start-playgroup-marysville-3/2027-08-26/
LOCATION:St. Clair County RESA East Campus\, 1111 Delaware Avenue\, Marysville\, MI
CATEGORIES:Playgroups
END:VEVENT
BEGIN:VEVENT
DTSTART;TZID=America/New_York:20270826T110000
DTEND;TZID=America/New_York:20270826T113000
DTSTAMP:20260419T150313
CREATED:20260101T200511Z
LAST-MODIFIED:20260101T213808Z
UID:10021184-1819278000-1819279800@bluewaterparent.com
SUMMARY:Storytime - Algonac
DESCRIPTION:  \n 
URL:https://bluewaterparent.com/event/storytime-algonac-2/2027-08-26/
LOCATION:Algonac-Clay Library\, 2011 St Clair River Dr\, Algonac\, MI\, 48001\, United States
CATEGORIES:Playgroups
END:VEVENT
BEGIN:VEVENT
DTSTART;TZID=America/New_York:20270827T100000
DTEND;TZID=America/New_York:20270827T104500
DTSTAMP:20260419T150313
CREATED:20260101T202520Z
LAST-MODIFIED:20260131T171318Z
UID:10023325-1819360800-1819363500@bluewaterparent.com
SUMMARY:Family Storytime - Memphis
DESCRIPTION:
URL:https://bluewaterparent.com/event/family-storytime-capac-2-2/2027-08-27/
LOCATION:Memphis Library\, 34830 Potter St\, Memphis\, MI\, 48041\, United States
CATEGORIES:Playgroups
END:VEVENT
BEGIN:VEVENT
DTSTART;TZID=America/New_York:20270827T100000
DTEND;TZID=America/New_York:20270827T110000
DTSTAMP:20260419T150313
CREATED:20260419T003829Z
LAST-MODIFIED:20260419T003829Z
UID:10026194-1819360800-1819364400@bluewaterparent.com
SUMMARY:Storytime - Port Huron
DESCRIPTION:
URL:https://bluewaterparent.com/event/storytime-port-huron-2/2027-08-27/
LOCATION:Main Library\, 210 McMorran Blvd\, Port Huron\, MI\, 48060\, United States
CATEGORIES:Playgroups
END:VEVENT
BEGIN:VEVENT
DTSTART;TZID=America/New_York:20270827T110000
DTEND;TZID=America/New_York:20270827T120000
DTSTAMP:20260419T150313
CREATED:20260101T164906Z
LAST-MODIFIED:20260101T171615Z
UID:10017007-1819364400-1819368000@bluewaterparent.com
SUMMARY:Playgroup Pals
DESCRIPTION:
URL:https://bluewaterparent.com/event/playgroup-pals-2/2027-08-27/
LOCATION:Ira Township Library\, 7013 Meldrum Rd\, Ira Township\, Michigan\, 48023\, United States
CATEGORIES:Playgroups
END:VEVENT
BEGIN:VEVENT
DTSTART;TZID=America/New_York:20270830T100000
DTEND;TZID=America/New_York:20270830T110000
DTSTAMP:20260419T150313
CREATED:20260101T192653Z
LAST-MODIFIED:20260307T025320Z
UID:10024421-1819620000-1819623600@bluewaterparent.com
SUMMARY:Storytime - St. Clair
DESCRIPTION:From SCCLS – Join us for a fun and educational blend of stories\, crafts\, movement activities\, and songs.
URL:https://bluewaterparent.com/event/storytime-st-clair/2027-08-30/
LOCATION:St. Clair Library\, 310 S. 2nd Street\, St. Clair\, MI
CATEGORIES:Free,Playgroups
END:VEVENT
BEGIN:VEVENT
DTSTART;TZID=America/New_York:20270830T100000
DTEND;TZID=America/New_York:20270830T110000
DTSTAMP:20260419T150313
CREATED:20260125T194928Z
LAST-MODIFIED:20260125T194929Z
UID:10017530-1819620000-1819623600@bluewaterparent.com
SUMMARY:Storytime - Marysville
DESCRIPTION:From SCCLS – Preschoolers and their adults: Join us at the library for a happy blend of stories\, rhymes\, music and movement\, followed by a creative activity time.
URL:https://bluewaterparent.com/event/storytime-marysville-3/2027-08-30/
LOCATION:Marysville Library\, 1175 Delaware\, Marysville\, MI
CATEGORIES:Free,Playgroups
END:VEVENT
BEGIN:VEVENT
DTSTART;TZID=America/New_York:20270830T100000
DTEND;TZID=America/New_York:20270830T110000
DTSTAMP:20260419T150313
CREATED:20260307T142323Z
LAST-MODIFIED:20260307T142325Z
UID:10017269-1819620000-1819623600@bluewaterparent.com
SUMMARY:Storytime - Yale
DESCRIPTION:
URL:https://bluewaterparent.com/event/storytime-yale-2-2-2/2027-08-30/
LOCATION:Yale Library\, 2 Jones St\, Yale\, MI\, 48097\, United States
CATEGORIES:Free,Playgroups
END:VEVENT
BEGIN:VEVENT
DTSTART;TZID=America/New_York:20270830T103000
DTEND;TZID=America/New_York:20270830T110000
DTSTAMP:20260419T150313
CREATED:20260401T010404Z
LAST-MODIFIED:20260401T010407Z
UID:10025034-1819621800-1819623600@bluewaterparent.com
SUMMARY:Storytime - Burtchville
DESCRIPTION:
URL:https://bluewaterparent.com/event/storytime-burtchville-3-2/2027-08-30/
LOCATION:Burtchville Library\, 7093 2nd St\, Lakeport\, MI\, 48059\, United States
CATEGORIES:Free,Playgroups
END:VEVENT
BEGIN:VEVENT
DTSTART;TZID=America/New_York:20270830T103000
DTEND;TZID=America/New_York:20270830T113000
DTSTAMP:20260419T150313
CREATED:20260321T165751Z
LAST-MODIFIED:20260321T165752Z
UID:10024701-1819621800-1819625400@bluewaterparent.com
SUMMARY:Storytime - Marine City
DESCRIPTION:From SCCLS – Preschoolers and their adults join us at the library for a happy blend of stories and activities.
URL:https://bluewaterparent.com/event/storytime-marine-city-2-2/2027-08-30/
LOCATION:Marine City Library\, 300 S Parker St\, Marine City\, MI\, 48039\, United States
CATEGORIES:Free,Playgroups
END:VEVENT
BEGIN:VEVENT
DTSTART;TZID=America/New_York:20270831T100000
DTEND;TZID=America/New_York:20270831T103000
DTSTAMP:20260419T150313
CREATED:20260418T235804Z
LAST-MODIFIED:20260419T000903Z
UID:10025412-1819706400-1819708200@bluewaterparent.com
SUMMARY:Rhythm and Rhyme - Port Huron
DESCRIPTION:For children ages 0-3 and their caregivers.
URL:https://bluewaterparent.com/event/rhythm-and-rhyme-port-huron/2027-08-31/
LOCATION:Main Library\, 210 McMorran Blvd\, Port Huron\, MI\, 48060\, United States
CATEGORIES:Playgroups
END:VEVENT
BEGIN:VEVENT
DTSTART;TZID=America/New_York:20270831T180000
DTEND;TZID=America/New_York:20270831T183000
DTSTAMP:20260419T150313
CREATED:20260419T002148Z
LAST-MODIFIED:20260419T003520Z
UID:10025673-1819735200-1819737000@bluewaterparent.com
SUMMARY:Bedtime Storytime - Port Huron
DESCRIPTION:
URL:https://bluewaterparent.com/event/bedtime-storytime/2027-08-31/
LOCATION:Main Library\, 210 McMorran Blvd\, Port Huron\, MI\, 48060\, United States
CATEGORIES:Playgroups
END:VEVENT
BEGIN:VEVENT
DTSTART;TZID=America/New_York:20270901T100000
DTEND;TZID=America/New_York:20270901T110000
DTSTAMP:20260419T150313
CREATED:20260419T003159Z
LAST-MODIFIED:20260419T003555Z
UID:10025934-1819792800-1819796400@bluewaterparent.com
SUMMARY:Storytime - Port Huron
DESCRIPTION:
URL:https://bluewaterparent.com/event/storytime-port-huron/2027-09-01/
LOCATION:Main Library\, 210 McMorran Blvd\, Port Huron\, MI\, 48060\, United States
CATEGORIES:Playgroups
END:VEVENT
BEGIN:VEVENT
DTSTART;TZID=America/New_York:20270902T100000
DTEND;TZID=America/New_York:20270902T110000
DTSTAMP:20260419T150313
CREATED:20251201T004011Z
LAST-MODIFIED:20260307T021133Z
UID:10023900-1819879200-1819882800@bluewaterparent.com
SUMMARY:Great Start Playgroup - Avoca
DESCRIPTION:
URL:https://bluewaterparent.com/event/great-start-playgroup-emmett/2027-09-02/
LOCATION:Avoca Elementary\, 8751 Willow St.\, Avoca\, MI\, 48006\, United States
CATEGORIES:Playgroups
END:VEVENT
BEGIN:VEVENT
DTSTART;TZID=America/New_York:20270902T100000
DTEND;TZID=America/New_York:20270902T110000
DTSTAMP:20260419T150313
CREATED:20260307T014510Z
LAST-MODIFIED:20260307T014908Z
UID:10023639-1819879200-1819882800@bluewaterparent.com
SUMMARY:Great Start Playgroup - Marysville
DESCRIPTION:
URL:https://bluewaterparent.com/event/great-start-playgroup-marysville-3/2027-09-02/
LOCATION:St. Clair County RESA East Campus\, 1111 Delaware Avenue\, Marysville\, MI
CATEGORIES:Playgroups
END:VEVENT
BEGIN:VEVENT
DTSTART;TZID=America/New_York:20270902T110000
DTEND;TZID=America/New_York:20270902T113000
DTSTAMP:20260419T150314
CREATED:20260101T200511Z
LAST-MODIFIED:20260101T213808Z
UID:10021185-1819882800-1819884600@bluewaterparent.com
SUMMARY:Storytime - Algonac
DESCRIPTION:  \n 
URL:https://bluewaterparent.com/event/storytime-algonac-2/2027-09-02/
LOCATION:Algonac-Clay Library\, 2011 St Clair River Dr\, Algonac\, MI\, 48001\, United States
CATEGORIES:Playgroups
END:VEVENT
BEGIN:VEVENT
DTSTART;TZID=America/New_York:20270903T100000
DTEND;TZID=America/New_York:20270903T104500
DTSTAMP:20260419T150314
CREATED:20260101T202520Z
LAST-MODIFIED:20260131T171318Z
UID:10023326-1819965600-1819968300@bluewaterparent.com
SUMMARY:Family Storytime - Memphis
DESCRIPTION:
URL:https://bluewaterparent.com/event/family-storytime-capac-2-2/2027-09-03/
LOCATION:Memphis Library\, 34830 Potter St\, Memphis\, MI\, 48041\, United States
CATEGORIES:Playgroups
END:VEVENT
BEGIN:VEVENT
DTSTART;TZID=America/New_York:20270903T100000
DTEND;TZID=America/New_York:20270903T110000
DTSTAMP:20260419T150314
CREATED:20260419T003829Z
LAST-MODIFIED:20260419T003829Z
UID:10026195-1819965600-1819969200@bluewaterparent.com
SUMMARY:Storytime - Port Huron
DESCRIPTION:
URL:https://bluewaterparent.com/event/storytime-port-huron-2/2027-09-03/
LOCATION:Main Library\, 210 McMorran Blvd\, Port Huron\, MI\, 48060\, United States
CATEGORIES:Playgroups
END:VEVENT
BEGIN:VEVENT
DTSTART;TZID=America/New_York:20270903T110000
DTEND;TZID=America/New_York:20270903T120000
DTSTAMP:20260419T150314
CREATED:20260101T164906Z
LAST-MODIFIED:20260101T171615Z
UID:10017008-1819969200-1819972800@bluewaterparent.com
SUMMARY:Playgroup Pals
DESCRIPTION:
URL:https://bluewaterparent.com/event/playgroup-pals-2/2027-09-03/
LOCATION:Ira Township Library\, 7013 Meldrum Rd\, Ira Township\, Michigan\, 48023\, United States
CATEGORIES:Playgroups
END:VEVENT
BEGIN:VEVENT
DTSTART;TZID=America/New_York:20270906T100000
DTEND;TZID=America/New_York:20270906T110000
DTSTAMP:20260419T150314
CREATED:20260101T192653Z
LAST-MODIFIED:20260307T025320Z
UID:10024422-1820224800-1820228400@bluewaterparent.com
SUMMARY:Storytime - St. Clair
DESCRIPTION:From SCCLS – Join us for a fun and educational blend of stories\, crafts\, movement activities\, and songs.
URL:https://bluewaterparent.com/event/storytime-st-clair/2027-09-06/
LOCATION:St. Clair Library\, 310 S. 2nd Street\, St. Clair\, MI
CATEGORIES:Free,Playgroups
END:VEVENT
BEGIN:VEVENT
DTSTART;TZID=America/New_York:20270906T100000
DTEND;TZID=America/New_York:20270906T110000
DTSTAMP:20260419T150314
CREATED:20260125T194928Z
LAST-MODIFIED:20260125T194929Z
UID:10017531-1820224800-1820228400@bluewaterparent.com
SUMMARY:Storytime - Marysville
DESCRIPTION:From SCCLS – Preschoolers and their adults: Join us at the library for a happy blend of stories\, rhymes\, music and movement\, followed by a creative activity time.
URL:https://bluewaterparent.com/event/storytime-marysville-3/2027-09-06/
LOCATION:Marysville Library\, 1175 Delaware\, Marysville\, MI
CATEGORIES:Free,Playgroups
END:VEVENT
BEGIN:VEVENT
DTSTART;TZID=America/New_York:20270906T100000
DTEND;TZID=America/New_York:20270906T110000
DTSTAMP:20260419T150314
CREATED:20260307T142323Z
LAST-MODIFIED:20260307T142325Z
UID:10017270-1820224800-1820228400@bluewaterparent.com
SUMMARY:Storytime - Yale
DESCRIPTION:
URL:https://bluewaterparent.com/event/storytime-yale-2-2-2/2027-09-06/
LOCATION:Yale Library\, 2 Jones St\, Yale\, MI\, 48097\, United States
CATEGORIES:Free,Playgroups
END:VEVENT
BEGIN:VEVENT
DTSTART;TZID=America/New_York:20270906T103000
DTEND;TZID=America/New_York:20270906T110000
DTSTAMP:20260419T150314
CREATED:20260401T010404Z
LAST-MODIFIED:20260401T010407Z
UID:10025035-1820226600-1820228400@bluewaterparent.com
SUMMARY:Storytime - Burtchville
DESCRIPTION:
URL:https://bluewaterparent.com/event/storytime-burtchville-3-2/2027-09-06/
LOCATION:Burtchville Library\, 7093 2nd St\, Lakeport\, MI\, 48059\, United States
CATEGORIES:Free,Playgroups
END:VEVENT
BEGIN:VEVENT
DTSTART;TZID=America/New_York:20270906T103000
DTEND;TZID=America/New_York:20270906T113000
DTSTAMP:20260419T150314
CREATED:20260321T165751Z
LAST-MODIFIED:20260321T165752Z
UID:10017792-1820226600-1820230200@bluewaterparent.com
SUMMARY:Storytime - Marine City
DESCRIPTION:From SCCLS – Preschoolers and their adults join us at the library for a happy blend of stories and activities.
URL:https://bluewaterparent.com/event/storytime-marine-city-2-2/2027-09-06/
LOCATION:Marine City Library\, 300 S Parker St\, Marine City\, MI\, 48039\, United States
CATEGORIES:Free,Playgroups
END:VEVENT
BEGIN:VEVENT
DTSTART;TZID=America/New_York:20270907T100000
DTEND;TZID=America/New_York:20270907T103000
DTSTAMP:20260419T150314
CREATED:20260418T235804Z
LAST-MODIFIED:20260419T000903Z
UID:10025413-1820311200-1820313000@bluewaterparent.com
SUMMARY:Rhythm and Rhyme - Port Huron
DESCRIPTION:For children ages 0-3 and their caregivers.
URL:https://bluewaterparent.com/event/rhythm-and-rhyme-port-huron/2027-09-07/
LOCATION:Main Library\, 210 McMorran Blvd\, Port Huron\, MI\, 48060\, United States
CATEGORIES:Playgroups
END:VEVENT
BEGIN:VEVENT
DTSTART;TZID=America/New_York:20270907T180000
DTEND;TZID=America/New_York:20270907T183000
DTSTAMP:20260419T150314
CREATED:20260419T002148Z
LAST-MODIFIED:20260419T003520Z
UID:10025674-1820340000-1820341800@bluewaterparent.com
SUMMARY:Bedtime Storytime - Port Huron
DESCRIPTION:
URL:https://bluewaterparent.com/event/bedtime-storytime/2027-09-07/
LOCATION:Main Library\, 210 McMorran Blvd\, Port Huron\, MI\, 48060\, United States
CATEGORIES:Playgroups
END:VEVENT
BEGIN:VEVENT
DTSTART;TZID=America/New_York:20270908T100000
DTEND;TZID=America/New_York:20270908T110000
DTSTAMP:20260419T150314
CREATED:20260419T003159Z
LAST-MODIFIED:20260419T003555Z
UID:10025935-1820397600-1820401200@bluewaterparent.com
SUMMARY:Storytime - Port Huron
DESCRIPTION:
URL:https://bluewaterparent.com/event/storytime-port-huron/2027-09-08/
LOCATION:Main Library\, 210 McMorran Blvd\, Port Huron\, MI\, 48060\, United States
CATEGORIES:Playgroups
END:VEVENT
END:VCALENDAR