BEGIN:VCALENDAR
VERSION:2.0
PRODID:-//BlueWaterParent.com - ECPv6.15.20//NONSGML v1.0//EN
CALSCALE:GREGORIAN
METHOD:PUBLISH
X-WR-CALNAME:BlueWaterParent.com
X-ORIGINAL-URL:https://bluewaterparent.com
X-WR-CALDESC:Events for BlueWaterParent.com
REFRESH-INTERVAL;VALUE=DURATION:PT1H
X-Robots-Tag:noindex
X-PUBLISHED-TTL:PT1H
BEGIN:VTIMEZONE
TZID:America/New_York
BEGIN:DAYLIGHT
TZOFFSETFROM:-0500
TZOFFSETTO:-0400
TZNAME:EDT
DTSTART:20270314T070000
END:DAYLIGHT
BEGIN:STANDARD
TZOFFSETFROM:-0400
TZOFFSETTO:-0500
TZNAME:EST
DTSTART:20271107T060000
END:STANDARD
BEGIN:DAYLIGHT
TZOFFSETFROM:-0500
TZOFFSETTO:-0400
TZNAME:EDT
DTSTART:20280312T070000
END:DAYLIGHT
BEGIN:STANDARD
TZOFFSETFROM:-0400
TZOFFSETTO:-0500
TZNAME:EST
DTSTART:20281105T060000
END:STANDARD
BEGIN:DAYLIGHT
TZOFFSETFROM:-0500
TZOFFSETTO:-0400
TZNAME:EDT
DTSTART:20290311T070000
END:DAYLIGHT
BEGIN:STANDARD
TZOFFSETFROM:-0400
TZOFFSETTO:-0500
TZNAME:EST
DTSTART:20291104T060000
END:STANDARD
END:VTIMEZONE
BEGIN:VEVENT
DTSTART;TZID=America/New_York:20280713T100000
DTEND;TZID=America/New_York:20280713T110000
DTSTAMP:20260419T140520
CREATED:20251201T004011Z
LAST-MODIFIED:20260307T021133Z
UID:10023945-1847095200-1847098800@bluewaterparent.com
SUMMARY:Great Start Playgroup - Avoca
DESCRIPTION:
URL:https://bluewaterparent.com/event/great-start-playgroup-emmett/2028-07-13/
LOCATION:Avoca Elementary\, 8751 Willow St.\, Avoca\, MI\, 48006\, United States
CATEGORIES:Playgroups
END:VEVENT
BEGIN:VEVENT
DTSTART;TZID=America/New_York:20280713T100000
DTEND;TZID=America/New_York:20280713T110000
DTSTAMP:20260419T140520
CREATED:20260307T014510Z
LAST-MODIFIED:20260307T014908Z
UID:10023684-1847095200-1847098800@bluewaterparent.com
SUMMARY:Great Start Playgroup - Marysville
DESCRIPTION:
URL:https://bluewaterparent.com/event/great-start-playgroup-marysville-3/2028-07-13/
LOCATION:St. Clair County RESA East Campus\, 1111 Delaware Avenue\, Marysville\, MI
CATEGORIES:Playgroups
END:VEVENT
BEGIN:VEVENT
DTSTART;TZID=America/New_York:20280713T110000
DTEND;TZID=America/New_York:20280713T113000
DTSTAMP:20260419T140520
CREATED:20260101T200511Z
LAST-MODIFIED:20260101T213808Z
UID:10021230-1847098800-1847100600@bluewaterparent.com
SUMMARY:Storytime - Algonac
DESCRIPTION:  \n 
URL:https://bluewaterparent.com/event/storytime-algonac-2/2028-07-13/
LOCATION:Algonac-Clay Library\, 2011 St Clair River Dr\, Algonac\, MI\, 48001\, United States
CATEGORIES:Playgroups
END:VEVENT
BEGIN:VEVENT
DTSTART;TZID=America/New_York:20280714T100000
DTEND;TZID=America/New_York:20280714T104500
DTSTAMP:20260419T140520
CREATED:20260101T202520Z
LAST-MODIFIED:20260131T171318Z
UID:10023371-1847181600-1847184300@bluewaterparent.com
SUMMARY:Family Storytime - Memphis
DESCRIPTION:
URL:https://bluewaterparent.com/event/family-storytime-capac-2-2/2028-07-14/
LOCATION:Memphis Library\, 34830 Potter St\, Memphis\, MI\, 48041\, United States
CATEGORIES:Playgroups
END:VEVENT
BEGIN:VEVENT
DTSTART;TZID=America/New_York:20280714T100000
DTEND;TZID=America/New_York:20280714T110000
DTSTAMP:20260419T140520
CREATED:20260419T003829Z
LAST-MODIFIED:20260419T003829Z
UID:10026240-1847181600-1847185200@bluewaterparent.com
SUMMARY:Storytime - Port Huron
DESCRIPTION:
URL:https://bluewaterparent.com/event/storytime-port-huron-2/2028-07-14/
LOCATION:Main Library\, 210 McMorran Blvd\, Port Huron\, MI\, 48060\, United States
CATEGORIES:Playgroups
END:VEVENT
BEGIN:VEVENT
DTSTART;TZID=America/New_York:20280714T110000
DTEND;TZID=America/New_York:20280714T120000
DTSTAMP:20260419T140520
CREATED:20260101T164906Z
LAST-MODIFIED:20260101T171615Z
UID:10017053-1847185200-1847188800@bluewaterparent.com
SUMMARY:Playgroup Pals
DESCRIPTION:
URL:https://bluewaterparent.com/event/playgroup-pals-2/2028-07-14/
LOCATION:Ira Township Library\, 7013 Meldrum Rd\, Ira Township\, Michigan\, 48023\, United States
CATEGORIES:Playgroups
END:VEVENT
BEGIN:VEVENT
DTSTART;TZID=America/New_York:20280717T100000
DTEND;TZID=America/New_York:20280717T110000
DTSTAMP:20260419T140520
CREATED:20260101T192653Z
LAST-MODIFIED:20260307T025320Z
UID:10024467-1847440800-1847444400@bluewaterparent.com
SUMMARY:Storytime - St. Clair
DESCRIPTION:From SCCLS – Join us for a fun and educational blend of stories\, crafts\, movement activities\, and songs.
URL:https://bluewaterparent.com/event/storytime-st-clair/2028-07-17/
LOCATION:St. Clair Library\, 310 S. 2nd Street\, St. Clair\, MI
CATEGORIES:Free,Playgroups
END:VEVENT
BEGIN:VEVENT
DTSTART;TZID=America/New_York:20280717T100000
DTEND;TZID=America/New_York:20280717T110000
DTSTAMP:20260419T140520
CREATED:20260125T194928Z
LAST-MODIFIED:20260125T194929Z
UID:10017576-1847440800-1847444400@bluewaterparent.com
SUMMARY:Storytime - Marysville
DESCRIPTION:From SCCLS – Preschoolers and their adults: Join us at the library for a happy blend of stories\, rhymes\, music and movement\, followed by a creative activity time.
URL:https://bluewaterparent.com/event/storytime-marysville-3/2028-07-17/
LOCATION:Marysville Library\, 1175 Delaware\, Marysville\, MI
CATEGORIES:Free,Playgroups
END:VEVENT
BEGIN:VEVENT
DTSTART;TZID=America/New_York:20280717T100000
DTEND;TZID=America/New_York:20280717T110000
DTSTAMP:20260419T140520
CREATED:20260307T142323Z
LAST-MODIFIED:20260307T142325Z
UID:10017315-1847440800-1847444400@bluewaterparent.com
SUMMARY:Storytime - Yale
DESCRIPTION:
URL:https://bluewaterparent.com/event/storytime-yale-2-2-2/2028-07-17/
LOCATION:Yale Library\, 2 Jones St\, Yale\, MI\, 48097\, United States
CATEGORIES:Free,Playgroups
END:VEVENT
BEGIN:VEVENT
DTSTART;TZID=America/New_York:20280717T103000
DTEND;TZID=America/New_York:20280717T110000
DTSTAMP:20260419T140520
CREATED:20260401T010404Z
LAST-MODIFIED:20260401T010407Z
UID:10025080-1847442600-1847444400@bluewaterparent.com
SUMMARY:Storytime - Burtchville
DESCRIPTION:
URL:https://bluewaterparent.com/event/storytime-burtchville-3-2/2028-07-17/
LOCATION:Burtchville Library\, 7093 2nd St\, Lakeport\, MI\, 48059\, United States
CATEGORIES:Free,Playgroups
END:VEVENT
BEGIN:VEVENT
DTSTART;TZID=America/New_York:20280717T103000
DTEND;TZID=America/New_York:20280717T113000
DTSTAMP:20260419T140520
CREATED:20260321T165751Z
LAST-MODIFIED:20260321T165752Z
UID:10024724-1847442600-1847446200@bluewaterparent.com
SUMMARY:Storytime - Marine City
DESCRIPTION:From SCCLS – Preschoolers and their adults join us at the library for a happy blend of stories and activities.
URL:https://bluewaterparent.com/event/storytime-marine-city-2-2/2028-07-17/
LOCATION:Marine City Library\, 300 S Parker St\, Marine City\, MI\, 48039\, United States
CATEGORIES:Free,Playgroups
END:VEVENT
BEGIN:VEVENT
DTSTART;TZID=America/New_York:20280718T100000
DTEND;TZID=America/New_York:20280718T103000
DTSTAMP:20260419T140520
CREATED:20260418T235804Z
LAST-MODIFIED:20260419T000903Z
UID:10025458-1847527200-1847529000@bluewaterparent.com
SUMMARY:Rhythm and Rhyme - Port Huron
DESCRIPTION:For children ages 0-3 and their caregivers.
URL:https://bluewaterparent.com/event/rhythm-and-rhyme-port-huron/2028-07-18/
LOCATION:Main Library\, 210 McMorran Blvd\, Port Huron\, MI\, 48060\, United States
CATEGORIES:Playgroups
END:VEVENT
BEGIN:VEVENT
DTSTART;TZID=America/New_York:20280718T180000
DTEND;TZID=America/New_York:20280718T183000
DTSTAMP:20260419T140520
CREATED:20260419T002148Z
LAST-MODIFIED:20260419T003520Z
UID:10025719-1847556000-1847557800@bluewaterparent.com
SUMMARY:Bedtime Storytime - Port Huron
DESCRIPTION:
URL:https://bluewaterparent.com/event/bedtime-storytime/2028-07-18/
LOCATION:Main Library\, 210 McMorran Blvd\, Port Huron\, MI\, 48060\, United States
CATEGORIES:Playgroups
END:VEVENT
BEGIN:VEVENT
DTSTART;TZID=America/New_York:20280719T100000
DTEND;TZID=America/New_York:20280719T110000
DTSTAMP:20260419T140520
CREATED:20260419T003159Z
LAST-MODIFIED:20260419T003555Z
UID:10025980-1847613600-1847617200@bluewaterparent.com
SUMMARY:Storytime - Port Huron
DESCRIPTION:
URL:https://bluewaterparent.com/event/storytime-port-huron/2028-07-19/
LOCATION:Main Library\, 210 McMorran Blvd\, Port Huron\, MI\, 48060\, United States
CATEGORIES:Playgroups
END:VEVENT
BEGIN:VEVENT
DTSTART;TZID=America/New_York:20280720T100000
DTEND;TZID=America/New_York:20280720T110000
DTSTAMP:20260419T140520
CREATED:20251201T004011Z
LAST-MODIFIED:20260307T021133Z
UID:10023946-1847700000-1847703600@bluewaterparent.com
SUMMARY:Great Start Playgroup - Avoca
DESCRIPTION:
URL:https://bluewaterparent.com/event/great-start-playgroup-emmett/2028-07-20/
LOCATION:Avoca Elementary\, 8751 Willow St.\, Avoca\, MI\, 48006\, United States
CATEGORIES:Playgroups
END:VEVENT
BEGIN:VEVENT
DTSTART;TZID=America/New_York:20280720T100000
DTEND;TZID=America/New_York:20280720T110000
DTSTAMP:20260419T140520
CREATED:20260307T014510Z
LAST-MODIFIED:20260307T014908Z
UID:10023685-1847700000-1847703600@bluewaterparent.com
SUMMARY:Great Start Playgroup - Marysville
DESCRIPTION:
URL:https://bluewaterparent.com/event/great-start-playgroup-marysville-3/2028-07-20/
LOCATION:St. Clair County RESA East Campus\, 1111 Delaware Avenue\, Marysville\, MI
CATEGORIES:Playgroups
END:VEVENT
BEGIN:VEVENT
DTSTART;TZID=America/New_York:20280720T110000
DTEND;TZID=America/New_York:20280720T113000
DTSTAMP:20260419T140520
CREATED:20260101T200511Z
LAST-MODIFIED:20260101T213808Z
UID:10021231-1847703600-1847705400@bluewaterparent.com
SUMMARY:Storytime - Algonac
DESCRIPTION:  \n 
URL:https://bluewaterparent.com/event/storytime-algonac-2/2028-07-20/
LOCATION:Algonac-Clay Library\, 2011 St Clair River Dr\, Algonac\, MI\, 48001\, United States
CATEGORIES:Playgroups
END:VEVENT
BEGIN:VEVENT
DTSTART;TZID=America/New_York:20280721T100000
DTEND;TZID=America/New_York:20280721T104500
DTSTAMP:20260419T140520
CREATED:20260101T202520Z
LAST-MODIFIED:20260131T171318Z
UID:10023372-1847786400-1847789100@bluewaterparent.com
SUMMARY:Family Storytime - Memphis
DESCRIPTION:
URL:https://bluewaterparent.com/event/family-storytime-capac-2-2/2028-07-21/
LOCATION:Memphis Library\, 34830 Potter St\, Memphis\, MI\, 48041\, United States
CATEGORIES:Playgroups
END:VEVENT
BEGIN:VEVENT
DTSTART;TZID=America/New_York:20280721T100000
DTEND;TZID=America/New_York:20280721T110000
DTSTAMP:20260419T140520
CREATED:20260419T003829Z
LAST-MODIFIED:20260419T003829Z
UID:10026241-1847786400-1847790000@bluewaterparent.com
SUMMARY:Storytime - Port Huron
DESCRIPTION:
URL:https://bluewaterparent.com/event/storytime-port-huron-2/2028-07-21/
LOCATION:Main Library\, 210 McMorran Blvd\, Port Huron\, MI\, 48060\, United States
CATEGORIES:Playgroups
END:VEVENT
BEGIN:VEVENT
DTSTART;TZID=America/New_York:20280721T110000
DTEND;TZID=America/New_York:20280721T120000
DTSTAMP:20260419T140520
CREATED:20260101T164906Z
LAST-MODIFIED:20260101T171615Z
UID:10017054-1847790000-1847793600@bluewaterparent.com
SUMMARY:Playgroup Pals
DESCRIPTION:
URL:https://bluewaterparent.com/event/playgroup-pals-2/2028-07-21/
LOCATION:Ira Township Library\, 7013 Meldrum Rd\, Ira Township\, Michigan\, 48023\, United States
CATEGORIES:Playgroups
END:VEVENT
BEGIN:VEVENT
DTSTART;TZID=America/New_York:20280724T100000
DTEND;TZID=America/New_York:20280724T110000
DTSTAMP:20260419T140520
CREATED:20260101T192653Z
LAST-MODIFIED:20260307T025320Z
UID:10024468-1848045600-1848049200@bluewaterparent.com
SUMMARY:Storytime - St. Clair
DESCRIPTION:From SCCLS – Join us for a fun and educational blend of stories\, crafts\, movement activities\, and songs.
URL:https://bluewaterparent.com/event/storytime-st-clair/2028-07-24/
LOCATION:St. Clair Library\, 310 S. 2nd Street\, St. Clair\, MI
CATEGORIES:Free,Playgroups
END:VEVENT
BEGIN:VEVENT
DTSTART;TZID=America/New_York:20280724T100000
DTEND;TZID=America/New_York:20280724T110000
DTSTAMP:20260419T140520
CREATED:20260125T194928Z
LAST-MODIFIED:20260125T194929Z
UID:10017577-1848045600-1848049200@bluewaterparent.com
SUMMARY:Storytime - Marysville
DESCRIPTION:From SCCLS – Preschoolers and their adults: Join us at the library for a happy blend of stories\, rhymes\, music and movement\, followed by a creative activity time.
URL:https://bluewaterparent.com/event/storytime-marysville-3/2028-07-24/
LOCATION:Marysville Library\, 1175 Delaware\, Marysville\, MI
CATEGORIES:Free,Playgroups
END:VEVENT
BEGIN:VEVENT
DTSTART;TZID=America/New_York:20280724T100000
DTEND;TZID=America/New_York:20280724T110000
DTSTAMP:20260419T140520
CREATED:20260307T142323Z
LAST-MODIFIED:20260307T142325Z
UID:10017316-1848045600-1848049200@bluewaterparent.com
SUMMARY:Storytime - Yale
DESCRIPTION:
URL:https://bluewaterparent.com/event/storytime-yale-2-2-2/2028-07-24/
LOCATION:Yale Library\, 2 Jones St\, Yale\, MI\, 48097\, United States
CATEGORIES:Free,Playgroups
END:VEVENT
BEGIN:VEVENT
DTSTART;TZID=America/New_York:20280724T103000
DTEND;TZID=America/New_York:20280724T110000
DTSTAMP:20260419T140520
CREATED:20260401T010404Z
LAST-MODIFIED:20260401T010407Z
UID:10025081-1848047400-1848049200@bluewaterparent.com
SUMMARY:Storytime - Burtchville
DESCRIPTION:
URL:https://bluewaterparent.com/event/storytime-burtchville-3-2/2028-07-24/
LOCATION:Burtchville Library\, 7093 2nd St\, Lakeport\, MI\, 48059\, United States
CATEGORIES:Free,Playgroups
END:VEVENT
BEGIN:VEVENT
DTSTART;TZID=America/New_York:20280724T103000
DTEND;TZID=America/New_York:20280724T113000
DTSTAMP:20260419T140520
CREATED:20260321T165751Z
LAST-MODIFIED:20260321T165752Z
UID:10017838-1848047400-1848051000@bluewaterparent.com
SUMMARY:Storytime - Marine City
DESCRIPTION:From SCCLS – Preschoolers and their adults join us at the library for a happy blend of stories and activities.
URL:https://bluewaterparent.com/event/storytime-marine-city-2-2/2028-07-24/
LOCATION:Marine City Library\, 300 S Parker St\, Marine City\, MI\, 48039\, United States
CATEGORIES:Free,Playgroups
END:VEVENT
BEGIN:VEVENT
DTSTART;TZID=America/New_York:20280725T100000
DTEND;TZID=America/New_York:20280725T103000
DTSTAMP:20260419T140520
CREATED:20260418T235804Z
LAST-MODIFIED:20260419T000903Z
UID:10025459-1848132000-1848133800@bluewaterparent.com
SUMMARY:Rhythm and Rhyme - Port Huron
DESCRIPTION:For children ages 0-3 and their caregivers.
URL:https://bluewaterparent.com/event/rhythm-and-rhyme-port-huron/2028-07-25/
LOCATION:Main Library\, 210 McMorran Blvd\, Port Huron\, MI\, 48060\, United States
CATEGORIES:Playgroups
END:VEVENT
BEGIN:VEVENT
DTSTART;TZID=America/New_York:20280725T180000
DTEND;TZID=America/New_York:20280725T183000
DTSTAMP:20260419T140520
CREATED:20260419T002148Z
LAST-MODIFIED:20260419T003520Z
UID:10025720-1848160800-1848162600@bluewaterparent.com
SUMMARY:Bedtime Storytime - Port Huron
DESCRIPTION:
URL:https://bluewaterparent.com/event/bedtime-storytime/2028-07-25/
LOCATION:Main Library\, 210 McMorran Blvd\, Port Huron\, MI\, 48060\, United States
CATEGORIES:Playgroups
END:VEVENT
BEGIN:VEVENT
DTSTART;TZID=America/New_York:20280726T100000
DTEND;TZID=America/New_York:20280726T110000
DTSTAMP:20260419T140520
CREATED:20260419T003159Z
LAST-MODIFIED:20260419T003555Z
UID:10025981-1848218400-1848222000@bluewaterparent.com
SUMMARY:Storytime - Port Huron
DESCRIPTION:
URL:https://bluewaterparent.com/event/storytime-port-huron/2028-07-26/
LOCATION:Main Library\, 210 McMorran Blvd\, Port Huron\, MI\, 48060\, United States
CATEGORIES:Playgroups
END:VEVENT
BEGIN:VEVENT
DTSTART;TZID=America/New_York:20280727T100000
DTEND;TZID=America/New_York:20280727T110000
DTSTAMP:20260419T140520
CREATED:20251201T004011Z
LAST-MODIFIED:20260307T021133Z
UID:10023947-1848304800-1848308400@bluewaterparent.com
SUMMARY:Great Start Playgroup - Avoca
DESCRIPTION:
URL:https://bluewaterparent.com/event/great-start-playgroup-emmett/2028-07-27/
LOCATION:Avoca Elementary\, 8751 Willow St.\, Avoca\, MI\, 48006\, United States
CATEGORIES:Playgroups
END:VEVENT
BEGIN:VEVENT
DTSTART;TZID=America/New_York:20280727T100000
DTEND;TZID=America/New_York:20280727T110000
DTSTAMP:20260419T140520
CREATED:20260307T014510Z
LAST-MODIFIED:20260307T014908Z
UID:10023686-1848304800-1848308400@bluewaterparent.com
SUMMARY:Great Start Playgroup - Marysville
DESCRIPTION:
URL:https://bluewaterparent.com/event/great-start-playgroup-marysville-3/2028-07-27/
LOCATION:St. Clair County RESA East Campus\, 1111 Delaware Avenue\, Marysville\, MI
CATEGORIES:Playgroups
END:VEVENT
END:VCALENDAR