BEGIN:VCALENDAR
VERSION:2.0
PRODID:-//BlueWaterParent.com - ECPv6.15.20//NONSGML v1.0//EN
CALSCALE:GREGORIAN
METHOD:PUBLISH
X-WR-CALNAME:BlueWaterParent.com
X-ORIGINAL-URL:https://bluewaterparent.com
X-WR-CALDESC:Events for BlueWaterParent.com
REFRESH-INTERVAL;VALUE=DURATION:PT1H
X-Robots-Tag:noindex
X-PUBLISHED-TTL:PT1H
BEGIN:VTIMEZONE
TZID:America/New_York
BEGIN:DAYLIGHT
TZOFFSETFROM:-0500
TZOFFSETTO:-0400
TZNAME:EDT
DTSTART:20280312T070000
END:DAYLIGHT
BEGIN:STANDARD
TZOFFSETFROM:-0400
TZOFFSETTO:-0500
TZNAME:EST
DTSTART:20281105T060000
END:STANDARD
BEGIN:DAYLIGHT
TZOFFSETFROM:-0500
TZOFFSETTO:-0400
TZNAME:EDT
DTSTART:20290311T070000
END:DAYLIGHT
BEGIN:STANDARD
TZOFFSETFROM:-0400
TZOFFSETTO:-0500
TZNAME:EST
DTSTART:20291104T060000
END:STANDARD
BEGIN:DAYLIGHT
TZOFFSETFROM:-0500
TZOFFSETTO:-0400
TZNAME:EDT
DTSTART:20300310T070000
END:DAYLIGHT
BEGIN:STANDARD
TZOFFSETFROM:-0400
TZOFFSETTO:-0500
TZNAME:EST
DTSTART:20301103T060000
END:STANDARD
END:VTIMEZONE
BEGIN:VEVENT
DTSTART;TZID=America/New_York:20290625T103000
DTEND;TZID=America/New_York:20290625T110000
DTSTAMP:20260425T232917
CREATED:20260401T010404Z
LAST-MODIFIED:20260401T010407Z
UID:10025129-1877077800-1877079600@bluewaterparent.com
SUMMARY:Storytime - Burtchville
DESCRIPTION:
URL:https://bluewaterparent.com/event/storytime-burtchville-3-2/2029-06-25/
LOCATION:Burtchville Library\, 7093 2nd St\, Lakeport\, MI\, 48059\, United States
CATEGORIES:Free,Playgroups
END:VEVENT
BEGIN:VEVENT
DTSTART;TZID=America/New_York:20290625T103000
DTEND;TZID=America/New_York:20290625T113000
DTSTAMP:20260425T232917
CREATED:20260321T165751Z
LAST-MODIFIED:20260321T165752Z
UID:10017886-1877077800-1877081400@bluewaterparent.com
SUMMARY:Storytime - Marine City
DESCRIPTION:From SCCLS – Preschoolers and their adults join us at the library for a happy blend of stories and activities.
URL:https://bluewaterparent.com/event/storytime-marine-city-2-2/2029-06-25/
LOCATION:Marine City Library\, 300 S Parker St\, Marine City\, MI\, 48039\, United States
CATEGORIES:Free,Playgroups
END:VEVENT
BEGIN:VEVENT
DTSTART;TZID=America/New_York:20290626T100000
DTEND;TZID=America/New_York:20290626T103000
DTSTAMP:20260425T232917
CREATED:20260418T235804Z
LAST-MODIFIED:20260419T000903Z
UID:10025507-1877162400-1877164200@bluewaterparent.com
SUMMARY:Rhythm and Rhyme - Port Huron
DESCRIPTION:For children ages 0-3 and their caregivers.
URL:https://bluewaterparent.com/event/rhythm-and-rhyme-port-huron/2029-06-26/
LOCATION:Main Library\, 210 McMorran Blvd\, Port Huron\, MI\, 48060\, United States
CATEGORIES:Playgroups
END:VEVENT
BEGIN:VEVENT
DTSTART;TZID=America/New_York:20290626T180000
DTEND;TZID=America/New_York:20290626T183000
DTSTAMP:20260425T232917
CREATED:20260419T002148Z
LAST-MODIFIED:20260419T003520Z
UID:10025768-1877191200-1877193000@bluewaterparent.com
SUMMARY:Bedtime Storytime - Port Huron
DESCRIPTION:
URL:https://bluewaterparent.com/event/bedtime-storytime/2029-06-26/
LOCATION:Main Library\, 210 McMorran Blvd\, Port Huron\, MI\, 48060\, United States
CATEGORIES:Playgroups
END:VEVENT
BEGIN:VEVENT
DTSTART;TZID=America/New_York:20290627T100000
DTEND;TZID=America/New_York:20290627T110000
DTSTAMP:20260425T232917
CREATED:20260419T003159Z
LAST-MODIFIED:20260419T003555Z
UID:10026029-1877248800-1877252400@bluewaterparent.com
SUMMARY:Storytime - Port Huron
DESCRIPTION:
URL:https://bluewaterparent.com/event/storytime-port-huron/2029-06-27/
LOCATION:Main Library\, 210 McMorran Blvd\, Port Huron\, MI\, 48060\, United States
CATEGORIES:Playgroups
END:VEVENT
BEGIN:VEVENT
DTSTART;TZID=America/New_York:20290628T100000
DTEND;TZID=America/New_York:20290628T110000
DTSTAMP:20260425T232917
CREATED:20251201T004011Z
LAST-MODIFIED:20260307T021133Z
UID:10023995-1877335200-1877338800@bluewaterparent.com
SUMMARY:Great Start Playgroup - Avoca
DESCRIPTION:
URL:https://bluewaterparent.com/event/great-start-playgroup-emmett/2029-06-28/
LOCATION:Avoca Elementary\, 8751 Willow St.\, Avoca\, MI\, 48006\, United States
CATEGORIES:Playgroups
END:VEVENT
BEGIN:VEVENT
DTSTART;TZID=America/New_York:20290628T100000
DTEND;TZID=America/New_York:20290628T110000
DTSTAMP:20260425T232917
CREATED:20260307T014510Z
LAST-MODIFIED:20260307T014908Z
UID:10023734-1877335200-1877338800@bluewaterparent.com
SUMMARY:Great Start Playgroup - Marysville
DESCRIPTION:
URL:https://bluewaterparent.com/event/great-start-playgroup-marysville-3/2029-06-28/
LOCATION:St. Clair County RESA East Campus\, 1111 Delaware Avenue\, Marysville\, MI
CATEGORIES:Playgroups
END:VEVENT
BEGIN:VEVENT
DTSTART;TZID=America/New_York:20290628T110000
DTEND;TZID=America/New_York:20290628T113000
DTSTAMP:20260425T232917
CREATED:20260101T200511Z
LAST-MODIFIED:20260101T213808Z
UID:10021280-1877338800-1877340600@bluewaterparent.com
SUMMARY:Storytime - Algonac
DESCRIPTION:  \n 
URL:https://bluewaterparent.com/event/storytime-algonac-2/2029-06-28/
LOCATION:Algonac-Clay Library\, 2011 St Clair River Dr\, Algonac\, MI\, 48001\, United States
CATEGORIES:Playgroups
END:VEVENT
BEGIN:VEVENT
DTSTART;TZID=America/New_York:20290629T100000
DTEND;TZID=America/New_York:20290629T104500
DTSTAMP:20260425T232917
CREATED:20260101T202520Z
LAST-MODIFIED:20260131T171318Z
UID:10023421-1877421600-1877424300@bluewaterparent.com
SUMMARY:Family Storytime - Memphis
DESCRIPTION:
URL:https://bluewaterparent.com/event/family-storytime-capac-2-2/2029-06-29/
LOCATION:Memphis Library\, 34830 Potter St\, Memphis\, MI\, 48041\, United States
CATEGORIES:Playgroups
END:VEVENT
BEGIN:VEVENT
DTSTART;TZID=America/New_York:20290629T100000
DTEND;TZID=America/New_York:20290629T110000
DTSTAMP:20260425T232917
CREATED:20260419T003829Z
LAST-MODIFIED:20260419T003829Z
UID:10026290-1877421600-1877425200@bluewaterparent.com
SUMMARY:Storytime - Port Huron
DESCRIPTION:
URL:https://bluewaterparent.com/event/storytime-port-huron-2/2029-06-29/
LOCATION:Main Library\, 210 McMorran Blvd\, Port Huron\, MI\, 48060\, United States
CATEGORIES:Playgroups
END:VEVENT
BEGIN:VEVENT
DTSTART;TZID=America/New_York:20290629T110000
DTEND;TZID=America/New_York:20290629T120000
DTSTAMP:20260425T232917
CREATED:20260101T164906Z
LAST-MODIFIED:20260101T171615Z
UID:10017103-1877425200-1877428800@bluewaterparent.com
SUMMARY:Playgroup Pals
DESCRIPTION:
URL:https://bluewaterparent.com/event/playgroup-pals-2/2029-06-29/
LOCATION:Ira Township Library\, 7013 Meldrum Rd\, Ira Township\, Michigan\, 48023\, United States
CATEGORIES:Playgroups
END:VEVENT
BEGIN:VEVENT
DTSTART;TZID=America/New_York:20290702T100000
DTEND;TZID=America/New_York:20290702T110000
DTSTAMP:20260425T232917
CREATED:20260101T192653Z
LAST-MODIFIED:20260307T025320Z
UID:10024517-1877680800-1877684400@bluewaterparent.com
SUMMARY:Storytime - St. Clair
DESCRIPTION:From SCCLS – Join us for a fun and educational blend of stories\, crafts\, movement activities\, and songs.
URL:https://bluewaterparent.com/event/storytime-st-clair/2029-07-02/
LOCATION:St. Clair Library\, 310 S. 2nd Street\, St. Clair\, MI
CATEGORIES:Free,Playgroups
END:VEVENT
BEGIN:VEVENT
DTSTART;TZID=America/New_York:20290702T100000
DTEND;TZID=America/New_York:20290702T110000
DTSTAMP:20260425T232917
CREATED:20260125T194928Z
LAST-MODIFIED:20260125T194929Z
UID:10017626-1877680800-1877684400@bluewaterparent.com
SUMMARY:Storytime - Marysville
DESCRIPTION:From SCCLS – Preschoolers and their adults: Join us at the library for a happy blend of stories\, rhymes\, music and movement\, followed by a creative activity time.
URL:https://bluewaterparent.com/event/storytime-marysville-3/2029-07-02/
LOCATION:Marysville Library\, 1175 Delaware\, Marysville\, MI
CATEGORIES:Free,Playgroups
END:VEVENT
BEGIN:VEVENT
DTSTART;TZID=America/New_York:20290702T100000
DTEND;TZID=America/New_York:20290702T110000
DTSTAMP:20260425T232917
CREATED:20260307T142323Z
LAST-MODIFIED:20260307T142325Z
UID:10017365-1877680800-1877684400@bluewaterparent.com
SUMMARY:Storytime - Yale
DESCRIPTION:
URL:https://bluewaterparent.com/event/storytime-yale-2-2-2/2029-07-02/
LOCATION:Yale Library\, 2 Jones St\, Yale\, MI\, 48097\, United States
CATEGORIES:Free,Playgroups
END:VEVENT
BEGIN:VEVENT
DTSTART;TZID=America/New_York:20290702T103000
DTEND;TZID=America/New_York:20290702T110000
DTSTAMP:20260425T232917
CREATED:20260401T010404Z
LAST-MODIFIED:20260401T010407Z
UID:10025130-1877682600-1877684400@bluewaterparent.com
SUMMARY:Storytime - Burtchville
DESCRIPTION:
URL:https://bluewaterparent.com/event/storytime-burtchville-3-2/2029-07-02/
LOCATION:Burtchville Library\, 7093 2nd St\, Lakeport\, MI\, 48059\, United States
CATEGORIES:Free,Playgroups
END:VEVENT
BEGIN:VEVENT
DTSTART;TZID=America/New_York:20290702T103000
DTEND;TZID=America/New_York:20290702T113000
DTSTAMP:20260425T232917
CREATED:20260321T165751Z
LAST-MODIFIED:20260321T165752Z
UID:10024749-1877682600-1877686200@bluewaterparent.com
SUMMARY:Storytime - Marine City
DESCRIPTION:From SCCLS – Preschoolers and their adults join us at the library for a happy blend of stories and activities.
URL:https://bluewaterparent.com/event/storytime-marine-city-2-2/2029-07-02/
LOCATION:Marine City Library\, 300 S Parker St\, Marine City\, MI\, 48039\, United States
CATEGORIES:Free,Playgroups
END:VEVENT
BEGIN:VEVENT
DTSTART;TZID=America/New_York:20290703T100000
DTEND;TZID=America/New_York:20290703T103000
DTSTAMP:20260425T232917
CREATED:20260418T235804Z
LAST-MODIFIED:20260419T000903Z
UID:10025508-1877767200-1877769000@bluewaterparent.com
SUMMARY:Rhythm and Rhyme - Port Huron
DESCRIPTION:For children ages 0-3 and their caregivers.
URL:https://bluewaterparent.com/event/rhythm-and-rhyme-port-huron/2029-07-03/
LOCATION:Main Library\, 210 McMorran Blvd\, Port Huron\, MI\, 48060\, United States
CATEGORIES:Playgroups
END:VEVENT
BEGIN:VEVENT
DTSTART;TZID=America/New_York:20290703T180000
DTEND;TZID=America/New_York:20290703T183000
DTSTAMP:20260425T232917
CREATED:20260419T002148Z
LAST-MODIFIED:20260419T003520Z
UID:10025769-1877796000-1877797800@bluewaterparent.com
SUMMARY:Bedtime Storytime - Port Huron
DESCRIPTION:
URL:https://bluewaterparent.com/event/bedtime-storytime/2029-07-03/
LOCATION:Main Library\, 210 McMorran Blvd\, Port Huron\, MI\, 48060\, United States
CATEGORIES:Playgroups
END:VEVENT
BEGIN:VEVENT
DTSTART;TZID=America/New_York:20290704T100000
DTEND;TZID=America/New_York:20290704T110000
DTSTAMP:20260425T232917
CREATED:20260419T003159Z
LAST-MODIFIED:20260419T003555Z
UID:10026030-1877853600-1877857200@bluewaterparent.com
SUMMARY:Storytime - Port Huron
DESCRIPTION:
URL:https://bluewaterparent.com/event/storytime-port-huron/2029-07-04/
LOCATION:Main Library\, 210 McMorran Blvd\, Port Huron\, MI\, 48060\, United States
CATEGORIES:Playgroups
END:VEVENT
BEGIN:VEVENT
DTSTART;TZID=America/New_York:20290705T100000
DTEND;TZID=America/New_York:20290705T110000
DTSTAMP:20260425T232917
CREATED:20251201T004011Z
LAST-MODIFIED:20260307T021133Z
UID:10023996-1877940000-1877943600@bluewaterparent.com
SUMMARY:Great Start Playgroup - Avoca
DESCRIPTION:
URL:https://bluewaterparent.com/event/great-start-playgroup-emmett/2029-07-05/
LOCATION:Avoca Elementary\, 8751 Willow St.\, Avoca\, MI\, 48006\, United States
CATEGORIES:Playgroups
END:VEVENT
BEGIN:VEVENT
DTSTART;TZID=America/New_York:20290705T100000
DTEND;TZID=America/New_York:20290705T110000
DTSTAMP:20260425T232917
CREATED:20260307T014510Z
LAST-MODIFIED:20260307T014908Z
UID:10023735-1877940000-1877943600@bluewaterparent.com
SUMMARY:Great Start Playgroup - Marysville
DESCRIPTION:
URL:https://bluewaterparent.com/event/great-start-playgroup-marysville-3/2029-07-05/
LOCATION:St. Clair County RESA East Campus\, 1111 Delaware Avenue\, Marysville\, MI
CATEGORIES:Playgroups
END:VEVENT
BEGIN:VEVENT
DTSTART;TZID=America/New_York:20290705T110000
DTEND;TZID=America/New_York:20290705T113000
DTSTAMP:20260425T232917
CREATED:20260101T200511Z
LAST-MODIFIED:20260101T213808Z
UID:10021281-1877943600-1877945400@bluewaterparent.com
SUMMARY:Storytime - Algonac
DESCRIPTION:  \n 
URL:https://bluewaterparent.com/event/storytime-algonac-2/2029-07-05/
LOCATION:Algonac-Clay Library\, 2011 St Clair River Dr\, Algonac\, MI\, 48001\, United States
CATEGORIES:Playgroups
END:VEVENT
BEGIN:VEVENT
DTSTART;TZID=America/New_York:20290706T100000
DTEND;TZID=America/New_York:20290706T104500
DTSTAMP:20260425T232917
CREATED:20260101T202520Z
LAST-MODIFIED:20260131T171318Z
UID:10023422-1878026400-1878029100@bluewaterparent.com
SUMMARY:Family Storytime - Memphis
DESCRIPTION:
URL:https://bluewaterparent.com/event/family-storytime-capac-2-2/2029-07-06/
LOCATION:Memphis Library\, 34830 Potter St\, Memphis\, MI\, 48041\, United States
CATEGORIES:Playgroups
END:VEVENT
BEGIN:VEVENT
DTSTART;TZID=America/New_York:20290706T100000
DTEND;TZID=America/New_York:20290706T110000
DTSTAMP:20260425T232917
CREATED:20260419T003829Z
LAST-MODIFIED:20260419T003829Z
UID:10026291-1878026400-1878030000@bluewaterparent.com
SUMMARY:Storytime - Port Huron
DESCRIPTION:
URL:https://bluewaterparent.com/event/storytime-port-huron-2/2029-07-06/
LOCATION:Main Library\, 210 McMorran Blvd\, Port Huron\, MI\, 48060\, United States
CATEGORIES:Playgroups
END:VEVENT
BEGIN:VEVENT
DTSTART;TZID=America/New_York:20290706T110000
DTEND;TZID=America/New_York:20290706T120000
DTSTAMP:20260425T232917
CREATED:20260101T164906Z
LAST-MODIFIED:20260101T171615Z
UID:10017104-1878030000-1878033600@bluewaterparent.com
SUMMARY:Playgroup Pals
DESCRIPTION:
URL:https://bluewaterparent.com/event/playgroup-pals-2/2029-07-06/
LOCATION:Ira Township Library\, 7013 Meldrum Rd\, Ira Township\, Michigan\, 48023\, United States
CATEGORIES:Playgroups
END:VEVENT
BEGIN:VEVENT
DTSTART;TZID=America/New_York:20290709T100000
DTEND;TZID=America/New_York:20290709T110000
DTSTAMP:20260425T232917
CREATED:20260101T192653Z
LAST-MODIFIED:20260307T025320Z
UID:10024518-1878285600-1878289200@bluewaterparent.com
SUMMARY:Storytime - St. Clair
DESCRIPTION:From SCCLS – Join us for a fun and educational blend of stories\, crafts\, movement activities\, and songs.
URL:https://bluewaterparent.com/event/storytime-st-clair/2029-07-09/
LOCATION:St. Clair Library\, 310 S. 2nd Street\, St. Clair\, MI
CATEGORIES:Free,Playgroups
END:VEVENT
BEGIN:VEVENT
DTSTART;TZID=America/New_York:20290709T100000
DTEND;TZID=America/New_York:20290709T110000
DTSTAMP:20260425T232917
CREATED:20260125T194928Z
LAST-MODIFIED:20260125T194929Z
UID:10017627-1878285600-1878289200@bluewaterparent.com
SUMMARY:Storytime - Marysville
DESCRIPTION:From SCCLS – Preschoolers and their adults: Join us at the library for a happy blend of stories\, rhymes\, music and movement\, followed by a creative activity time.
URL:https://bluewaterparent.com/event/storytime-marysville-3/2029-07-09/
LOCATION:Marysville Library\, 1175 Delaware\, Marysville\, MI
CATEGORIES:Free,Playgroups
END:VEVENT
BEGIN:VEVENT
DTSTART;TZID=America/New_York:20290709T100000
DTEND;TZID=America/New_York:20290709T110000
DTSTAMP:20260425T232917
CREATED:20260307T142323Z
LAST-MODIFIED:20260307T142325Z
UID:10017366-1878285600-1878289200@bluewaterparent.com
SUMMARY:Storytime - Yale
DESCRIPTION:
URL:https://bluewaterparent.com/event/storytime-yale-2-2-2/2029-07-09/
LOCATION:Yale Library\, 2 Jones St\, Yale\, MI\, 48097\, United States
CATEGORIES:Free,Playgroups
END:VEVENT
BEGIN:VEVENT
DTSTART;TZID=America/New_York:20290709T103000
DTEND;TZID=America/New_York:20290709T110000
DTSTAMP:20260425T232917
CREATED:20260401T010404Z
LAST-MODIFIED:20260401T010407Z
UID:10025131-1878287400-1878289200@bluewaterparent.com
SUMMARY:Storytime - Burtchville
DESCRIPTION:
URL:https://bluewaterparent.com/event/storytime-burtchville-3-2/2029-07-09/
LOCATION:Burtchville Library\, 7093 2nd St\, Lakeport\, MI\, 48059\, United States
CATEGORIES:Free,Playgroups
END:VEVENT
BEGIN:VEVENT
DTSTART;TZID=America/New_York:20290709T103000
DTEND;TZID=America/New_York:20290709T113000
DTSTAMP:20260425T232917
CREATED:20260321T165751Z
LAST-MODIFIED:20260321T165752Z
UID:10017888-1878287400-1878291000@bluewaterparent.com
SUMMARY:Storytime - Marine City
DESCRIPTION:From SCCLS – Preschoolers and their adults join us at the library for a happy blend of stories and activities.
URL:https://bluewaterparent.com/event/storytime-marine-city-2-2/2029-07-09/
LOCATION:Marine City Library\, 300 S Parker St\, Marine City\, MI\, 48039\, United States
CATEGORIES:Free,Playgroups
END:VEVENT
END:VCALENDAR