BEGIN:VCALENDAR
VERSION:2.0
PRODID:-//BlueWaterParent.com - ECPv6.15.20//NONSGML v1.0//EN
CALSCALE:GREGORIAN
METHOD:PUBLISH
X-WR-CALNAME:BlueWaterParent.com
X-ORIGINAL-URL:https://bluewaterparent.com
X-WR-CALDESC:Events for BlueWaterParent.com
REFRESH-INTERVAL;VALUE=DURATION:PT1H
X-Robots-Tag:noindex
X-PUBLISHED-TTL:PT1H
BEGIN:VTIMEZONE
TZID:America/New_York
BEGIN:DAYLIGHT
TZOFFSETFROM:-0500
TZOFFSETTO:-0400
TZNAME:EDT
DTSTART:20260308T070000
END:DAYLIGHT
BEGIN:STANDARD
TZOFFSETFROM:-0400
TZOFFSETTO:-0500
TZNAME:EST
DTSTART:20261101T060000
END:STANDARD
BEGIN:DAYLIGHT
TZOFFSETFROM:-0500
TZOFFSETTO:-0400
TZNAME:EDT
DTSTART:20270314T070000
END:DAYLIGHT
BEGIN:STANDARD
TZOFFSETFROM:-0400
TZOFFSETTO:-0500
TZNAME:EST
DTSTART:20271107T060000
END:STANDARD
BEGIN:DAYLIGHT
TZOFFSETFROM:-0500
TZOFFSETTO:-0400
TZNAME:EDT
DTSTART:20280312T070000
END:DAYLIGHT
BEGIN:STANDARD
TZOFFSETFROM:-0400
TZOFFSETTO:-0500
TZNAME:EST
DTSTART:20281105T060000
END:STANDARD
END:VTIMEZONE
BEGIN:VEVENT
DTSTART;TZID=America/New_York:20270618T110000
DTEND;TZID=America/New_York:20270618T120000
DTSTAMP:20260419T183914
CREATED:20260101T164906Z
LAST-MODIFIED:20260101T171615Z
UID:10016997-1813316400-1813320000@bluewaterparent.com
SUMMARY:Playgroup Pals
DESCRIPTION:
URL:https://bluewaterparent.com/event/playgroup-pals-2/2027-06-18/
LOCATION:Ira Township Library\, 7013 Meldrum Rd\, Ira Township\, Michigan\, 48023\, United States
CATEGORIES:Playgroups
END:VEVENT
BEGIN:VEVENT
DTSTART;TZID=America/New_York:20270618T100000
DTEND;TZID=America/New_York:20270618T110000
DTSTAMP:20260419T183914
CREATED:20260419T003829Z
LAST-MODIFIED:20260419T003829Z
UID:10026184-1813312800-1813316400@bluewaterparent.com
SUMMARY:Storytime - Port Huron
DESCRIPTION:
URL:https://bluewaterparent.com/event/storytime-port-huron-2/2027-06-18/
LOCATION:Main Library\, 210 McMorran Blvd\, Port Huron\, MI\, 48060\, United States
CATEGORIES:Playgroups
END:VEVENT
BEGIN:VEVENT
DTSTART;TZID=America/New_York:20270618T100000
DTEND;TZID=America/New_York:20270618T104500
DTSTAMP:20260419T183914
CREATED:20260101T202520Z
LAST-MODIFIED:20260131T171318Z
UID:10023315-1813312800-1813315500@bluewaterparent.com
SUMMARY:Family Storytime - Memphis
DESCRIPTION:
URL:https://bluewaterparent.com/event/family-storytime-capac-2-2/2027-06-18/
LOCATION:Memphis Library\, 34830 Potter St\, Memphis\, MI\, 48041\, United States
CATEGORIES:Playgroups
END:VEVENT
BEGIN:VEVENT
DTSTART;TZID=America/New_York:20270618T080000
DTEND;TZID=America/New_York:20270618T170000
DTSTAMP:20260419T183914
CREATED:20260419T012510Z
LAST-MODIFIED:20260419T012510Z
UID:10026509-1813305600-1813338000@bluewaterparent.com
SUMMARY:Discovery Lab for Littles
DESCRIPTION:This event is included with admission.
URL:https://bluewaterparent.com/event/discovery-lab-for-littles/2027-06-18/
LOCATION:Discovery City Children’s Museum\, 317 Grand River Avenue\, Port huron\, MI\, 48060
END:VEVENT
BEGIN:VEVENT
DTSTART;TZID=America/New_York:20270617T171500
DTEND;TZID=America/New_York:20270617T174500
DTSTAMP:20260419T183914
CREATED:20260328T183605Z
LAST-MODIFIED:20260328T183607Z
UID:10024824-1813252500-1813254300@bluewaterparent.com
SUMMARY:Little House on the Prairie Book Club for Kids
DESCRIPTION:  \n 
URL:https://bluewaterparent.com/event/little-house-on-the-prairie-book-club-for-kids-2-3/2027-06-17/
LOCATION:Capac Library\, 111 N Main St\, Capac\, MI\, 48014\, United States
CATEGORIES:Free
END:VEVENT
BEGIN:VEVENT
DTSTART;TZID=America/New_York:20270617T143000
DTEND;TZID=America/New_York:20270617T160000
DTSTAMP:20260419T183914
CREATED:20260101T200828Z
LAST-MODIFIED:20260101T200854Z
UID:10019668-1813242600-1813248000@bluewaterparent.com
SUMMARY:Teen Time - Yale
DESCRIPTION:
URL:https://bluewaterparent.com/event/teen-time-yale-3/2027-06-17/
LOCATION:Yale Library\, 2 Jones St\, Yale\, MI\, 48097\, United States
CATEGORIES:Teens
END:VEVENT
BEGIN:VEVENT
DTSTART;TZID=America/New_York:20270617T110000
DTEND;TZID=America/New_York:20270617T113000
DTSTAMP:20260419T183914
CREATED:20260101T200511Z
LAST-MODIFIED:20260101T213808Z
UID:10021174-1813230000-1813231800@bluewaterparent.com
SUMMARY:Storytime - Algonac
DESCRIPTION:  \n 
URL:https://bluewaterparent.com/event/storytime-algonac-2/2027-06-17/
LOCATION:Algonac-Clay Library\, 2011 St Clair River Dr\, Algonac\, MI\, 48001\, United States
CATEGORIES:Playgroups
END:VEVENT
BEGIN:VEVENT
DTSTART;TZID=America/New_York:20270617T100000
DTEND;TZID=America/New_York:20270617T110000
DTSTAMP:20260419T183914
CREATED:20260307T014510Z
LAST-MODIFIED:20260307T014908Z
UID:10023628-1813226400-1813230000@bluewaterparent.com
SUMMARY:Great Start Playgroup - Marysville
DESCRIPTION:
URL:https://bluewaterparent.com/event/great-start-playgroup-marysville-3/2027-06-17/
LOCATION:St. Clair County RESA East Campus\, 1111 Delaware Avenue\, Marysville\, MI
CATEGORIES:Playgroups
END:VEVENT
BEGIN:VEVENT
DTSTART;TZID=America/New_York:20270617T100000
DTEND;TZID=America/New_York:20270617T110000
DTSTAMP:20260419T183914
CREATED:20251201T004011Z
LAST-MODIFIED:20260307T021133Z
UID:10023889-1813226400-1813230000@bluewaterparent.com
SUMMARY:Great Start Playgroup - Avoca
DESCRIPTION:
URL:https://bluewaterparent.com/event/great-start-playgroup-emmett/2027-06-17/
LOCATION:Avoca Elementary\, 8751 Willow St.\, Avoca\, MI\, 48006\, United States
CATEGORIES:Playgroups
END:VEVENT
BEGIN:VEVENT
DTSTART;TZID=America/New_York:20270616T100000
DTEND;TZID=America/New_York:20270616T110000
DTSTAMP:20260419T183914
CREATED:20260419T003159Z
LAST-MODIFIED:20260419T003555Z
UID:10025923-1813140000-1813143600@bluewaterparent.com
SUMMARY:Storytime - Port Huron
DESCRIPTION:
URL:https://bluewaterparent.com/event/storytime-port-huron/2027-06-16/
LOCATION:Main Library\, 210 McMorran Blvd\, Port Huron\, MI\, 48060\, United States
CATEGORIES:Playgroups
END:VEVENT
BEGIN:VEVENT
DTSTART;TZID=America/New_York:20270616T080000
DTEND;TZID=America/New_York:20270616T170000
DTSTAMP:20260419T183914
CREATED:20260419T012510Z
LAST-MODIFIED:20260419T012510Z
UID:10026508-1813132800-1813165200@bluewaterparent.com
SUMMARY:Discovery Lab for Littles
DESCRIPTION:This event is included with admission.
URL:https://bluewaterparent.com/event/discovery-lab-for-littles/2027-06-16/
LOCATION:Discovery City Children’s Museum\, 317 Grand River Avenue\, Port huron\, MI\, 48060
END:VEVENT
BEGIN:VEVENT
DTSTART;TZID=America/New_York:20270615T180000
DTEND;TZID=America/New_York:20270615T183000
DTSTAMP:20260419T183914
CREATED:20260419T002148Z
LAST-MODIFIED:20260419T003520Z
UID:10025662-1813082400-1813084200@bluewaterparent.com
SUMMARY:Bedtime Storytime - Port Huron
DESCRIPTION:
URL:https://bluewaterparent.com/event/bedtime-storytime/2027-06-15/
LOCATION:Main Library\, 210 McMorran Blvd\, Port Huron\, MI\, 48060\, United States
CATEGORIES:Playgroups
END:VEVENT
BEGIN:VEVENT
DTSTART;TZID=America/New_York:20270615T100000
DTEND;TZID=America/New_York:20270615T103000
DTSTAMP:20260419T183914
CREATED:20260418T235804Z
LAST-MODIFIED:20260419T000903Z
UID:10025401-1813053600-1813055400@bluewaterparent.com
SUMMARY:Rhythm and Rhyme - Port Huron
DESCRIPTION:For children ages 0-3 and their caregivers.
URL:https://bluewaterparent.com/event/rhythm-and-rhyme-port-huron/2027-06-15/
LOCATION:Main Library\, 210 McMorran Blvd\, Port Huron\, MI\, 48060\, United States
CATEGORIES:Playgroups
END:VEVENT
BEGIN:VEVENT
DTSTART;TZID=America/New_York:20270614T160000
DTEND;TZID=America/New_York:20270614T180000
DTSTAMP:20260419T183914
CREATED:20260101T211427Z
LAST-MODIFIED:20260101T211427Z
UID:10021049-1812988800-1812996000@bluewaterparent.com
SUMMARY:Teen Scene
DESCRIPTION:Ages 13-18.
URL:https://bluewaterparent.com/event/teen-scene/2027-06-14/
LOCATION:Capac Library\, 111 N Main St\, Capac\, MI\, 48014\, United States
CATEGORIES:Teens
END:VEVENT
BEGIN:VEVENT
DTSTART;TZID=America/New_York:20270614T103000
DTEND;TZID=America/New_York:20270614T113000
DTSTAMP:20260419T183914
CREATED:20260321T165751Z
LAST-MODIFIED:20260321T165752Z
UID:10017780-1812969000-1812972600@bluewaterparent.com
SUMMARY:Storytime - Marine City
DESCRIPTION:From SCCLS – Preschoolers and their adults join us at the library for a happy blend of stories and activities.
URL:https://bluewaterparent.com/event/storytime-marine-city-2-2/2027-06-14/
LOCATION:Marine City Library\, 300 S Parker St\, Marine City\, MI\, 48039\, United States
CATEGORIES:Free,Playgroups
END:VEVENT
BEGIN:VEVENT
DTSTART;TZID=America/New_York:20270614T103000
DTEND;TZID=America/New_York:20270614T110000
DTSTAMP:20260419T183914
CREATED:20260401T010404Z
LAST-MODIFIED:20260401T010407Z
UID:10025023-1812969000-1812970800@bluewaterparent.com
SUMMARY:Storytime - Burtchville
DESCRIPTION:
URL:https://bluewaterparent.com/event/storytime-burtchville-3-2/2027-06-14/
LOCATION:Burtchville Library\, 7093 2nd St\, Lakeport\, MI\, 48059\, United States
CATEGORIES:Free,Playgroups
END:VEVENT
BEGIN:VEVENT
DTSTART;TZID=America/New_York:20270614T100000
DTEND;TZID=America/New_York:20270614T110000
DTSTAMP:20260419T183914
CREATED:20260307T142323Z
LAST-MODIFIED:20260307T142325Z
UID:10017258-1812967200-1812970800@bluewaterparent.com
SUMMARY:Storytime - Yale
DESCRIPTION:
URL:https://bluewaterparent.com/event/storytime-yale-2-2-2/2027-06-14/
LOCATION:Yale Library\, 2 Jones St\, Yale\, MI\, 48097\, United States
CATEGORIES:Free,Playgroups
END:VEVENT
BEGIN:VEVENT
DTSTART;TZID=America/New_York:20270614T100000
DTEND;TZID=America/New_York:20270614T110000
DTSTAMP:20260419T183914
CREATED:20260125T194928Z
LAST-MODIFIED:20260125T194929Z
UID:10017519-1812967200-1812970800@bluewaterparent.com
SUMMARY:Storytime - Marysville
DESCRIPTION:From SCCLS – Preschoolers and their adults: Join us at the library for a happy blend of stories\, rhymes\, music and movement\, followed by a creative activity time.
URL:https://bluewaterparent.com/event/storytime-marysville-3/2027-06-14/
LOCATION:Marysville Library\, 1175 Delaware\, Marysville\, MI
CATEGORIES:Free,Playgroups
END:VEVENT
BEGIN:VEVENT
DTSTART;TZID=America/New_York:20270614T100000
DTEND;TZID=America/New_York:20270614T110000
DTSTAMP:20260419T183914
CREATED:20260101T192653Z
LAST-MODIFIED:20260307T025320Z
UID:10024410-1812967200-1812970800@bluewaterparent.com
SUMMARY:Storytime - St. Clair
DESCRIPTION:From SCCLS – Join us for a fun and educational blend of stories\, crafts\, movement activities\, and songs.
URL:https://bluewaterparent.com/event/storytime-st-clair/2027-06-14/
LOCATION:St. Clair Library\, 310 S. 2nd Street\, St. Clair\, MI
CATEGORIES:Free,Playgroups
END:VEVENT
BEGIN:VEVENT
DTSTART;TZID=America/New_York:20270611T150000
DTEND;TZID=America/New_York:20270611T163000
DTSTAMP:20260419T183914
CREATED:20260101T204005Z
LAST-MODIFIED:20260103T023339Z
UID:10021642-1812726000-1812731400@bluewaterparent.com
SUMMARY:Friday Game Zone
DESCRIPTION:
URL:https://bluewaterparent.com/event/friday-game-zone/2027-06-11/
LOCATION:Ira Township Library\, 7013 Meldrum Rd\, Ira Township\, Michigan\, 48023\, United States
CATEGORIES:Free
END:VEVENT
BEGIN:VEVENT
DTSTART;TZID=America/New_York:20270611T110000
DTEND;TZID=America/New_York:20270611T120000
DTSTAMP:20260419T183914
CREATED:20260101T164906Z
LAST-MODIFIED:20260101T171615Z
UID:10016996-1812711600-1812715200@bluewaterparent.com
SUMMARY:Playgroup Pals
DESCRIPTION:
URL:https://bluewaterparent.com/event/playgroup-pals-2/2027-06-11/
LOCATION:Ira Township Library\, 7013 Meldrum Rd\, Ira Township\, Michigan\, 48023\, United States
CATEGORIES:Playgroups
END:VEVENT
BEGIN:VEVENT
DTSTART;TZID=America/New_York:20270611T100000
DTEND;TZID=America/New_York:20270611T110000
DTSTAMP:20260419T183914
CREATED:20260419T003829Z
LAST-MODIFIED:20260419T003829Z
UID:10026183-1812708000-1812711600@bluewaterparent.com
SUMMARY:Storytime - Port Huron
DESCRIPTION:
URL:https://bluewaterparent.com/event/storytime-port-huron-2/2027-06-11/
LOCATION:Main Library\, 210 McMorran Blvd\, Port Huron\, MI\, 48060\, United States
CATEGORIES:Playgroups
END:VEVENT
BEGIN:VEVENT
DTSTART;TZID=America/New_York:20270611T100000
DTEND;TZID=America/New_York:20270611T104500
DTSTAMP:20260419T183914
CREATED:20260101T202520Z
LAST-MODIFIED:20260131T171318Z
UID:10023314-1812708000-1812710700@bluewaterparent.com
SUMMARY:Family Storytime - Memphis
DESCRIPTION:
URL:https://bluewaterparent.com/event/family-storytime-capac-2-2/2027-06-11/
LOCATION:Memphis Library\, 34830 Potter St\, Memphis\, MI\, 48041\, United States
CATEGORIES:Playgroups
END:VEVENT
BEGIN:VEVENT
DTSTART;TZID=America/New_York:20270611T080000
DTEND;TZID=America/New_York:20270611T170000
DTSTAMP:20260419T183914
CREATED:20260419T012510Z
LAST-MODIFIED:20260419T012510Z
UID:10026507-1812700800-1812733200@bluewaterparent.com
SUMMARY:Discovery Lab for Littles
DESCRIPTION:This event is included with admission.
URL:https://bluewaterparent.com/event/discovery-lab-for-littles/2027-06-11/
LOCATION:Discovery City Children’s Museum\, 317 Grand River Avenue\, Port huron\, MI\, 48060
END:VEVENT
BEGIN:VEVENT
DTSTART;TZID=America/New_York:20270610T153000
DTEND;TZID=America/New_York:20270610T180000
DTSTAMP:20260419T183914
CREATED:20260101T201514Z
LAST-MODIFIED:20260103T021445Z
UID:10020131-1812641400-1812650400@bluewaterparent.com
SUMMARY:To D&D\, And Beyond!
DESCRIPTION:  \n 
URL:https://bluewaterparent.com/event/to-dd-and-beyond-3/2027-06-10/
LOCATION:Marysville Library\, 1175 Delaware\, Marysville\, MI
CATEGORIES:Teens
END:VEVENT
BEGIN:VEVENT
DTSTART;TZID=America/New_York:20270610T143000
DTEND;TZID=America/New_York:20270610T160000
DTSTAMP:20260419T183914
CREATED:20260101T200828Z
LAST-MODIFIED:20260101T200854Z
UID:10019667-1812637800-1812643200@bluewaterparent.com
SUMMARY:Teen Time - Yale
DESCRIPTION:
URL:https://bluewaterparent.com/event/teen-time-yale-3/2027-06-10/
LOCATION:Yale Library\, 2 Jones St\, Yale\, MI\, 48097\, United States
CATEGORIES:Teens
END:VEVENT
BEGIN:VEVENT
DTSTART;TZID=America/New_York:20270610T110000
DTEND;TZID=America/New_York:20270610T113000
DTSTAMP:20260419T183914
CREATED:20260101T200511Z
LAST-MODIFIED:20260101T213808Z
UID:10021173-1812625200-1812627000@bluewaterparent.com
SUMMARY:Storytime - Algonac
DESCRIPTION:  \n 
URL:https://bluewaterparent.com/event/storytime-algonac-2/2027-06-10/
LOCATION:Algonac-Clay Library\, 2011 St Clair River Dr\, Algonac\, MI\, 48001\, United States
CATEGORIES:Playgroups
END:VEVENT
BEGIN:VEVENT
DTSTART;TZID=America/New_York:20270610T100000
DTEND;TZID=America/New_York:20270610T110000
DTSTAMP:20260419T183914
CREATED:20260307T014510Z
LAST-MODIFIED:20260307T014908Z
UID:10023627-1812621600-1812625200@bluewaterparent.com
SUMMARY:Great Start Playgroup - Marysville
DESCRIPTION:
URL:https://bluewaterparent.com/event/great-start-playgroup-marysville-3/2027-06-10/
LOCATION:St. Clair County RESA East Campus\, 1111 Delaware Avenue\, Marysville\, MI
CATEGORIES:Playgroups
END:VEVENT
BEGIN:VEVENT
DTSTART;TZID=America/New_York:20270610T100000
DTEND;TZID=America/New_York:20270610T110000
DTSTAMP:20260419T183914
CREATED:20251201T004011Z
LAST-MODIFIED:20260307T021133Z
UID:10023888-1812621600-1812625200@bluewaterparent.com
SUMMARY:Great Start Playgroup - Avoca
DESCRIPTION:
URL:https://bluewaterparent.com/event/great-start-playgroup-emmett/2027-06-10/
LOCATION:Avoca Elementary\, 8751 Willow St.\, Avoca\, MI\, 48006\, United States
CATEGORIES:Playgroups
END:VEVENT
BEGIN:VEVENT
DTSTART;TZID=America/New_York:20270609T100000
DTEND;TZID=America/New_York:20270609T110000
DTSTAMP:20260419T183914
CREATED:20260419T003159Z
LAST-MODIFIED:20260419T003555Z
UID:10025922-1812535200-1812538800@bluewaterparent.com
SUMMARY:Storytime - Port Huron
DESCRIPTION:
URL:https://bluewaterparent.com/event/storytime-port-huron/2027-06-09/
LOCATION:Main Library\, 210 McMorran Blvd\, Port Huron\, MI\, 48060\, United States
CATEGORIES:Playgroups
END:VEVENT
END:VCALENDAR