BEGIN:VCALENDAR
VERSION:2.0
PRODID:-//BlueWaterParent.com - ECPv6.15.20//NONSGML v1.0//EN
CALSCALE:GREGORIAN
METHOD:PUBLISH
X-WR-CALNAME:BlueWaterParent.com
X-ORIGINAL-URL:https://bluewaterparent.com
X-WR-CALDESC:Events for BlueWaterParent.com
REFRESH-INTERVAL;VALUE=DURATION:PT1H
X-Robots-Tag:noindex
X-PUBLISHED-TTL:PT1H
BEGIN:VTIMEZONE
TZID:America/New_York
BEGIN:DAYLIGHT
TZOFFSETFROM:-0500
TZOFFSETTO:-0400
TZNAME:EDT
DTSTART:20290311T070000
END:DAYLIGHT
BEGIN:STANDARD
TZOFFSETFROM:-0400
TZOFFSETTO:-0500
TZNAME:EST
DTSTART:20291104T060000
END:STANDARD
BEGIN:DAYLIGHT
TZOFFSETFROM:-0500
TZOFFSETTO:-0400
TZNAME:EDT
DTSTART:20300310T070000
END:DAYLIGHT
BEGIN:STANDARD
TZOFFSETFROM:-0400
TZOFFSETTO:-0500
TZNAME:EST
DTSTART:20301103T060000
END:STANDARD
BEGIN:DAYLIGHT
TZOFFSETFROM:-0500
TZOFFSETTO:-0400
TZNAME:EDT
DTSTART:20310309T070000
END:DAYLIGHT
BEGIN:STANDARD
TZOFFSETFROM:-0400
TZOFFSETTO:-0500
TZNAME:EST
DTSTART:20311102T060000
END:STANDARD
END:VTIMEZONE
BEGIN:VEVENT
DTSTART;TZID=America/New_York:20300422T103000
DTEND;TZID=America/New_York:20300422T113000
DTSTAMP:20260425T064220
CREATED:20260321T165751Z
LAST-MODIFIED:20260321T165752Z
UID:10024770-1903084200-1903087800@bluewaterparent.com
SUMMARY:Storytime - Marine City
DESCRIPTION:From SCCLS – Preschoolers and their adults join us at the library for a happy blend of stories and activities.
URL:https://bluewaterparent.com/event/storytime-marine-city-2-2/2030-04-22/
LOCATION:Marine City Library\, 300 S Parker St\, Marine City\, MI\, 48039\, United States
CATEGORIES:Free,Playgroups
END:VEVENT
BEGIN:VEVENT
DTSTART;TZID=America/New_York:20300422T103000
DTEND;TZID=America/New_York:20300422T110000
DTSTAMP:20260425T064220
CREATED:20260401T010404Z
LAST-MODIFIED:20260401T010407Z
UID:10025172-1903084200-1903086000@bluewaterparent.com
SUMMARY:Storytime - Burtchville
DESCRIPTION:
URL:https://bluewaterparent.com/event/storytime-burtchville-3-2/2030-04-22/
LOCATION:Burtchville Library\, 7093 2nd St\, Lakeport\, MI\, 48059\, United States
CATEGORIES:Free,Playgroups
END:VEVENT
BEGIN:VEVENT
DTSTART;TZID=America/New_York:20300422T100000
DTEND;TZID=America/New_York:20300422T110000
DTSTAMP:20260425T064220
CREATED:20260307T142323Z
LAST-MODIFIED:20260307T142325Z
UID:10017407-1903082400-1903086000@bluewaterparent.com
SUMMARY:Storytime - Yale
DESCRIPTION:
URL:https://bluewaterparent.com/event/storytime-yale-2-2-2/2030-04-22/
LOCATION:Yale Library\, 2 Jones St\, Yale\, MI\, 48097\, United States
CATEGORIES:Free,Playgroups
END:VEVENT
BEGIN:VEVENT
DTSTART;TZID=America/New_York:20300422T100000
DTEND;TZID=America/New_York:20300422T110000
DTSTAMP:20260425T064220
CREATED:20260125T194928Z
LAST-MODIFIED:20260125T194929Z
UID:10017668-1903082400-1903086000@bluewaterparent.com
SUMMARY:Storytime - Marysville
DESCRIPTION:From SCCLS – Preschoolers and their adults: Join us at the library for a happy blend of stories\, rhymes\, music and movement\, followed by a creative activity time.
URL:https://bluewaterparent.com/event/storytime-marysville-3/2030-04-22/
LOCATION:Marysville Library\, 1175 Delaware\, Marysville\, MI
CATEGORIES:Free,Playgroups
END:VEVENT
BEGIN:VEVENT
DTSTART;TZID=America/New_York:20300422T100000
DTEND;TZID=America/New_York:20300422T110000
DTSTAMP:20260425T064220
CREATED:20260101T192653Z
LAST-MODIFIED:20260307T025320Z
UID:10024559-1903082400-1903086000@bluewaterparent.com
SUMMARY:Storytime - St. Clair
DESCRIPTION:From SCCLS – Join us for a fun and educational blend of stories\, crafts\, movement activities\, and songs.
URL:https://bluewaterparent.com/event/storytime-st-clair/2030-04-22/
LOCATION:St. Clair Library\, 310 S. 2nd Street\, St. Clair\, MI
CATEGORIES:Free,Playgroups
END:VEVENT
BEGIN:VEVENT
DTSTART;TZID=America/New_York:20300419T110000
DTEND;TZID=America/New_York:20300419T120000
DTSTAMP:20260425T064220
CREATED:20260101T164906Z
LAST-MODIFIED:20260101T171615Z
UID:10017145-1902826800-1902830400@bluewaterparent.com
SUMMARY:Playgroup Pals
DESCRIPTION:
URL:https://bluewaterparent.com/event/playgroup-pals-2/2030-04-19/
LOCATION:Ira Township Library\, 7013 Meldrum Rd\, Ira Township\, Michigan\, 48023\, United States
CATEGORIES:Playgroups
END:VEVENT
BEGIN:VEVENT
DTSTART;TZID=America/New_York:20300419T100000
DTEND;TZID=America/New_York:20300419T110000
DTSTAMP:20260425T064220
CREATED:20260419T003829Z
LAST-MODIFIED:20260419T003829Z
UID:10026332-1902823200-1902826800@bluewaterparent.com
SUMMARY:Storytime - Port Huron
DESCRIPTION:
URL:https://bluewaterparent.com/event/storytime-port-huron-2/2030-04-19/
LOCATION:Main Library\, 210 McMorran Blvd\, Port Huron\, MI\, 48060\, United States
CATEGORIES:Playgroups
END:VEVENT
BEGIN:VEVENT
DTSTART;TZID=America/New_York:20300419T100000
DTEND;TZID=America/New_York:20300419T104500
DTSTAMP:20260425T064220
CREATED:20260101T202520Z
LAST-MODIFIED:20260131T171318Z
UID:10023463-1902823200-1902825900@bluewaterparent.com
SUMMARY:Family Storytime - Memphis
DESCRIPTION:
URL:https://bluewaterparent.com/event/family-storytime-capac-2-2/2030-04-19/
LOCATION:Memphis Library\, 34830 Potter St\, Memphis\, MI\, 48041\, United States
CATEGORIES:Playgroups
END:VEVENT
BEGIN:VEVENT
DTSTART;TZID=America/New_York:20300419T080000
DTEND;TZID=America/New_York:20300419T170000
DTSTAMP:20260425T064220
CREATED:20260419T012510Z
LAST-MODIFIED:20260419T012510Z
UID:10026805-1902816000-1902848400@bluewaterparent.com
SUMMARY:Discovery Lab for Littles
DESCRIPTION:This event is included with admission.
URL:https://bluewaterparent.com/event/discovery-lab-for-littles/2030-04-19/
LOCATION:Discovery City Children’s Museum\, 317 Grand River Avenue\, Port huron\, MI\, 48060
END:VEVENT
BEGIN:VEVENT
DTSTART;TZID=America/New_York:20300418T171500
DTEND;TZID=America/New_York:20300418T174500
DTSTAMP:20260425T064220
CREATED:20260328T183605Z
LAST-MODIFIED:20260328T183607Z
UID:10024873-1902762900-1902764700@bluewaterparent.com
SUMMARY:Little House on the Prairie Book Club for Kids
DESCRIPTION:  \n 
URL:https://bluewaterparent.com/event/little-house-on-the-prairie-book-club-for-kids-2-3/2030-04-18/
LOCATION:Capac Library\, 111 N Main St\, Capac\, MI\, 48014\, United States
CATEGORIES:Free
END:VEVENT
BEGIN:VEVENT
DTSTART;TZID=America/New_York:20300418T143000
DTEND;TZID=America/New_York:20300418T160000
DTSTAMP:20260425T064220
CREATED:20260101T200828Z
LAST-MODIFIED:20260101T200854Z
UID:10019816-1902753000-1902758400@bluewaterparent.com
SUMMARY:Teen Time - Yale
DESCRIPTION:
URL:https://bluewaterparent.com/event/teen-time-yale-3/2030-04-18/
LOCATION:Yale Library\, 2 Jones St\, Yale\, MI\, 48097\, United States
CATEGORIES:Teens
END:VEVENT
BEGIN:VEVENT
DTSTART;TZID=America/New_York:20300418T110000
DTEND;TZID=America/New_York:20300418T113000
DTSTAMP:20260425T064220
CREATED:20260101T200511Z
LAST-MODIFIED:20260101T213808Z
UID:10021322-1902740400-1902742200@bluewaterparent.com
SUMMARY:Storytime - Algonac
DESCRIPTION:  \n 
URL:https://bluewaterparent.com/event/storytime-algonac-2/2030-04-18/
LOCATION:Algonac-Clay Library\, 2011 St Clair River Dr\, Algonac\, MI\, 48001\, United States
CATEGORIES:Playgroups
END:VEVENT
BEGIN:VEVENT
DTSTART;TZID=America/New_York:20300418T100000
DTEND;TZID=America/New_York:20300418T110000
DTSTAMP:20260425T064220
CREATED:20260307T014510Z
LAST-MODIFIED:20260307T014908Z
UID:10023776-1902736800-1902740400@bluewaterparent.com
SUMMARY:Great Start Playgroup - Marysville
DESCRIPTION:
URL:https://bluewaterparent.com/event/great-start-playgroup-marysville-3/2030-04-18/
LOCATION:St. Clair County RESA East Campus\, 1111 Delaware Avenue\, Marysville\, MI
CATEGORIES:Playgroups
END:VEVENT
BEGIN:VEVENT
DTSTART;TZID=America/New_York:20300418T100000
DTEND;TZID=America/New_York:20300418T110000
DTSTAMP:20260425T064220
CREATED:20251201T004011Z
LAST-MODIFIED:20260307T021133Z
UID:10024037-1902736800-1902740400@bluewaterparent.com
SUMMARY:Great Start Playgroup - Avoca
DESCRIPTION:
URL:https://bluewaterparent.com/event/great-start-playgroup-emmett/2030-04-18/
LOCATION:Avoca Elementary\, 8751 Willow St.\, Avoca\, MI\, 48006\, United States
CATEGORIES:Playgroups
END:VEVENT
BEGIN:VEVENT
DTSTART;TZID=America/New_York:20300417T100000
DTEND;TZID=America/New_York:20300417T110000
DTSTAMP:20260425T064220
CREATED:20260419T003159Z
LAST-MODIFIED:20260419T003555Z
UID:10026071-1902650400-1902654000@bluewaterparent.com
SUMMARY:Storytime - Port Huron
DESCRIPTION:
URL:https://bluewaterparent.com/event/storytime-port-huron/2030-04-17/
LOCATION:Main Library\, 210 McMorran Blvd\, Port Huron\, MI\, 48060\, United States
CATEGORIES:Playgroups
END:VEVENT
BEGIN:VEVENT
DTSTART;TZID=America/New_York:20300417T080000
DTEND;TZID=America/New_York:20300417T170000
DTSTAMP:20260425T064220
CREATED:20260419T012510Z
LAST-MODIFIED:20260419T012510Z
UID:10026804-1902643200-1902675600@bluewaterparent.com
SUMMARY:Discovery Lab for Littles
DESCRIPTION:This event is included with admission.
URL:https://bluewaterparent.com/event/discovery-lab-for-littles/2030-04-17/
LOCATION:Discovery City Children’s Museum\, 317 Grand River Avenue\, Port huron\, MI\, 48060
END:VEVENT
BEGIN:VEVENT
DTSTART;TZID=America/New_York:20300416T180000
DTEND;TZID=America/New_York:20300416T183000
DTSTAMP:20260425T064220
CREATED:20260419T002148Z
LAST-MODIFIED:20260419T003520Z
UID:10025810-1902592800-1902594600@bluewaterparent.com
SUMMARY:Bedtime Storytime - Port Huron
DESCRIPTION:
URL:https://bluewaterparent.com/event/bedtime-storytime/2030-04-16/
LOCATION:Main Library\, 210 McMorran Blvd\, Port Huron\, MI\, 48060\, United States
CATEGORIES:Playgroups
END:VEVENT
BEGIN:VEVENT
DTSTART;TZID=America/New_York:20300416T100000
DTEND;TZID=America/New_York:20300416T103000
DTSTAMP:20260425T064220
CREATED:20260418T235804Z
LAST-MODIFIED:20260419T000903Z
UID:10025549-1902564000-1902565800@bluewaterparent.com
SUMMARY:Rhythm and Rhyme - Port Huron
DESCRIPTION:For children ages 0-3 and their caregivers.
URL:https://bluewaterparent.com/event/rhythm-and-rhyme-port-huron/2030-04-16/
LOCATION:Main Library\, 210 McMorran Blvd\, Port Huron\, MI\, 48060\, United States
CATEGORIES:Playgroups
END:VEVENT
BEGIN:VEVENT
DTSTART;TZID=America/New_York:20300415T103000
DTEND;TZID=America/New_York:20300415T113000
DTSTAMP:20260425T064220
CREATED:20260321T165751Z
LAST-MODIFIED:20260321T165752Z
UID:10017928-1902479400-1902483000@bluewaterparent.com
SUMMARY:Storytime - Marine City
DESCRIPTION:From SCCLS – Preschoolers and their adults join us at the library for a happy blend of stories and activities.
URL:https://bluewaterparent.com/event/storytime-marine-city-2-2/2030-04-15/
LOCATION:Marine City Library\, 300 S Parker St\, Marine City\, MI\, 48039\, United States
CATEGORIES:Free,Playgroups
END:VEVENT
BEGIN:VEVENT
DTSTART;TZID=America/New_York:20300415T103000
DTEND;TZID=America/New_York:20300415T110000
DTSTAMP:20260425T064220
CREATED:20260401T010404Z
LAST-MODIFIED:20260401T010407Z
UID:10025171-1902479400-1902481200@bluewaterparent.com
SUMMARY:Storytime - Burtchville
DESCRIPTION:
URL:https://bluewaterparent.com/event/storytime-burtchville-3-2/2030-04-15/
LOCATION:Burtchville Library\, 7093 2nd St\, Lakeport\, MI\, 48059\, United States
CATEGORIES:Free,Playgroups
END:VEVENT
BEGIN:VEVENT
DTSTART;TZID=America/New_York:20300415T100000
DTEND;TZID=America/New_York:20300415T110000
DTSTAMP:20260425T064220
CREATED:20260307T142323Z
LAST-MODIFIED:20260307T142325Z
UID:10017406-1902477600-1902481200@bluewaterparent.com
SUMMARY:Storytime - Yale
DESCRIPTION:
URL:https://bluewaterparent.com/event/storytime-yale-2-2-2/2030-04-15/
LOCATION:Yale Library\, 2 Jones St\, Yale\, MI\, 48097\, United States
CATEGORIES:Free,Playgroups
END:VEVENT
BEGIN:VEVENT
DTSTART;TZID=America/New_York:20300415T100000
DTEND;TZID=America/New_York:20300415T110000
DTSTAMP:20260425T064220
CREATED:20260125T194928Z
LAST-MODIFIED:20260125T194929Z
UID:10017667-1902477600-1902481200@bluewaterparent.com
SUMMARY:Storytime - Marysville
DESCRIPTION:From SCCLS – Preschoolers and their adults: Join us at the library for a happy blend of stories\, rhymes\, music and movement\, followed by a creative activity time.
URL:https://bluewaterparent.com/event/storytime-marysville-3/2030-04-15/
LOCATION:Marysville Library\, 1175 Delaware\, Marysville\, MI
CATEGORIES:Free,Playgroups
END:VEVENT
BEGIN:VEVENT
DTSTART;TZID=America/New_York:20300415T100000
DTEND;TZID=America/New_York:20300415T110000
DTSTAMP:20260425T064220
CREATED:20260101T192653Z
LAST-MODIFIED:20260307T025320Z
UID:10024558-1902477600-1902481200@bluewaterparent.com
SUMMARY:Storytime - St. Clair
DESCRIPTION:From SCCLS – Join us for a fun and educational blend of stories\, crafts\, movement activities\, and songs.
URL:https://bluewaterparent.com/event/storytime-st-clair/2030-04-15/
LOCATION:St. Clair Library\, 310 S. 2nd Street\, St. Clair\, MI
CATEGORIES:Free,Playgroups
END:VEVENT
BEGIN:VEVENT
DTSTART;TZID=America/New_York:20300412T150000
DTEND;TZID=America/New_York:20300412T163000
DTSTAMP:20260425T064220
CREATED:20260101T204005Z
LAST-MODIFIED:20260103T023339Z
UID:10021716-1902236400-1902241800@bluewaterparent.com
SUMMARY:Friday Game Zone
DESCRIPTION:
URL:https://bluewaterparent.com/event/friday-game-zone/2030-04-12/
LOCATION:Ira Township Library\, 7013 Meldrum Rd\, Ira Township\, Michigan\, 48023\, United States
CATEGORIES:Free
END:VEVENT
BEGIN:VEVENT
DTSTART;TZID=America/New_York:20300412T110000
DTEND;TZID=America/New_York:20300412T120000
DTSTAMP:20260425T064220
CREATED:20260101T164906Z
LAST-MODIFIED:20260101T171615Z
UID:10017144-1902222000-1902225600@bluewaterparent.com
SUMMARY:Playgroup Pals
DESCRIPTION:
URL:https://bluewaterparent.com/event/playgroup-pals-2/2030-04-12/
LOCATION:Ira Township Library\, 7013 Meldrum Rd\, Ira Township\, Michigan\, 48023\, United States
CATEGORIES:Playgroups
END:VEVENT
BEGIN:VEVENT
DTSTART;TZID=America/New_York:20300412T100000
DTEND;TZID=America/New_York:20300412T110000
DTSTAMP:20260425T064220
CREATED:20260419T003829Z
LAST-MODIFIED:20260419T003829Z
UID:10026331-1902218400-1902222000@bluewaterparent.com
SUMMARY:Storytime - Port Huron
DESCRIPTION:
URL:https://bluewaterparent.com/event/storytime-port-huron-2/2030-04-12/
LOCATION:Main Library\, 210 McMorran Blvd\, Port Huron\, MI\, 48060\, United States
CATEGORIES:Playgroups
END:VEVENT
BEGIN:VEVENT
DTSTART;TZID=America/New_York:20300412T100000
DTEND;TZID=America/New_York:20300412T104500
DTSTAMP:20260425T064220
CREATED:20260101T202520Z
LAST-MODIFIED:20260131T171318Z
UID:10023462-1902218400-1902221100@bluewaterparent.com
SUMMARY:Family Storytime - Memphis
DESCRIPTION:
URL:https://bluewaterparent.com/event/family-storytime-capac-2-2/2030-04-12/
LOCATION:Memphis Library\, 34830 Potter St\, Memphis\, MI\, 48041\, United States
CATEGORIES:Playgroups
END:VEVENT
BEGIN:VEVENT
DTSTART;TZID=America/New_York:20300412T080000
DTEND;TZID=America/New_York:20300412T170000
DTSTAMP:20260425T064220
CREATED:20260419T012510Z
LAST-MODIFIED:20260419T012510Z
UID:10026803-1902211200-1902243600@bluewaterparent.com
SUMMARY:Discovery Lab for Littles
DESCRIPTION:This event is included with admission.
URL:https://bluewaterparent.com/event/discovery-lab-for-littles/2030-04-12/
LOCATION:Discovery City Children’s Museum\, 317 Grand River Avenue\, Port huron\, MI\, 48060
END:VEVENT
BEGIN:VEVENT
DTSTART;TZID=America/New_York:20300411T153000
DTEND;TZID=America/New_York:20300411T180000
DTSTAMP:20260425T064220
CREATED:20260101T201514Z
LAST-MODIFIED:20260103T021445Z
UID:10020165-1902151800-1902160800@bluewaterparent.com
SUMMARY:To D&D\, And Beyond!
DESCRIPTION:  \n 
URL:https://bluewaterparent.com/event/to-dd-and-beyond-3/2030-04-11/
LOCATION:Marysville Library\, 1175 Delaware\, Marysville\, MI
CATEGORIES:Teens
END:VEVENT
BEGIN:VEVENT
DTSTART;TZID=America/New_York:20300411T143000
DTEND;TZID=America/New_York:20300411T160000
DTSTAMP:20260425T064220
CREATED:20260101T200828Z
LAST-MODIFIED:20260101T200854Z
UID:10019815-1902148200-1902153600@bluewaterparent.com
SUMMARY:Teen Time - Yale
DESCRIPTION:
URL:https://bluewaterparent.com/event/teen-time-yale-3/2030-04-11/
LOCATION:Yale Library\, 2 Jones St\, Yale\, MI\, 48097\, United States
CATEGORIES:Teens
END:VEVENT
END:VCALENDAR