BEGIN:VCALENDAR
VERSION:2.0
PRODID:-//BlueWaterParent.com - ECPv6.15.20//NONSGML v1.0//EN
CALSCALE:GREGORIAN
METHOD:PUBLISH
X-WR-CALNAME:BlueWaterParent.com
X-ORIGINAL-URL:https://bluewaterparent.com
X-WR-CALDESC:Events for BlueWaterParent.com
REFRESH-INTERVAL;VALUE=DURATION:PT1H
X-Robots-Tag:noindex
X-PUBLISHED-TTL:PT1H
BEGIN:VTIMEZONE
TZID:America/New_York
BEGIN:DAYLIGHT
TZOFFSETFROM:-0500
TZOFFSETTO:-0400
TZNAME:EDT
DTSTART:20280312T070000
END:DAYLIGHT
BEGIN:STANDARD
TZOFFSETFROM:-0400
TZOFFSETTO:-0500
TZNAME:EST
DTSTART:20281105T060000
END:STANDARD
BEGIN:DAYLIGHT
TZOFFSETFROM:-0500
TZOFFSETTO:-0400
TZNAME:EDT
DTSTART:20290311T070000
END:DAYLIGHT
BEGIN:STANDARD
TZOFFSETFROM:-0400
TZOFFSETTO:-0500
TZNAME:EST
DTSTART:20291104T060000
END:STANDARD
BEGIN:DAYLIGHT
TZOFFSETFROM:-0500
TZOFFSETTO:-0400
TZNAME:EDT
DTSTART:20300310T070000
END:DAYLIGHT
BEGIN:STANDARD
TZOFFSETFROM:-0400
TZOFFSETTO:-0500
TZNAME:EST
DTSTART:20301103T060000
END:STANDARD
END:VTIMEZONE
BEGIN:VEVENT
DTSTART;TZID=America/New_York:20290827T100000
DTEND;TZID=America/New_York:20290827T110000
DTSTAMP:20260424T113923
CREATED:20260101T192653Z
LAST-MODIFIED:20260307T025320Z
UID:10024525-1882519200-1882522800@bluewaterparent.com
SUMMARY:Storytime - St. Clair
DESCRIPTION:From SCCLS – Join us for a fun and educational blend of stories\, crafts\, movement activities\, and songs.
URL:https://bluewaterparent.com/event/storytime-st-clair/2029-08-27/
LOCATION:St. Clair Library\, 310 S. 2nd Street\, St. Clair\, MI
CATEGORIES:Free,Playgroups
END:VEVENT
BEGIN:VEVENT
DTSTART;TZID=America/New_York:20290827T100000
DTEND;TZID=America/New_York:20290827T110000
DTSTAMP:20260424T113923
CREATED:20260125T194928Z
LAST-MODIFIED:20260125T194929Z
UID:10017634-1882519200-1882522800@bluewaterparent.com
SUMMARY:Storytime - Marysville
DESCRIPTION:From SCCLS – Preschoolers and their adults: Join us at the library for a happy blend of stories\, rhymes\, music and movement\, followed by a creative activity time.
URL:https://bluewaterparent.com/event/storytime-marysville-3/2029-08-27/
LOCATION:Marysville Library\, 1175 Delaware\, Marysville\, MI
CATEGORIES:Free,Playgroups
END:VEVENT
BEGIN:VEVENT
DTSTART;TZID=America/New_York:20290827T100000
DTEND;TZID=America/New_York:20290827T110000
DTSTAMP:20260424T113923
CREATED:20260307T142323Z
LAST-MODIFIED:20260307T142325Z
UID:10017373-1882519200-1882522800@bluewaterparent.com
SUMMARY:Storytime - Yale
DESCRIPTION:
URL:https://bluewaterparent.com/event/storytime-yale-2-2-2/2029-08-27/
LOCATION:Yale Library\, 2 Jones St\, Yale\, MI\, 48097\, United States
CATEGORIES:Free,Playgroups
END:VEVENT
BEGIN:VEVENT
DTSTART;TZID=America/New_York:20290827T103000
DTEND;TZID=America/New_York:20290827T110000
DTSTAMP:20260424T113923
CREATED:20260401T010404Z
LAST-MODIFIED:20260401T010407Z
UID:10025138-1882521000-1882522800@bluewaterparent.com
SUMMARY:Storytime - Burtchville
DESCRIPTION:
URL:https://bluewaterparent.com/event/storytime-burtchville-3-2/2029-08-27/
LOCATION:Burtchville Library\, 7093 2nd St\, Lakeport\, MI\, 48059\, United States
CATEGORIES:Free,Playgroups
END:VEVENT
BEGIN:VEVENT
DTSTART;TZID=America/New_York:20290827T103000
DTEND;TZID=America/New_York:20290827T113000
DTSTAMP:20260424T113923
CREATED:20260321T165751Z
LAST-MODIFIED:20260321T165752Z
UID:10024753-1882521000-1882524600@bluewaterparent.com
SUMMARY:Storytime - Marine City
DESCRIPTION:From SCCLS – Preschoolers and their adults join us at the library for a happy blend of stories and activities.
URL:https://bluewaterparent.com/event/storytime-marine-city-2-2/2029-08-27/
LOCATION:Marine City Library\, 300 S Parker St\, Marine City\, MI\, 48039\, United States
CATEGORIES:Free,Playgroups
END:VEVENT
BEGIN:VEVENT
DTSTART;TZID=America/New_York:20290828T100000
DTEND;TZID=America/New_York:20290828T103000
DTSTAMP:20260424T113923
CREATED:20260418T235804Z
LAST-MODIFIED:20260419T000903Z
UID:10025516-1882605600-1882607400@bluewaterparent.com
SUMMARY:Rhythm and Rhyme - Port Huron
DESCRIPTION:For children ages 0-3 and their caregivers.
URL:https://bluewaterparent.com/event/rhythm-and-rhyme-port-huron/2029-08-28/
LOCATION:Main Library\, 210 McMorran Blvd\, Port Huron\, MI\, 48060\, United States
CATEGORIES:Playgroups
END:VEVENT
BEGIN:VEVENT
DTSTART;TZID=America/New_York:20290828T170000
DTEND;TZID=America/New_York:20290828T193000
DTSTAMP:20260424T113923
CREATED:20260101T190453Z
LAST-MODIFIED:20260103T013002Z
UID:10021465-1882630800-1882639800@bluewaterparent.com
SUMMARY:Teen D&D Group - Algonac-Clay
DESCRIPTION:Registration requested.
URL:https://bluewaterparent.com/event/teen-dd-group-algonac-clay/2029-08-28/
LOCATION:Algonac-Clay Library\, 2011 St Clair River Dr\, Algonac\, MI\, 48001\, United States
CATEGORIES:Teens
END:VEVENT
BEGIN:VEVENT
DTSTART;TZID=America/New_York:20290828T180000
DTEND;TZID=America/New_York:20290828T183000
DTSTAMP:20260424T113923
CREATED:20260419T002148Z
LAST-MODIFIED:20260419T003520Z
UID:10025777-1882634400-1882636200@bluewaterparent.com
SUMMARY:Bedtime Storytime - Port Huron
DESCRIPTION:
URL:https://bluewaterparent.com/event/bedtime-storytime/2029-08-28/
LOCATION:Main Library\, 210 McMorran Blvd\, Port Huron\, MI\, 48060\, United States
CATEGORIES:Playgroups
END:VEVENT
BEGIN:VEVENT
DTSTART;TZID=America/New_York:20290829T080000
DTEND;TZID=America/New_York:20290829T170000
DTSTAMP:20260424T113923
CREATED:20260419T012510Z
LAST-MODIFIED:20260419T012510Z
UID:10026738-1882684800-1882717200@bluewaterparent.com
SUMMARY:Discovery Lab for Littles
DESCRIPTION:This event is included with admission.
URL:https://bluewaterparent.com/event/discovery-lab-for-littles/2029-08-29/
LOCATION:Discovery City Children’s Museum\, 317 Grand River Avenue\, Port huron\, MI\, 48060
END:VEVENT
BEGIN:VEVENT
DTSTART;TZID=America/New_York:20290829T100000
DTEND;TZID=America/New_York:20290829T110000
DTSTAMP:20260424T113923
CREATED:20260419T003159Z
LAST-MODIFIED:20260419T003555Z
UID:10026038-1882692000-1882695600@bluewaterparent.com
SUMMARY:Storytime - Port Huron
DESCRIPTION:
URL:https://bluewaterparent.com/event/storytime-port-huron/2029-08-29/
LOCATION:Main Library\, 210 McMorran Blvd\, Port Huron\, MI\, 48060\, United States
CATEGORIES:Playgroups
END:VEVENT
BEGIN:VEVENT
DTSTART;TZID=America/New_York:20290830T100000
DTEND;TZID=America/New_York:20290830T110000
DTSTAMP:20260424T113923
CREATED:20251201T004011Z
LAST-MODIFIED:20260307T021133Z
UID:10024004-1882778400-1882782000@bluewaterparent.com
SUMMARY:Great Start Playgroup - Avoca
DESCRIPTION:
URL:https://bluewaterparent.com/event/great-start-playgroup-emmett/2029-08-30/
LOCATION:Avoca Elementary\, 8751 Willow St.\, Avoca\, MI\, 48006\, United States
CATEGORIES:Playgroups
END:VEVENT
BEGIN:VEVENT
DTSTART;TZID=America/New_York:20290830T100000
DTEND;TZID=America/New_York:20290830T110000
DTSTAMP:20260424T113923
CREATED:20260307T014510Z
LAST-MODIFIED:20260307T014908Z
UID:10023743-1882778400-1882782000@bluewaterparent.com
SUMMARY:Great Start Playgroup - Marysville
DESCRIPTION:
URL:https://bluewaterparent.com/event/great-start-playgroup-marysville-3/2029-08-30/
LOCATION:St. Clair County RESA East Campus\, 1111 Delaware Avenue\, Marysville\, MI
CATEGORIES:Playgroups
END:VEVENT
BEGIN:VEVENT
DTSTART;TZID=America/New_York:20290830T110000
DTEND;TZID=America/New_York:20290830T113000
DTSTAMP:20260424T113923
CREATED:20260101T200511Z
LAST-MODIFIED:20260101T213808Z
UID:10021289-1882782000-1882783800@bluewaterparent.com
SUMMARY:Storytime - Algonac
DESCRIPTION:  \n 
URL:https://bluewaterparent.com/event/storytime-algonac-2/2029-08-30/
LOCATION:Algonac-Clay Library\, 2011 St Clair River Dr\, Algonac\, MI\, 48001\, United States
CATEGORIES:Playgroups
END:VEVENT
BEGIN:VEVENT
DTSTART;TZID=America/New_York:20290830T143000
DTEND;TZID=America/New_York:20290830T160000
DTSTAMP:20260424T113924
CREATED:20260101T200828Z
LAST-MODIFIED:20260101T200854Z
UID:10019783-1882794600-1882800000@bluewaterparent.com
SUMMARY:Teen Time - Yale
DESCRIPTION:
URL:https://bluewaterparent.com/event/teen-time-yale-3/2029-08-30/
LOCATION:Yale Library\, 2 Jones St\, Yale\, MI\, 48097\, United States
CATEGORIES:Teens
END:VEVENT
BEGIN:VEVENT
DTSTART;TZID=America/New_York:20290830T153000
DTEND;TZID=America/New_York:20290830T180000
DTSTAMP:20260424T113924
CREATED:20260101T201514Z
LAST-MODIFIED:20260103T021445Z
UID:10021578-1882798200-1882807200@bluewaterparent.com
SUMMARY:To D&D\, And Beyond!
DESCRIPTION:  \n 
URL:https://bluewaterparent.com/event/to-dd-and-beyond-3/2029-08-30/
LOCATION:Marysville Library\, 1175 Delaware\, Marysville\, MI
CATEGORIES:Teens
END:VEVENT
BEGIN:VEVENT
DTSTART;TZID=America/New_York:20290831T080000
DTEND;TZID=America/New_York:20290831T170000
DTSTAMP:20260424T113924
CREATED:20260419T012510Z
LAST-MODIFIED:20260419T012510Z
UID:10026739-1882857600-1882890000@bluewaterparent.com
SUMMARY:Discovery Lab for Littles
DESCRIPTION:This event is included with admission.
URL:https://bluewaterparent.com/event/discovery-lab-for-littles/2029-08-31/
LOCATION:Discovery City Children’s Museum\, 317 Grand River Avenue\, Port huron\, MI\, 48060
END:VEVENT
BEGIN:VEVENT
DTSTART;TZID=America/New_York:20290831T100000
DTEND;TZID=America/New_York:20290831T104500
DTSTAMP:20260424T113924
CREATED:20260101T202520Z
LAST-MODIFIED:20260131T171318Z
UID:10023430-1882864800-1882867500@bluewaterparent.com
SUMMARY:Family Storytime - Memphis
DESCRIPTION:
URL:https://bluewaterparent.com/event/family-storytime-capac-2-2/2029-08-31/
LOCATION:Memphis Library\, 34830 Potter St\, Memphis\, MI\, 48041\, United States
CATEGORIES:Playgroups
END:VEVENT
BEGIN:VEVENT
DTSTART;TZID=America/New_York:20290831T100000
DTEND;TZID=America/New_York:20290831T110000
DTSTAMP:20260424T113924
CREATED:20260419T003829Z
LAST-MODIFIED:20260419T003829Z
UID:10026299-1882864800-1882868400@bluewaterparent.com
SUMMARY:Storytime - Port Huron
DESCRIPTION:
URL:https://bluewaterparent.com/event/storytime-port-huron-2/2029-08-31/
LOCATION:Main Library\, 210 McMorran Blvd\, Port Huron\, MI\, 48060\, United States
CATEGORIES:Playgroups
END:VEVENT
BEGIN:VEVENT
DTSTART;TZID=America/New_York:20290831T110000
DTEND;TZID=America/New_York:20290831T120000
DTSTAMP:20260424T113924
CREATED:20260101T164906Z
LAST-MODIFIED:20260101T171615Z
UID:10017112-1882868400-1882872000@bluewaterparent.com
SUMMARY:Playgroup Pals
DESCRIPTION:
URL:https://bluewaterparent.com/event/playgroup-pals-2/2029-08-31/
LOCATION:Ira Township Library\, 7013 Meldrum Rd\, Ira Township\, Michigan\, 48023\, United States
CATEGORIES:Playgroups
END:VEVENT
BEGIN:VEVENT
DTSTART;TZID=America/New_York:20290831T150000
DTEND;TZID=America/New_York:20290831T163000
DTSTAMP:20260424T113924
CREATED:20260101T204005Z
LAST-MODIFIED:20260103T023339Z
UID:10021700-1882882800-1882888200@bluewaterparent.com
SUMMARY:Friday Game Zone
DESCRIPTION:
URL:https://bluewaterparent.com/event/friday-game-zone/2029-08-31/
LOCATION:Ira Township Library\, 7013 Meldrum Rd\, Ira Township\, Michigan\, 48023\, United States
CATEGORIES:Free
END:VEVENT
BEGIN:VEVENT
DTSTART;TZID=America/New_York:20290901T130000
DTEND;TZID=America/New_York:20290901T150000
DTSTAMP:20260424T113924
CREATED:20260125T184518Z
LAST-MODIFIED:20260328T185717Z
UID:10022760-1882962000-1882969200@bluewaterparent.com
SUMMARY:LEGO Club
DESCRIPTION:
URL:https://bluewaterparent.com/event/lego-club-2-2/
LOCATION:Ira Township Library\, 7013 Meldrum Rd\, Ira Township\, Michigan\, 48023\, United States
CATEGORIES:Free
END:VEVENT
BEGIN:VEVENT
DTSTART;TZID=America/New_York:20290902T130000
DTEND;TZID=America/New_York:20290902T170000
DTSTAMP:20260424T113924
CREATED:20250807T170824Z
LAST-MODIFIED:20250807T170824Z
UID:10015252-1883048400-1883062800@bluewaterparent.com
SUMMARY:Port Huron Township Heritage Museum
DESCRIPTION:
URL:https://bluewaterparent.com/event/port-huron-township-heritage-museum/2029-09-02/
LOCATION:Port Huron Township Heritage Museum\, 3800 Lapeer Rd.\, Port Huron Township\, MI
END:VEVENT
BEGIN:VEVENT
DTSTART;TZID=America/New_York:20290903T100000
DTEND;TZID=America/New_York:20290903T110000
DTSTAMP:20260424T113924
CREATED:20260101T192653Z
LAST-MODIFIED:20260307T025320Z
UID:10024526-1883124000-1883127600@bluewaterparent.com
SUMMARY:Storytime - St. Clair
DESCRIPTION:From SCCLS – Join us for a fun and educational blend of stories\, crafts\, movement activities\, and songs.
URL:https://bluewaterparent.com/event/storytime-st-clair/2029-09-03/
LOCATION:St. Clair Library\, 310 S. 2nd Street\, St. Clair\, MI
CATEGORIES:Free,Playgroups
END:VEVENT
BEGIN:VEVENT
DTSTART;TZID=America/New_York:20290903T100000
DTEND;TZID=America/New_York:20290903T110000
DTSTAMP:20260424T113924
CREATED:20260125T194928Z
LAST-MODIFIED:20260125T194929Z
UID:10017635-1883124000-1883127600@bluewaterparent.com
SUMMARY:Storytime - Marysville
DESCRIPTION:From SCCLS – Preschoolers and their adults: Join us at the library for a happy blend of stories\, rhymes\, music and movement\, followed by a creative activity time.
URL:https://bluewaterparent.com/event/storytime-marysville-3/2029-09-03/
LOCATION:Marysville Library\, 1175 Delaware\, Marysville\, MI
CATEGORIES:Free,Playgroups
END:VEVENT
BEGIN:VEVENT
DTSTART;TZID=America/New_York:20290903T100000
DTEND;TZID=America/New_York:20290903T110000
DTSTAMP:20260424T113924
CREATED:20260307T142323Z
LAST-MODIFIED:20260307T142325Z
UID:10017374-1883124000-1883127600@bluewaterparent.com
SUMMARY:Storytime - Yale
DESCRIPTION:
URL:https://bluewaterparent.com/event/storytime-yale-2-2-2/2029-09-03/
LOCATION:Yale Library\, 2 Jones St\, Yale\, MI\, 48097\, United States
CATEGORIES:Free,Playgroups
END:VEVENT
BEGIN:VEVENT
DTSTART;TZID=America/New_York:20290903T103000
DTEND;TZID=America/New_York:20290903T110000
DTSTAMP:20260424T113924
CREATED:20260401T010404Z
LAST-MODIFIED:20260401T010407Z
UID:10025139-1883125800-1883127600@bluewaterparent.com
SUMMARY:Storytime - Burtchville
DESCRIPTION:
URL:https://bluewaterparent.com/event/storytime-burtchville-3-2/2029-09-03/
LOCATION:Burtchville Library\, 7093 2nd St\, Lakeport\, MI\, 48059\, United States
CATEGORIES:Free,Playgroups
END:VEVENT
BEGIN:VEVENT
DTSTART;TZID=America/New_York:20290903T103000
DTEND;TZID=America/New_York:20290903T113000
DTSTAMP:20260424T113924
CREATED:20260321T165751Z
LAST-MODIFIED:20260321T165752Z
UID:10017896-1883125800-1883129400@bluewaterparent.com
SUMMARY:Storytime - Marine City
DESCRIPTION:From SCCLS – Preschoolers and their adults join us at the library for a happy blend of stories and activities.
URL:https://bluewaterparent.com/event/storytime-marine-city-2-2/2029-09-03/
LOCATION:Marine City Library\, 300 S Parker St\, Marine City\, MI\, 48039\, United States
CATEGORIES:Free,Playgroups
END:VEVENT
BEGIN:VEVENT
DTSTART;TZID=America/New_York:20290904T100000
DTEND;TZID=America/New_York:20290904T103000
DTSTAMP:20260424T113924
CREATED:20260418T235804Z
LAST-MODIFIED:20260419T000903Z
UID:10025517-1883210400-1883212200@bluewaterparent.com
SUMMARY:Rhythm and Rhyme - Port Huron
DESCRIPTION:For children ages 0-3 and their caregivers.
URL:https://bluewaterparent.com/event/rhythm-and-rhyme-port-huron/2029-09-04/
LOCATION:Main Library\, 210 McMorran Blvd\, Port Huron\, MI\, 48060\, United States
CATEGORIES:Playgroups
END:VEVENT
BEGIN:VEVENT
DTSTART;TZID=America/New_York:20290904T153000
DTEND;TZID=America/New_York:20290904T173000
DTSTAMP:20260424T113924
CREATED:20260101T184832Z
LAST-MODIFIED:20260101T184832Z
UID:10019061-1883230200-1883237400@bluewaterparent.com
SUMMARY:Teen Zone - Burtchville
DESCRIPTION:Registration requested.
URL:https://bluewaterparent.com/event/teen-zone-burtchville-2/2029-09-04/
LOCATION:Burtchville Library\, 7093 2nd St\, Lakeport\, MI\, 48059\, United States
CATEGORIES:Teens
END:VEVENT
BEGIN:VEVENT
DTSTART;TZID=America/New_York:20290904T180000
DTEND;TZID=America/New_York:20290904T183000
DTSTAMP:20260424T113924
CREATED:20260419T002148Z
LAST-MODIFIED:20260419T003520Z
UID:10025778-1883239200-1883241000@bluewaterparent.com
SUMMARY:Bedtime Storytime - Port Huron
DESCRIPTION:
URL:https://bluewaterparent.com/event/bedtime-storytime/2029-09-04/
LOCATION:Main Library\, 210 McMorran Blvd\, Port Huron\, MI\, 48060\, United States
CATEGORIES:Playgroups
END:VEVENT
END:VCALENDAR