BEGIN:VCALENDAR
VERSION:2.0
PRODID:-//BlueWaterParent.com - ECPv6.15.20//NONSGML v1.0//EN
CALSCALE:GREGORIAN
METHOD:PUBLISH
X-ORIGINAL-URL:https://bluewaterparent.com
X-WR-CALDESC:Events for BlueWaterParent.com
REFRESH-INTERVAL;VALUE=DURATION:PT1H
X-Robots-Tag:noindex
X-PUBLISHED-TTL:PT1H
BEGIN:VTIMEZONE
TZID:America/New_York
BEGIN:DAYLIGHT
TZOFFSETFROM:-0500
TZOFFSETTO:-0400
TZNAME:EDT
DTSTART:20260308T070000
END:DAYLIGHT
BEGIN:STANDARD
TZOFFSETFROM:-0400
TZOFFSETTO:-0500
TZNAME:EST
DTSTART:20261101T060000
END:STANDARD
BEGIN:DAYLIGHT
TZOFFSETFROM:-0500
TZOFFSETTO:-0400
TZNAME:EDT
DTSTART:20270314T070000
END:DAYLIGHT
BEGIN:STANDARD
TZOFFSETFROM:-0400
TZOFFSETTO:-0500
TZNAME:EST
DTSTART:20271107T060000
END:STANDARD
BEGIN:DAYLIGHT
TZOFFSETFROM:-0500
TZOFFSETTO:-0400
TZNAME:EDT
DTSTART:20280312T070000
END:DAYLIGHT
BEGIN:STANDARD
TZOFFSETFROM:-0400
TZOFFSETTO:-0500
TZNAME:EST
DTSTART:20281105T060000
END:STANDARD
END:VTIMEZONE
BEGIN:VEVENT
DTSTART;TZID=America/New_York:20270623T080000
DTEND;TZID=America/New_York:20270623T170000
DTSTAMP:20260419T125227
CREATED:20260419T012510Z
LAST-MODIFIED:20260419T012510Z
UID:10026510-1813737600-1813770000@bluewaterparent.com
SUMMARY:Discovery Lab for Littles
DESCRIPTION:This event is included with admission.
URL:https://bluewaterparent.com/event/discovery-lab-for-littles/2027-06-23/
LOCATION:Discovery City Children’s Museum\, 317 Grand River Avenue\, Port huron\, MI\, 48060
END:VEVENT
BEGIN:VEVENT
DTSTART;TZID=America/New_York:20270623T100000
DTEND;TZID=America/New_York:20270623T110000
DTSTAMP:20260419T125227
CREATED:20260419T003159Z
LAST-MODIFIED:20260419T003555Z
UID:10025924-1813744800-1813748400@bluewaterparent.com
SUMMARY:Storytime - Port Huron
DESCRIPTION:
URL:https://bluewaterparent.com/event/storytime-port-huron/2027-06-23/
LOCATION:Main Library\, 210 McMorran Blvd\, Port Huron\, MI\, 48060\, United States
CATEGORIES:Playgroups
END:VEVENT
BEGIN:VEVENT
DTSTART;TZID=America/New_York:20270624T100000
DTEND;TZID=America/New_York:20270624T110000
DTSTAMP:20260419T125227
CREATED:20251201T004011Z
LAST-MODIFIED:20260307T021133Z
UID:10023890-1813831200-1813834800@bluewaterparent.com
SUMMARY:Great Start Playgroup - Avoca
DESCRIPTION:
URL:https://bluewaterparent.com/event/great-start-playgroup-emmett/2027-06-24/
LOCATION:Avoca Elementary\, 8751 Willow St.\, Avoca\, MI\, 48006\, United States
CATEGORIES:Playgroups
END:VEVENT
BEGIN:VEVENT
DTSTART;TZID=America/New_York:20270624T100000
DTEND;TZID=America/New_York:20270624T110000
DTSTAMP:20260419T125227
CREATED:20260307T014510Z
LAST-MODIFIED:20260307T014908Z
UID:10023629-1813831200-1813834800@bluewaterparent.com
SUMMARY:Great Start Playgroup - Marysville
DESCRIPTION:
URL:https://bluewaterparent.com/event/great-start-playgroup-marysville-3/2027-06-24/
LOCATION:St. Clair County RESA East Campus\, 1111 Delaware Avenue\, Marysville\, MI
CATEGORIES:Playgroups
END:VEVENT
BEGIN:VEVENT
DTSTART;TZID=America/New_York:20270624T110000
DTEND;TZID=America/New_York:20270624T113000
DTSTAMP:20260419T125227
CREATED:20260101T200511Z
LAST-MODIFIED:20260101T213808Z
UID:10021175-1813834800-1813836600@bluewaterparent.com
SUMMARY:Storytime - Algonac
DESCRIPTION:  \n 
URL:https://bluewaterparent.com/event/storytime-algonac-2/2027-06-24/
LOCATION:Algonac-Clay Library\, 2011 St Clair River Dr\, Algonac\, MI\, 48001\, United States
CATEGORIES:Playgroups
END:VEVENT
BEGIN:VEVENT
DTSTART;TZID=America/New_York:20270624T143000
DTEND;TZID=America/New_York:20270624T160000
DTSTAMP:20260419T125227
CREATED:20260101T200828Z
LAST-MODIFIED:20260101T200854Z
UID:10019669-1813847400-1813852800@bluewaterparent.com
SUMMARY:Teen Time - Yale
DESCRIPTION:
URL:https://bluewaterparent.com/event/teen-time-yale-3/2027-06-24/
LOCATION:Yale Library\, 2 Jones St\, Yale\, MI\, 48097\, United States
CATEGORIES:Teens
END:VEVENT
BEGIN:VEVENT
DTSTART;TZID=America/New_York:20270624T153000
DTEND;TZID=America/New_York:20270624T180000
DTSTAMP:20260419T125227
CREATED:20260101T201514Z
LAST-MODIFIED:20260103T021445Z
UID:10021533-1813851000-1813860000@bluewaterparent.com
SUMMARY:To D&D\, And Beyond!
DESCRIPTION:  \n 
URL:https://bluewaterparent.com/event/to-dd-and-beyond-3/2027-06-24/
LOCATION:Marysville Library\, 1175 Delaware\, Marysville\, MI
CATEGORIES:Teens
END:VEVENT
BEGIN:VEVENT
DTSTART;TZID=America/New_York:20270625T080000
DTEND;TZID=America/New_York:20270625T170000
DTSTAMP:20260419T125227
CREATED:20260419T012510Z
LAST-MODIFIED:20260419T012510Z
UID:10026511-1813910400-1813942800@bluewaterparent.com
SUMMARY:Discovery Lab for Littles
DESCRIPTION:This event is included with admission.
URL:https://bluewaterparent.com/event/discovery-lab-for-littles/2027-06-25/
LOCATION:Discovery City Children’s Museum\, 317 Grand River Avenue\, Port huron\, MI\, 48060
END:VEVENT
BEGIN:VEVENT
DTSTART;TZID=America/New_York:20270625T100000
DTEND;TZID=America/New_York:20270625T104500
DTSTAMP:20260419T125227
CREATED:20260101T202520Z
LAST-MODIFIED:20260131T171318Z
UID:10023316-1813917600-1813920300@bluewaterparent.com
SUMMARY:Family Storytime - Memphis
DESCRIPTION:
URL:https://bluewaterparent.com/event/family-storytime-capac-2-2/2027-06-25/
LOCATION:Memphis Library\, 34830 Potter St\, Memphis\, MI\, 48041\, United States
CATEGORIES:Playgroups
END:VEVENT
BEGIN:VEVENT
DTSTART;TZID=America/New_York:20270625T100000
DTEND;TZID=America/New_York:20270625T110000
DTSTAMP:20260419T125227
CREATED:20260419T003829Z
LAST-MODIFIED:20260419T003829Z
UID:10026185-1813917600-1813921200@bluewaterparent.com
SUMMARY:Storytime - Port Huron
DESCRIPTION:
URL:https://bluewaterparent.com/event/storytime-port-huron-2/2027-06-25/
LOCATION:Main Library\, 210 McMorran Blvd\, Port Huron\, MI\, 48060\, United States
CATEGORIES:Playgroups
END:VEVENT
BEGIN:VEVENT
DTSTART;TZID=America/New_York:20270625T110000
DTEND;TZID=America/New_York:20270625T120000
DTSTAMP:20260419T125227
CREATED:20260101T164906Z
LAST-MODIFIED:20260101T171615Z
UID:10016998-1813921200-1813924800@bluewaterparent.com
SUMMARY:Playgroup Pals
DESCRIPTION:
URL:https://bluewaterparent.com/event/playgroup-pals-2/2027-06-25/
LOCATION:Ira Township Library\, 7013 Meldrum Rd\, Ira Township\, Michigan\, 48023\, United States
CATEGORIES:Playgroups
END:VEVENT
BEGIN:VEVENT
DTSTART;TZID=America/New_York:20270625T150000
DTEND;TZID=America/New_York:20270625T163000
DTSTAMP:20260419T125227
CREATED:20260101T204005Z
LAST-MODIFIED:20260103T023339Z
UID:10021643-1813935600-1813941000@bluewaterparent.com
SUMMARY:Friday Game Zone
DESCRIPTION:
URL:https://bluewaterparent.com/event/friday-game-zone/2027-06-25/
LOCATION:Ira Township Library\, 7013 Meldrum Rd\, Ira Township\, Michigan\, 48023\, United States
CATEGORIES:Free
END:VEVENT
BEGIN:VEVENT
DTSTART;TZID=America/New_York:20270628T100000
DTEND;TZID=America/New_York:20270628T110000
DTSTAMP:20260419T125227
CREATED:20260101T192653Z
LAST-MODIFIED:20260307T025320Z
UID:10024412-1814176800-1814180400@bluewaterparent.com
SUMMARY:Storytime - St. Clair
DESCRIPTION:From SCCLS – Join us for a fun and educational blend of stories\, crafts\, movement activities\, and songs.
URL:https://bluewaterparent.com/event/storytime-st-clair/2027-06-28/
LOCATION:St. Clair Library\, 310 S. 2nd Street\, St. Clair\, MI
CATEGORIES:Free,Playgroups
END:VEVENT
BEGIN:VEVENT
DTSTART;TZID=America/New_York:20270628T100000
DTEND;TZID=America/New_York:20270628T110000
DTSTAMP:20260419T125227
CREATED:20260125T194928Z
LAST-MODIFIED:20260125T194929Z
UID:10017521-1814176800-1814180400@bluewaterparent.com
SUMMARY:Storytime - Marysville
DESCRIPTION:From SCCLS – Preschoolers and their adults: Join us at the library for a happy blend of stories\, rhymes\, music and movement\, followed by a creative activity time.
URL:https://bluewaterparent.com/event/storytime-marysville-3/2027-06-28/
LOCATION:Marysville Library\, 1175 Delaware\, Marysville\, MI
CATEGORIES:Free,Playgroups
END:VEVENT
BEGIN:VEVENT
DTSTART;TZID=America/New_York:20270628T100000
DTEND;TZID=America/New_York:20270628T110000
DTSTAMP:20260419T125227
CREATED:20260307T142323Z
LAST-MODIFIED:20260307T142325Z
UID:10017260-1814176800-1814180400@bluewaterparent.com
SUMMARY:Storytime - Yale
DESCRIPTION:
URL:https://bluewaterparent.com/event/storytime-yale-2-2-2/2027-06-28/
LOCATION:Yale Library\, 2 Jones St\, Yale\, MI\, 48097\, United States
CATEGORIES:Free,Playgroups
END:VEVENT
BEGIN:VEVENT
DTSTART;TZID=America/New_York:20270628T103000
DTEND;TZID=America/New_York:20270628T110000
DTSTAMP:20260419T125227
CREATED:20260401T010404Z
LAST-MODIFIED:20260401T010407Z
UID:10025025-1814178600-1814180400@bluewaterparent.com
SUMMARY:Storytime - Burtchville
DESCRIPTION:
URL:https://bluewaterparent.com/event/storytime-burtchville-3-2/2027-06-28/
LOCATION:Burtchville Library\, 7093 2nd St\, Lakeport\, MI\, 48059\, United States
CATEGORIES:Free,Playgroups
END:VEVENT
BEGIN:VEVENT
DTSTART;TZID=America/New_York:20270628T103000
DTEND;TZID=America/New_York:20270628T113000
DTSTAMP:20260419T125227
CREATED:20260321T165751Z
LAST-MODIFIED:20260321T165752Z
UID:10017782-1814178600-1814182200@bluewaterparent.com
SUMMARY:Storytime - Marine City
DESCRIPTION:From SCCLS – Preschoolers and their adults join us at the library for a happy blend of stories and activities.
URL:https://bluewaterparent.com/event/storytime-marine-city-2-2/2027-06-28/
LOCATION:Marine City Library\, 300 S Parker St\, Marine City\, MI\, 48039\, United States
CATEGORIES:Free,Playgroups
END:VEVENT
BEGIN:VEVENT
DTSTART;TZID=America/New_York:20270629T100000
DTEND;TZID=America/New_York:20270629T103000
DTSTAMP:20260419T125227
CREATED:20260418T235804Z
LAST-MODIFIED:20260419T000903Z
UID:10025403-1814263200-1814265000@bluewaterparent.com
SUMMARY:Rhythm and Rhyme - Port Huron
DESCRIPTION:For children ages 0-3 and their caregivers.
URL:https://bluewaterparent.com/event/rhythm-and-rhyme-port-huron/2027-06-29/
LOCATION:Main Library\, 210 McMorran Blvd\, Port Huron\, MI\, 48060\, United States
CATEGORIES:Playgroups
END:VEVENT
BEGIN:VEVENT
DTSTART;TZID=America/New_York:20270629T180000
DTEND;TZID=America/New_York:20270629T183000
DTSTAMP:20260419T125227
CREATED:20260419T002148Z
LAST-MODIFIED:20260419T003520Z
UID:10025664-1814292000-1814293800@bluewaterparent.com
SUMMARY:Bedtime Storytime - Port Huron
DESCRIPTION:
URL:https://bluewaterparent.com/event/bedtime-storytime/2027-06-29/
LOCATION:Main Library\, 210 McMorran Blvd\, Port Huron\, MI\, 48060\, United States
CATEGORIES:Playgroups
END:VEVENT
BEGIN:VEVENT
DTSTART;TZID=America/New_York:20270630T080000
DTEND;TZID=America/New_York:20270630T170000
DTSTAMP:20260419T125227
CREATED:20260419T012510Z
LAST-MODIFIED:20260419T012510Z
UID:10026512-1814342400-1814374800@bluewaterparent.com
SUMMARY:Discovery Lab for Littles
DESCRIPTION:This event is included with admission.
URL:https://bluewaterparent.com/event/discovery-lab-for-littles/2027-06-30/
LOCATION:Discovery City Children’s Museum\, 317 Grand River Avenue\, Port huron\, MI\, 48060
END:VEVENT
BEGIN:VEVENT
DTSTART;TZID=America/New_York:20270630T100000
DTEND;TZID=America/New_York:20270630T110000
DTSTAMP:20260419T125227
CREATED:20260419T003159Z
LAST-MODIFIED:20260419T003555Z
UID:10025925-1814349600-1814353200@bluewaterparent.com
SUMMARY:Storytime - Port Huron
DESCRIPTION:
URL:https://bluewaterparent.com/event/storytime-port-huron/2027-06-30/
LOCATION:Main Library\, 210 McMorran Blvd\, Port Huron\, MI\, 48060\, United States
CATEGORIES:Playgroups
END:VEVENT
BEGIN:VEVENT
DTSTART;TZID=America/New_York:20270701T100000
DTEND;TZID=America/New_York:20270701T110000
DTSTAMP:20260419T125227
CREATED:20251201T004011Z
LAST-MODIFIED:20260307T021133Z
UID:10023891-1814436000-1814439600@bluewaterparent.com
SUMMARY:Great Start Playgroup - Avoca
DESCRIPTION:
URL:https://bluewaterparent.com/event/great-start-playgroup-emmett/2027-07-01/
LOCATION:Avoca Elementary\, 8751 Willow St.\, Avoca\, MI\, 48006\, United States
CATEGORIES:Playgroups
END:VEVENT
BEGIN:VEVENT
DTSTART;TZID=America/New_York:20270701T100000
DTEND;TZID=America/New_York:20270701T110000
DTSTAMP:20260419T125227
CREATED:20260307T014510Z
LAST-MODIFIED:20260307T014908Z
UID:10023630-1814436000-1814439600@bluewaterparent.com
SUMMARY:Great Start Playgroup - Marysville
DESCRIPTION:
URL:https://bluewaterparent.com/event/great-start-playgroup-marysville-3/2027-07-01/
LOCATION:St. Clair County RESA East Campus\, 1111 Delaware Avenue\, Marysville\, MI
CATEGORIES:Playgroups
END:VEVENT
BEGIN:VEVENT
DTSTART;TZID=America/New_York:20270701T110000
DTEND;TZID=America/New_York:20270701T113000
DTSTAMP:20260419T125227
CREATED:20260101T200511Z
LAST-MODIFIED:20260101T213808Z
UID:10021176-1814439600-1814441400@bluewaterparent.com
SUMMARY:Storytime - Algonac
DESCRIPTION:  \n 
URL:https://bluewaterparent.com/event/storytime-algonac-2/2027-07-01/
LOCATION:Algonac-Clay Library\, 2011 St Clair River Dr\, Algonac\, MI\, 48001\, United States
CATEGORIES:Playgroups
END:VEVENT
BEGIN:VEVENT
DTSTART;TZID=America/New_York:20270701T143000
DTEND;TZID=America/New_York:20270701T160000
DTSTAMP:20260419T125227
CREATED:20260101T200828Z
LAST-MODIFIED:20260101T200854Z
UID:10019670-1814452200-1814457600@bluewaterparent.com
SUMMARY:Teen Time - Yale
DESCRIPTION:
URL:https://bluewaterparent.com/event/teen-time-yale-3/2027-07-01/
LOCATION:Yale Library\, 2 Jones St\, Yale\, MI\, 48097\, United States
CATEGORIES:Teens
END:VEVENT
BEGIN:VEVENT
DTSTART;TZID=America/New_York:20270701T171500
DTEND;TZID=America/New_York:20270701T174500
DTSTAMP:20260419T125227
CREATED:20260328T183605Z
LAST-MODIFIED:20260328T183607Z
UID:10022931-1814462100-1814463900@bluewaterparent.com
SUMMARY:Little House on the Prairie Book Club for Kids
DESCRIPTION:  \n 
URL:https://bluewaterparent.com/event/little-house-on-the-prairie-book-club-for-kids-2-3/2027-07-01/
LOCATION:Capac Library\, 111 N Main St\, Capac\, MI\, 48014\, United States
CATEGORIES:Free
END:VEVENT
BEGIN:VEVENT
DTSTART;TZID=America/New_York:20270702T080000
DTEND;TZID=America/New_York:20270702T170000
DTSTAMP:20260419T125227
CREATED:20260419T012510Z
LAST-MODIFIED:20260419T012510Z
UID:10026513-1814515200-1814547600@bluewaterparent.com
SUMMARY:Discovery Lab for Littles
DESCRIPTION:This event is included with admission.
URL:https://bluewaterparent.com/event/discovery-lab-for-littles/2027-07-02/
LOCATION:Discovery City Children’s Museum\, 317 Grand River Avenue\, Port huron\, MI\, 48060
END:VEVENT
BEGIN:VEVENT
DTSTART;TZID=America/New_York:20270702T100000
DTEND;TZID=America/New_York:20270702T104500
DTSTAMP:20260419T125227
CREATED:20260101T202520Z
LAST-MODIFIED:20260131T171318Z
UID:10023317-1814522400-1814525100@bluewaterparent.com
SUMMARY:Family Storytime - Memphis
DESCRIPTION:
URL:https://bluewaterparent.com/event/family-storytime-capac-2-2/2027-07-02/
LOCATION:Memphis Library\, 34830 Potter St\, Memphis\, MI\, 48041\, United States
CATEGORIES:Playgroups
END:VEVENT
BEGIN:VEVENT
DTSTART;TZID=America/New_York:20270702T100000
DTEND;TZID=America/New_York:20270702T110000
DTSTAMP:20260419T125227
CREATED:20260419T003829Z
LAST-MODIFIED:20260419T003829Z
UID:10026186-1814522400-1814526000@bluewaterparent.com
SUMMARY:Storytime - Port Huron
DESCRIPTION:
URL:https://bluewaterparent.com/event/storytime-port-huron-2/2027-07-02/
LOCATION:Main Library\, 210 McMorran Blvd\, Port Huron\, MI\, 48060\, United States
CATEGORIES:Playgroups
END:VEVENT
BEGIN:VEVENT
DTSTART;TZID=America/New_York:20270702T110000
DTEND;TZID=America/New_York:20270702T120000
DTSTAMP:20260419T125227
CREATED:20260101T164906Z
LAST-MODIFIED:20260101T171615Z
UID:10016999-1814526000-1814529600@bluewaterparent.com
SUMMARY:Playgroup Pals
DESCRIPTION:
URL:https://bluewaterparent.com/event/playgroup-pals-2/2027-07-02/
LOCATION:Ira Township Library\, 7013 Meldrum Rd\, Ira Township\, Michigan\, 48023\, United States
CATEGORIES:Playgroups
END:VEVENT
END:VCALENDAR