BEGIN:VCALENDAR
VERSION:2.0
PRODID:-//BlueWaterParent.com - ECPv6.15.20//NONSGML v1.0//EN
CALSCALE:GREGORIAN
METHOD:PUBLISH
X-ORIGINAL-URL:https://bluewaterparent.com
X-WR-CALDESC:Events for BlueWaterParent.com
REFRESH-INTERVAL;VALUE=DURATION:PT1H
X-Robots-Tag:noindex
X-PUBLISHED-TTL:PT1H
BEGIN:VTIMEZONE
TZID:America/New_York
BEGIN:DAYLIGHT
TZOFFSETFROM:-0500
TZOFFSETTO:-0400
TZNAME:EDT
DTSTART:20280312T070000
END:DAYLIGHT
BEGIN:STANDARD
TZOFFSETFROM:-0400
TZOFFSETTO:-0500
TZNAME:EST
DTSTART:20281105T060000
END:STANDARD
BEGIN:DAYLIGHT
TZOFFSETFROM:-0500
TZOFFSETTO:-0400
TZNAME:EDT
DTSTART:20290311T070000
END:DAYLIGHT
BEGIN:STANDARD
TZOFFSETFROM:-0400
TZOFFSETTO:-0500
TZNAME:EST
DTSTART:20291104T060000
END:STANDARD
BEGIN:DAYLIGHT
TZOFFSETFROM:-0500
TZOFFSETTO:-0400
TZNAME:EDT
DTSTART:20300310T070000
END:DAYLIGHT
BEGIN:STANDARD
TZOFFSETFROM:-0400
TZOFFSETTO:-0500
TZNAME:EST
DTSTART:20301103T060000
END:STANDARD
END:VTIMEZONE
BEGIN:VEVENT
DTSTART;TZID=America/New_York:20290326T100000
DTEND;TZID=America/New_York:20290326T110000
DTSTAMP:20260423T190318
CREATED:20260101T192653Z
LAST-MODIFIED:20260307T025320Z
UID:10024503-1869213600-1869217200@bluewaterparent.com
SUMMARY:Storytime - St. Clair
DESCRIPTION:From SCCLS – Join us for a fun and educational blend of stories\, crafts\, movement activities\, and songs.
URL:https://bluewaterparent.com/event/storytime-st-clair/2029-03-26/
LOCATION:St. Clair Library\, 310 S. 2nd Street\, St. Clair\, MI
CATEGORIES:Free,Playgroups
END:VEVENT
BEGIN:VEVENT
DTSTART;TZID=America/New_York:20290326T100000
DTEND;TZID=America/New_York:20290326T110000
DTSTAMP:20260423T190318
CREATED:20260125T194928Z
LAST-MODIFIED:20260125T194929Z
UID:10017612-1869213600-1869217200@bluewaterparent.com
SUMMARY:Storytime - Marysville
DESCRIPTION:From SCCLS – Preschoolers and their adults: Join us at the library for a happy blend of stories\, rhymes\, music and movement\, followed by a creative activity time.
URL:https://bluewaterparent.com/event/storytime-marysville-3/2029-03-26/
LOCATION:Marysville Library\, 1175 Delaware\, Marysville\, MI
CATEGORIES:Free,Playgroups
END:VEVENT
BEGIN:VEVENT
DTSTART;TZID=America/New_York:20290326T100000
DTEND;TZID=America/New_York:20290326T110000
DTSTAMP:20260423T190318
CREATED:20260307T142323Z
LAST-MODIFIED:20260307T142325Z
UID:10017351-1869213600-1869217200@bluewaterparent.com
SUMMARY:Storytime - Yale
DESCRIPTION:
URL:https://bluewaterparent.com/event/storytime-yale-2-2-2/2029-03-26/
LOCATION:Yale Library\, 2 Jones St\, Yale\, MI\, 48097\, United States
CATEGORIES:Free,Playgroups
END:VEVENT
BEGIN:VEVENT
DTSTART;TZID=America/New_York:20290326T103000
DTEND;TZID=America/New_York:20290326T110000
DTSTAMP:20260423T190318
CREATED:20260401T010404Z
LAST-MODIFIED:20260401T010407Z
UID:10025116-1869215400-1869217200@bluewaterparent.com
SUMMARY:Storytime - Burtchville
DESCRIPTION:
URL:https://bluewaterparent.com/event/storytime-burtchville-3-2/2029-03-26/
LOCATION:Burtchville Library\, 7093 2nd St\, Lakeport\, MI\, 48059\, United States
CATEGORIES:Free,Playgroups
END:VEVENT
BEGIN:VEVENT
DTSTART;TZID=America/New_York:20290326T103000
DTEND;TZID=America/New_York:20290326T113000
DTSTAMP:20260423T190318
CREATED:20260321T165751Z
LAST-MODIFIED:20260321T165752Z
UID:10024742-1869215400-1869219000@bluewaterparent.com
SUMMARY:Storytime - Marine City
DESCRIPTION:From SCCLS – Preschoolers and their adults join us at the library for a happy blend of stories and activities.
URL:https://bluewaterparent.com/event/storytime-marine-city-2-2/2029-03-26/
LOCATION:Marine City Library\, 300 S Parker St\, Marine City\, MI\, 48039\, United States
CATEGORIES:Free,Playgroups
END:VEVENT
BEGIN:VEVENT
DTSTART;TZID=America/New_York:20290327T100000
DTEND;TZID=America/New_York:20290327T103000
DTSTAMP:20260423T190318
CREATED:20260418T235804Z
LAST-MODIFIED:20260419T000903Z
UID:10025494-1869300000-1869301800@bluewaterparent.com
SUMMARY:Rhythm and Rhyme - Port Huron
DESCRIPTION:For children ages 0-3 and their caregivers.
URL:https://bluewaterparent.com/event/rhythm-and-rhyme-port-huron/2029-03-27/
LOCATION:Main Library\, 210 McMorran Blvd\, Port Huron\, MI\, 48060\, United States
CATEGORIES:Playgroups
END:VEVENT
BEGIN:VEVENT
DTSTART;TZID=America/New_York:20290327T170000
DTEND;TZID=America/New_York:20290327T193000
DTSTAMP:20260423T190318
CREATED:20260101T190453Z
LAST-MODIFIED:20260103T013002Z
UID:10021454-1869325200-1869334200@bluewaterparent.com
SUMMARY:Teen D&D Group - Algonac-Clay
DESCRIPTION:Registration requested.
URL:https://bluewaterparent.com/event/teen-dd-group-algonac-clay/2029-03-27/
LOCATION:Algonac-Clay Library\, 2011 St Clair River Dr\, Algonac\, MI\, 48001\, United States
CATEGORIES:Teens
END:VEVENT
BEGIN:VEVENT
DTSTART;TZID=America/New_York:20290327T180000
DTEND;TZID=America/New_York:20290327T183000
DTSTAMP:20260423T190318
CREATED:20260419T002148Z
LAST-MODIFIED:20260419T003520Z
UID:10025755-1869328800-1869330600@bluewaterparent.com
SUMMARY:Bedtime Storytime - Port Huron
DESCRIPTION:
URL:https://bluewaterparent.com/event/bedtime-storytime/2029-03-27/
LOCATION:Main Library\, 210 McMorran Blvd\, Port Huron\, MI\, 48060\, United States
CATEGORIES:Playgroups
END:VEVENT
BEGIN:VEVENT
DTSTART;TZID=America/New_York:20290328T080000
DTEND;TZID=America/New_York:20290328T170000
DTSTAMP:20260423T190318
CREATED:20260419T012510Z
LAST-MODIFIED:20260419T012510Z
UID:10026694-1869379200-1869411600@bluewaterparent.com
SUMMARY:Discovery Lab for Littles
DESCRIPTION:This event is included with admission.
URL:https://bluewaterparent.com/event/discovery-lab-for-littles/2029-03-28/
LOCATION:Discovery City Children’s Museum\, 317 Grand River Avenue\, Port huron\, MI\, 48060
END:VEVENT
BEGIN:VEVENT
DTSTART;TZID=America/New_York:20290328T100000
DTEND;TZID=America/New_York:20290328T110000
DTSTAMP:20260423T190318
CREATED:20260419T003159Z
LAST-MODIFIED:20260419T003555Z
UID:10026016-1869386400-1869390000@bluewaterparent.com
SUMMARY:Storytime - Port Huron
DESCRIPTION:
URL:https://bluewaterparent.com/event/storytime-port-huron/2029-03-28/
LOCATION:Main Library\, 210 McMorran Blvd\, Port Huron\, MI\, 48060\, United States
CATEGORIES:Playgroups
END:VEVENT
BEGIN:VEVENT
DTSTART;TZID=America/New_York:20290329T100000
DTEND;TZID=America/New_York:20290329T110000
DTSTAMP:20260423T190318
CREATED:20251201T004011Z
LAST-MODIFIED:20260307T021133Z
UID:10023982-1869472800-1869476400@bluewaterparent.com
SUMMARY:Great Start Playgroup - Avoca
DESCRIPTION:
URL:https://bluewaterparent.com/event/great-start-playgroup-emmett/2029-03-29/
LOCATION:Avoca Elementary\, 8751 Willow St.\, Avoca\, MI\, 48006\, United States
CATEGORIES:Playgroups
END:VEVENT
BEGIN:VEVENT
DTSTART;TZID=America/New_York:20290329T100000
DTEND;TZID=America/New_York:20290329T110000
DTSTAMP:20260423T190318
CREATED:20260307T014510Z
LAST-MODIFIED:20260307T014908Z
UID:10023721-1869472800-1869476400@bluewaterparent.com
SUMMARY:Great Start Playgroup - Marysville
DESCRIPTION:
URL:https://bluewaterparent.com/event/great-start-playgroup-marysville-3/2029-03-29/
LOCATION:St. Clair County RESA East Campus\, 1111 Delaware Avenue\, Marysville\, MI
CATEGORIES:Playgroups
END:VEVENT
BEGIN:VEVENT
DTSTART;TZID=America/New_York:20290329T110000
DTEND;TZID=America/New_York:20290329T113000
DTSTAMP:20260423T190318
CREATED:20260101T200511Z
LAST-MODIFIED:20260101T213808Z
UID:10021267-1869476400-1869478200@bluewaterparent.com
SUMMARY:Storytime - Algonac
DESCRIPTION:  \n 
URL:https://bluewaterparent.com/event/storytime-algonac-2/2029-03-29/
LOCATION:Algonac-Clay Library\, 2011 St Clair River Dr\, Algonac\, MI\, 48001\, United States
CATEGORIES:Playgroups
END:VEVENT
BEGIN:VEVENT
DTSTART;TZID=America/New_York:20290329T143000
DTEND;TZID=America/New_York:20290329T160000
DTSTAMP:20260423T190318
CREATED:20260101T200828Z
LAST-MODIFIED:20260101T200854Z
UID:10019761-1869489000-1869494400@bluewaterparent.com
SUMMARY:Teen Time - Yale
DESCRIPTION:
URL:https://bluewaterparent.com/event/teen-time-yale-3/2029-03-29/
LOCATION:Yale Library\, 2 Jones St\, Yale\, MI\, 48097\, United States
CATEGORIES:Teens
END:VEVENT
BEGIN:VEVENT
DTSTART;TZID=America/New_York:20290329T153000
DTEND;TZID=America/New_York:20290329T180000
DTSTAMP:20260423T190318
CREATED:20260101T201514Z
LAST-MODIFIED:20260103T021445Z
UID:10021569-1869492600-1869501600@bluewaterparent.com
SUMMARY:To D&D\, And Beyond!
DESCRIPTION:  \n 
URL:https://bluewaterparent.com/event/to-dd-and-beyond-3/2029-03-29/
LOCATION:Marysville Library\, 1175 Delaware\, Marysville\, MI
CATEGORIES:Teens
END:VEVENT
BEGIN:VEVENT
DTSTART;TZID=America/New_York:20290330T080000
DTEND;TZID=America/New_York:20290330T170000
DTSTAMP:20260423T190318
CREATED:20260419T012510Z
LAST-MODIFIED:20260419T012510Z
UID:10026695-1869552000-1869584400@bluewaterparent.com
SUMMARY:Discovery Lab for Littles
DESCRIPTION:This event is included with admission.
URL:https://bluewaterparent.com/event/discovery-lab-for-littles/2029-03-30/
LOCATION:Discovery City Children’s Museum\, 317 Grand River Avenue\, Port huron\, MI\, 48060
END:VEVENT
BEGIN:VEVENT
DTSTART;TZID=America/New_York:20290330T100000
DTEND;TZID=America/New_York:20290330T104500
DTSTAMP:20260423T190318
CREATED:20260101T202520Z
LAST-MODIFIED:20260131T171318Z
UID:10023408-1869559200-1869561900@bluewaterparent.com
SUMMARY:Family Storytime - Memphis
DESCRIPTION:
URL:https://bluewaterparent.com/event/family-storytime-capac-2-2/2029-03-30/
LOCATION:Memphis Library\, 34830 Potter St\, Memphis\, MI\, 48041\, United States
CATEGORIES:Playgroups
END:VEVENT
BEGIN:VEVENT
DTSTART;TZID=America/New_York:20290330T100000
DTEND;TZID=America/New_York:20290330T110000
DTSTAMP:20260423T190318
CREATED:20260419T003829Z
LAST-MODIFIED:20260419T003829Z
UID:10026277-1869559200-1869562800@bluewaterparent.com
SUMMARY:Storytime - Port Huron
DESCRIPTION:
URL:https://bluewaterparent.com/event/storytime-port-huron-2/2029-03-30/
LOCATION:Main Library\, 210 McMorran Blvd\, Port Huron\, MI\, 48060\, United States
CATEGORIES:Playgroups
END:VEVENT
BEGIN:VEVENT
DTSTART;TZID=America/New_York:20290330T110000
DTEND;TZID=America/New_York:20290330T120000
DTSTAMP:20260423T190318
CREATED:20260101T164906Z
LAST-MODIFIED:20260101T171615Z
UID:10017090-1869562800-1869566400@bluewaterparent.com
SUMMARY:Playgroup Pals
DESCRIPTION:
URL:https://bluewaterparent.com/event/playgroup-pals-2/2029-03-30/
LOCATION:Ira Township Library\, 7013 Meldrum Rd\, Ira Township\, Michigan\, 48023\, United States
CATEGORIES:Playgroups
END:VEVENT
BEGIN:VEVENT
DTSTART;TZID=America/New_York:20290330T150000
DTEND;TZID=America/New_York:20290330T163000
DTSTAMP:20260423T190318
CREATED:20260101T204005Z
LAST-MODIFIED:20260103T023339Z
UID:10021689-1869577200-1869582600@bluewaterparent.com
SUMMARY:Friday Game Zone
DESCRIPTION:
URL:https://bluewaterparent.com/event/friday-game-zone/2029-03-30/
LOCATION:Ira Township Library\, 7013 Meldrum Rd\, Ira Township\, Michigan\, 48023\, United States
CATEGORIES:Free
END:VEVENT
BEGIN:VEVENT
DTSTART;TZID=America/New_York:20290401T130000
DTEND;TZID=America/New_York:20290401T170000
DTSTAMP:20260423T190318
CREATED:20250807T170824Z
LAST-MODIFIED:20250807T170824Z
UID:10015247-1869742800-1869757200@bluewaterparent.com
SUMMARY:Port Huron Township Heritage Museum
DESCRIPTION:
URL:https://bluewaterparent.com/event/port-huron-township-heritage-museum/2029-04-01/
LOCATION:Port Huron Township Heritage Museum\, 3800 Lapeer Rd.\, Port Huron Township\, MI
END:VEVENT
BEGIN:VEVENT
DTSTART;TZID=America/New_York:20290402T100000
DTEND;TZID=America/New_York:20290402T110000
DTSTAMP:20260423T190318
CREATED:20260101T192653Z
LAST-MODIFIED:20260307T025320Z
UID:10024504-1869818400-1869822000@bluewaterparent.com
SUMMARY:Storytime - St. Clair
DESCRIPTION:From SCCLS – Join us for a fun and educational blend of stories\, crafts\, movement activities\, and songs.
URL:https://bluewaterparent.com/event/storytime-st-clair/2029-04-02/
LOCATION:St. Clair Library\, 310 S. 2nd Street\, St. Clair\, MI
CATEGORIES:Free,Playgroups
END:VEVENT
BEGIN:VEVENT
DTSTART;TZID=America/New_York:20290402T100000
DTEND;TZID=America/New_York:20290402T110000
DTSTAMP:20260423T190318
CREATED:20260125T194928Z
LAST-MODIFIED:20260125T194929Z
UID:10017613-1869818400-1869822000@bluewaterparent.com
SUMMARY:Storytime - Marysville
DESCRIPTION:From SCCLS – Preschoolers and their adults: Join us at the library for a happy blend of stories\, rhymes\, music and movement\, followed by a creative activity time.
URL:https://bluewaterparent.com/event/storytime-marysville-3/2029-04-02/
LOCATION:Marysville Library\, 1175 Delaware\, Marysville\, MI
CATEGORIES:Free,Playgroups
END:VEVENT
BEGIN:VEVENT
DTSTART;TZID=America/New_York:20290402T100000
DTEND;TZID=America/New_York:20290402T110000
DTSTAMP:20260423T190318
CREATED:20260307T142323Z
LAST-MODIFIED:20260307T142325Z
UID:10017352-1869818400-1869822000@bluewaterparent.com
SUMMARY:Storytime - Yale
DESCRIPTION:
URL:https://bluewaterparent.com/event/storytime-yale-2-2-2/2029-04-02/
LOCATION:Yale Library\, 2 Jones St\, Yale\, MI\, 48097\, United States
CATEGORIES:Free,Playgroups
END:VEVENT
BEGIN:VEVENT
DTSTART;TZID=America/New_York:20290402T103000
DTEND;TZID=America/New_York:20290402T110000
DTSTAMP:20260423T190318
CREATED:20260401T010404Z
LAST-MODIFIED:20260401T010407Z
UID:10025117-1869820200-1869822000@bluewaterparent.com
SUMMARY:Storytime - Burtchville
DESCRIPTION:
URL:https://bluewaterparent.com/event/storytime-burtchville-3-2/2029-04-02/
LOCATION:Burtchville Library\, 7093 2nd St\, Lakeport\, MI\, 48059\, United States
CATEGORIES:Free,Playgroups
END:VEVENT
BEGIN:VEVENT
DTSTART;TZID=America/New_York:20290402T103000
DTEND;TZID=America/New_York:20290402T113000
DTSTAMP:20260423T190318
CREATED:20260321T165751Z
LAST-MODIFIED:20260321T165752Z
UID:10017874-1869820200-1869823800@bluewaterparent.com
SUMMARY:Storytime - Marine City
DESCRIPTION:From SCCLS – Preschoolers and their adults join us at the library for a happy blend of stories and activities.
URL:https://bluewaterparent.com/event/storytime-marine-city-2-2/2029-04-02/
LOCATION:Marine City Library\, 300 S Parker St\, Marine City\, MI\, 48039\, United States
CATEGORIES:Free,Playgroups
END:VEVENT
BEGIN:VEVENT
DTSTART;TZID=America/New_York:20290403T100000
DTEND;TZID=America/New_York:20290403T103000
DTSTAMP:20260423T190318
CREATED:20260418T235804Z
LAST-MODIFIED:20260419T000903Z
UID:10025495-1869904800-1869906600@bluewaterparent.com
SUMMARY:Rhythm and Rhyme - Port Huron
DESCRIPTION:For children ages 0-3 and their caregivers.
URL:https://bluewaterparent.com/event/rhythm-and-rhyme-port-huron/2029-04-03/
LOCATION:Main Library\, 210 McMorran Blvd\, Port Huron\, MI\, 48060\, United States
CATEGORIES:Playgroups
END:VEVENT
BEGIN:VEVENT
DTSTART;TZID=America/New_York:20290403T153000
DTEND;TZID=America/New_York:20290403T173000
DTSTAMP:20260423T190318
CREATED:20260101T184832Z
LAST-MODIFIED:20260101T184832Z
UID:10019056-1869924600-1869931800@bluewaterparent.com
SUMMARY:Teen Zone - Burtchville
DESCRIPTION:Registration requested.
URL:https://bluewaterparent.com/event/teen-zone-burtchville-2/2029-04-03/
LOCATION:Burtchville Library\, 7093 2nd St\, Lakeport\, MI\, 48059\, United States
CATEGORIES:Teens
END:VEVENT
BEGIN:VEVENT
DTSTART;TZID=America/New_York:20290403T180000
DTEND;TZID=America/New_York:20290403T183000
DTSTAMP:20260423T190318
CREATED:20260419T002148Z
LAST-MODIFIED:20260419T003520Z
UID:10025756-1869933600-1869935400@bluewaterparent.com
SUMMARY:Bedtime Storytime - Port Huron
DESCRIPTION:
URL:https://bluewaterparent.com/event/bedtime-storytime/2029-04-03/
LOCATION:Main Library\, 210 McMorran Blvd\, Port Huron\, MI\, 48060\, United States
CATEGORIES:Playgroups
END:VEVENT
BEGIN:VEVENT
DTSTART;TZID=America/New_York:20290404T080000
DTEND;TZID=America/New_York:20290404T170000
DTSTAMP:20260423T190318
CREATED:20260419T012510Z
LAST-MODIFIED:20260419T012510Z
UID:10026696-1869984000-1870016400@bluewaterparent.com
SUMMARY:Discovery Lab for Littles
DESCRIPTION:This event is included with admission.
URL:https://bluewaterparent.com/event/discovery-lab-for-littles/2029-04-04/
LOCATION:Discovery City Children’s Museum\, 317 Grand River Avenue\, Port huron\, MI\, 48060
END:VEVENT
END:VCALENDAR