BEGIN:VCALENDAR
VERSION:2.0
PRODID:-//BlueWaterParent.com - ECPv6.15.20//NONSGML v1.0//EN
CALSCALE:GREGORIAN
METHOD:PUBLISH
X-WR-CALNAME:BlueWaterParent.com
X-ORIGINAL-URL:https://bluewaterparent.com
X-WR-CALDESC:Events for BlueWaterParent.com
REFRESH-INTERVAL;VALUE=DURATION:PT1H
X-Robots-Tag:noindex
X-PUBLISHED-TTL:PT1H
BEGIN:VTIMEZONE
TZID:America/New_York
BEGIN:DAYLIGHT
TZOFFSETFROM:-0500
TZOFFSETTO:-0400
TZNAME:EDT
DTSTART:20260308T070000
END:DAYLIGHT
BEGIN:STANDARD
TZOFFSETFROM:-0400
TZOFFSETTO:-0500
TZNAME:EST
DTSTART:20261101T060000
END:STANDARD
BEGIN:DAYLIGHT
TZOFFSETFROM:-0500
TZOFFSETTO:-0400
TZNAME:EDT
DTSTART:20270314T070000
END:DAYLIGHT
BEGIN:STANDARD
TZOFFSETFROM:-0400
TZOFFSETTO:-0500
TZNAME:EST
DTSTART:20271107T060000
END:STANDARD
BEGIN:DAYLIGHT
TZOFFSETFROM:-0500
TZOFFSETTO:-0400
TZNAME:EDT
DTSTART:20280312T070000
END:DAYLIGHT
BEGIN:STANDARD
TZOFFSETFROM:-0400
TZOFFSETTO:-0500
TZNAME:EST
DTSTART:20281105T060000
END:STANDARD
END:VTIMEZONE
BEGIN:VEVENT
DTSTART;TZID=America/New_York:20270905T130000
DTEND;TZID=America/New_York:20270905T170000
DTSTAMP:20260420T004907
CREATED:20250807T170824Z
LAST-MODIFIED:20250807T170824Z
UID:10015228-1820149200-1820163600@bluewaterparent.com
SUMMARY:Port Huron Township Heritage Museum
DESCRIPTION:
URL:https://bluewaterparent.com/event/port-huron-township-heritage-museum/2027-09-05/
LOCATION:Port Huron Township Heritage Museum\, 3800 Lapeer Rd.\, Port Huron Township\, MI
END:VEVENT
BEGIN:VEVENT
DTSTART;TZID=America/New_York:20270906T100000
DTEND;TZID=America/New_York:20270906T110000
DTSTAMP:20260420T004907
CREATED:20260101T192653Z
LAST-MODIFIED:20260307T025320Z
UID:10024422-1820224800-1820228400@bluewaterparent.com
SUMMARY:Storytime - St. Clair
DESCRIPTION:From SCCLS – Join us for a fun and educational blend of stories\, crafts\, movement activities\, and songs.
URL:https://bluewaterparent.com/event/storytime-st-clair/2027-09-06/
LOCATION:St. Clair Library\, 310 S. 2nd Street\, St. Clair\, MI
CATEGORIES:Free,Playgroups
END:VEVENT
BEGIN:VEVENT
DTSTART;TZID=America/New_York:20270906T100000
DTEND;TZID=America/New_York:20270906T110000
DTSTAMP:20260420T004907
CREATED:20260125T194928Z
LAST-MODIFIED:20260125T194929Z
UID:10017531-1820224800-1820228400@bluewaterparent.com
SUMMARY:Storytime - Marysville
DESCRIPTION:From SCCLS – Preschoolers and their adults: Join us at the library for a happy blend of stories\, rhymes\, music and movement\, followed by a creative activity time.
URL:https://bluewaterparent.com/event/storytime-marysville-3/2027-09-06/
LOCATION:Marysville Library\, 1175 Delaware\, Marysville\, MI
CATEGORIES:Free,Playgroups
END:VEVENT
BEGIN:VEVENT
DTSTART;TZID=America/New_York:20270906T100000
DTEND;TZID=America/New_York:20270906T110000
DTSTAMP:20260420T004907
CREATED:20260307T142323Z
LAST-MODIFIED:20260307T142325Z
UID:10017270-1820224800-1820228400@bluewaterparent.com
SUMMARY:Storytime - Yale
DESCRIPTION:
URL:https://bluewaterparent.com/event/storytime-yale-2-2-2/2027-09-06/
LOCATION:Yale Library\, 2 Jones St\, Yale\, MI\, 48097\, United States
CATEGORIES:Free,Playgroups
END:VEVENT
BEGIN:VEVENT
DTSTART;TZID=America/New_York:20270906T103000
DTEND;TZID=America/New_York:20270906T110000
DTSTAMP:20260420T004907
CREATED:20260401T010404Z
LAST-MODIFIED:20260401T010407Z
UID:10025035-1820226600-1820228400@bluewaterparent.com
SUMMARY:Storytime - Burtchville
DESCRIPTION:
URL:https://bluewaterparent.com/event/storytime-burtchville-3-2/2027-09-06/
LOCATION:Burtchville Library\, 7093 2nd St\, Lakeport\, MI\, 48059\, United States
CATEGORIES:Free,Playgroups
END:VEVENT
BEGIN:VEVENT
DTSTART;TZID=America/New_York:20270906T103000
DTEND;TZID=America/New_York:20270906T113000
DTSTAMP:20260420T004907
CREATED:20260321T165751Z
LAST-MODIFIED:20260321T165752Z
UID:10017792-1820226600-1820230200@bluewaterparent.com
SUMMARY:Storytime - Marine City
DESCRIPTION:From SCCLS – Preschoolers and their adults join us at the library for a happy blend of stories and activities.
URL:https://bluewaterparent.com/event/storytime-marine-city-2-2/2027-09-06/
LOCATION:Marine City Library\, 300 S Parker St\, Marine City\, MI\, 48039\, United States
CATEGORIES:Free,Playgroups
END:VEVENT
BEGIN:VEVENT
DTSTART;TZID=America/New_York:20270907T100000
DTEND;TZID=America/New_York:20270907T103000
DTSTAMP:20260420T004907
CREATED:20260418T235804Z
LAST-MODIFIED:20260419T000903Z
UID:10025413-1820311200-1820313000@bluewaterparent.com
SUMMARY:Rhythm and Rhyme - Port Huron
DESCRIPTION:For children ages 0-3 and their caregivers.
URL:https://bluewaterparent.com/event/rhythm-and-rhyme-port-huron/2027-09-07/
LOCATION:Main Library\, 210 McMorran Blvd\, Port Huron\, MI\, 48060\, United States
CATEGORIES:Playgroups
END:VEVENT
BEGIN:VEVENT
DTSTART;TZID=America/New_York:20270907T153000
DTEND;TZID=America/New_York:20270907T173000
DTSTAMP:20260420T004907
CREATED:20260101T184832Z
LAST-MODIFIED:20260101T184832Z
UID:10019037-1820331000-1820338200@bluewaterparent.com
SUMMARY:Teen Zone - Burtchville
DESCRIPTION:Registration requested.
URL:https://bluewaterparent.com/event/teen-zone-burtchville-2/2027-09-07/
LOCATION:Burtchville Library\, 7093 2nd St\, Lakeport\, MI\, 48059\, United States
CATEGORIES:Teens
END:VEVENT
BEGIN:VEVENT
DTSTART;TZID=America/New_York:20270907T180000
DTEND;TZID=America/New_York:20270907T183000
DTSTAMP:20260420T004907
CREATED:20260419T002148Z
LAST-MODIFIED:20260419T003520Z
UID:10025674-1820340000-1820341800@bluewaterparent.com
SUMMARY:Bedtime Storytime - Port Huron
DESCRIPTION:
URL:https://bluewaterparent.com/event/bedtime-storytime/2027-09-07/
LOCATION:Main Library\, 210 McMorran Blvd\, Port Huron\, MI\, 48060\, United States
CATEGORIES:Playgroups
END:VEVENT
BEGIN:VEVENT
DTSTART;TZID=America/New_York:20270908T080000
DTEND;TZID=America/New_York:20270908T170000
DTSTAMP:20260420T004907
CREATED:20260419T012510Z
LAST-MODIFIED:20260419T012510Z
UID:10026532-1820390400-1820422800@bluewaterparent.com
SUMMARY:Discovery Lab for Littles
DESCRIPTION:This event is included with admission.
URL:https://bluewaterparent.com/event/discovery-lab-for-littles/2027-09-08/
LOCATION:Discovery City Children’s Museum\, 317 Grand River Avenue\, Port huron\, MI\, 48060
END:VEVENT
BEGIN:VEVENT
DTSTART;TZID=America/New_York:20270908T100000
DTEND;TZID=America/New_York:20270908T110000
DTSTAMP:20260420T004907
CREATED:20260419T003159Z
LAST-MODIFIED:20260419T003555Z
UID:10025935-1820397600-1820401200@bluewaterparent.com
SUMMARY:Storytime - Port Huron
DESCRIPTION:
URL:https://bluewaterparent.com/event/storytime-port-huron/2027-09-08/
LOCATION:Main Library\, 210 McMorran Blvd\, Port Huron\, MI\, 48060\, United States
CATEGORIES:Playgroups
END:VEVENT
BEGIN:VEVENT
DTSTART;TZID=America/New_York:20270909T100000
DTEND;TZID=America/New_York:20270909T110000
DTSTAMP:20260420T004907
CREATED:20251201T004011Z
LAST-MODIFIED:20260307T021133Z
UID:10023901-1820484000-1820487600@bluewaterparent.com
SUMMARY:Great Start Playgroup - Avoca
DESCRIPTION:
URL:https://bluewaterparent.com/event/great-start-playgroup-emmett/2027-09-09/
LOCATION:Avoca Elementary\, 8751 Willow St.\, Avoca\, MI\, 48006\, United States
CATEGORIES:Playgroups
END:VEVENT
BEGIN:VEVENT
DTSTART;TZID=America/New_York:20270909T100000
DTEND;TZID=America/New_York:20270909T110000
DTSTAMP:20260420T004907
CREATED:20260307T014510Z
LAST-MODIFIED:20260307T014908Z
UID:10023640-1820484000-1820487600@bluewaterparent.com
SUMMARY:Great Start Playgroup - Marysville
DESCRIPTION:
URL:https://bluewaterparent.com/event/great-start-playgroup-marysville-3/2027-09-09/
LOCATION:St. Clair County RESA East Campus\, 1111 Delaware Avenue\, Marysville\, MI
CATEGORIES:Playgroups
END:VEVENT
BEGIN:VEVENT
DTSTART;TZID=America/New_York:20270909T110000
DTEND;TZID=America/New_York:20270909T113000
DTSTAMP:20260420T004907
CREATED:20260101T200511Z
LAST-MODIFIED:20260101T213808Z
UID:10021186-1820487600-1820489400@bluewaterparent.com
SUMMARY:Storytime - Algonac
DESCRIPTION:  \n 
URL:https://bluewaterparent.com/event/storytime-algonac-2/2027-09-09/
LOCATION:Algonac-Clay Library\, 2011 St Clair River Dr\, Algonac\, MI\, 48001\, United States
CATEGORIES:Playgroups
END:VEVENT
BEGIN:VEVENT
DTSTART;TZID=America/New_York:20270909T143000
DTEND;TZID=America/New_York:20270909T160000
DTSTAMP:20260420T004907
CREATED:20260101T200828Z
LAST-MODIFIED:20260101T200854Z
UID:10019680-1820500200-1820505600@bluewaterparent.com
SUMMARY:Teen Time - Yale
DESCRIPTION:
URL:https://bluewaterparent.com/event/teen-time-yale-3/2027-09-09/
LOCATION:Yale Library\, 2 Jones St\, Yale\, MI\, 48097\, United States
CATEGORIES:Teens
END:VEVENT
BEGIN:VEVENT
DTSTART;TZID=America/New_York:20270909T171500
DTEND;TZID=America/New_York:20270909T174500
DTSTAMP:20260420T004907
CREATED:20260328T183605Z
LAST-MODIFIED:20260328T183607Z
UID:10024828-1820510100-1820511900@bluewaterparent.com
SUMMARY:Little House on the Prairie Book Club for Kids
DESCRIPTION:  \n 
URL:https://bluewaterparent.com/event/little-house-on-the-prairie-book-club-for-kids-2-3/2027-09-09/
LOCATION:Capac Library\, 111 N Main St\, Capac\, MI\, 48014\, United States
CATEGORIES:Free
END:VEVENT
BEGIN:VEVENT
DTSTART;TZID=America/New_York:20270910T080000
DTEND;TZID=America/New_York:20270910T170000
DTSTAMP:20260420T004907
CREATED:20260419T012510Z
LAST-MODIFIED:20260419T012510Z
UID:10026533-1820563200-1820595600@bluewaterparent.com
SUMMARY:Discovery Lab for Littles
DESCRIPTION:This event is included with admission.
URL:https://bluewaterparent.com/event/discovery-lab-for-littles/2027-09-10/
LOCATION:Discovery City Children’s Museum\, 317 Grand River Avenue\, Port huron\, MI\, 48060
END:VEVENT
BEGIN:VEVENT
DTSTART;TZID=America/New_York:20270910T100000
DTEND;TZID=America/New_York:20270910T104500
DTSTAMP:20260420T004907
CREATED:20260101T202520Z
LAST-MODIFIED:20260131T171318Z
UID:10023327-1820570400-1820573100@bluewaterparent.com
SUMMARY:Family Storytime - Memphis
DESCRIPTION:
URL:https://bluewaterparent.com/event/family-storytime-capac-2-2/2027-09-10/
LOCATION:Memphis Library\, 34830 Potter St\, Memphis\, MI\, 48041\, United States
CATEGORIES:Playgroups
END:VEVENT
BEGIN:VEVENT
DTSTART;TZID=America/New_York:20270910T100000
DTEND;TZID=America/New_York:20270910T110000
DTSTAMP:20260420T004907
CREATED:20260419T003829Z
LAST-MODIFIED:20260419T003829Z
UID:10026196-1820570400-1820574000@bluewaterparent.com
SUMMARY:Storytime - Port Huron
DESCRIPTION:
URL:https://bluewaterparent.com/event/storytime-port-huron-2/2027-09-10/
LOCATION:Main Library\, 210 McMorran Blvd\, Port Huron\, MI\, 48060\, United States
CATEGORIES:Playgroups
END:VEVENT
BEGIN:VEVENT
DTSTART;TZID=America/New_York:20270910T110000
DTEND;TZID=America/New_York:20270910T120000
DTSTAMP:20260420T004907
CREATED:20260101T164906Z
LAST-MODIFIED:20260101T171615Z
UID:10017009-1820574000-1820577600@bluewaterparent.com
SUMMARY:Playgroup Pals
DESCRIPTION:
URL:https://bluewaterparent.com/event/playgroup-pals-2/2027-09-10/
LOCATION:Ira Township Library\, 7013 Meldrum Rd\, Ira Township\, Michigan\, 48023\, United States
CATEGORIES:Playgroups
END:VEVENT
BEGIN:VEVENT
DTSTART;TZID=America/New_York:20270913T100000
DTEND;TZID=America/New_York:20270913T110000
DTSTAMP:20260420T004907
CREATED:20260101T192653Z
LAST-MODIFIED:20260307T025320Z
UID:10024423-1820829600-1820833200@bluewaterparent.com
SUMMARY:Storytime - St. Clair
DESCRIPTION:From SCCLS – Join us for a fun and educational blend of stories\, crafts\, movement activities\, and songs.
URL:https://bluewaterparent.com/event/storytime-st-clair/2027-09-13/
LOCATION:St. Clair Library\, 310 S. 2nd Street\, St. Clair\, MI
CATEGORIES:Free,Playgroups
END:VEVENT
BEGIN:VEVENT
DTSTART;TZID=America/New_York:20270913T100000
DTEND;TZID=America/New_York:20270913T110000
DTSTAMP:20260420T004907
CREATED:20260125T194928Z
LAST-MODIFIED:20260125T194929Z
UID:10017532-1820829600-1820833200@bluewaterparent.com
SUMMARY:Storytime - Marysville
DESCRIPTION:From SCCLS – Preschoolers and their adults: Join us at the library for a happy blend of stories\, rhymes\, music and movement\, followed by a creative activity time.
URL:https://bluewaterparent.com/event/storytime-marysville-3/2027-09-13/
LOCATION:Marysville Library\, 1175 Delaware\, Marysville\, MI
CATEGORIES:Free,Playgroups
END:VEVENT
BEGIN:VEVENT
DTSTART;TZID=America/New_York:20270913T100000
DTEND;TZID=America/New_York:20270913T110000
DTSTAMP:20260420T004907
CREATED:20260307T142323Z
LAST-MODIFIED:20260307T142325Z
UID:10017271-1820829600-1820833200@bluewaterparent.com
SUMMARY:Storytime - Yale
DESCRIPTION:
URL:https://bluewaterparent.com/event/storytime-yale-2-2-2/2027-09-13/
LOCATION:Yale Library\, 2 Jones St\, Yale\, MI\, 48097\, United States
CATEGORIES:Free,Playgroups
END:VEVENT
BEGIN:VEVENT
DTSTART;TZID=America/New_York:20270913T103000
DTEND;TZID=America/New_York:20270913T110000
DTSTAMP:20260420T004907
CREATED:20260401T010404Z
LAST-MODIFIED:20260401T010407Z
UID:10025036-1820831400-1820833200@bluewaterparent.com
SUMMARY:Storytime - Burtchville
DESCRIPTION:
URL:https://bluewaterparent.com/event/storytime-burtchville-3-2/2027-09-13/
LOCATION:Burtchville Library\, 7093 2nd St\, Lakeport\, MI\, 48059\, United States
CATEGORIES:Free,Playgroups
END:VEVENT
BEGIN:VEVENT
DTSTART;TZID=America/New_York:20270913T103000
DTEND;TZID=America/New_York:20270913T113000
DTSTAMP:20260420T004907
CREATED:20260321T165751Z
LAST-MODIFIED:20260321T165752Z
UID:10024702-1820831400-1820835000@bluewaterparent.com
SUMMARY:Storytime - Marine City
DESCRIPTION:From SCCLS – Preschoolers and their adults join us at the library for a happy blend of stories and activities.
URL:https://bluewaterparent.com/event/storytime-marine-city-2-2/2027-09-13/
LOCATION:Marine City Library\, 300 S Parker St\, Marine City\, MI\, 48039\, United States
CATEGORIES:Free,Playgroups
END:VEVENT
BEGIN:VEVENT
DTSTART;TZID=America/New_York:20270913T160000
DTEND;TZID=America/New_York:20270913T180000
DTSTAMP:20260420T004907
CREATED:20260101T211427Z
LAST-MODIFIED:20260101T211427Z
UID:10021052-1820851200-1820858400@bluewaterparent.com
SUMMARY:Teen Scene
DESCRIPTION:Ages 13-18.
URL:https://bluewaterparent.com/event/teen-scene/2027-09-13/
LOCATION:Capac Library\, 111 N Main St\, Capac\, MI\, 48014\, United States
CATEGORIES:Teens
END:VEVENT
BEGIN:VEVENT
DTSTART;TZID=America/New_York:20270914T100000
DTEND;TZID=America/New_York:20270914T103000
DTSTAMP:20260420T004907
CREATED:20260418T235804Z
LAST-MODIFIED:20260419T000903Z
UID:10025414-1820916000-1820917800@bluewaterparent.com
SUMMARY:Rhythm and Rhyme - Port Huron
DESCRIPTION:For children ages 0-3 and their caregivers.
URL:https://bluewaterparent.com/event/rhythm-and-rhyme-port-huron/2027-09-14/
LOCATION:Main Library\, 210 McMorran Blvd\, Port Huron\, MI\, 48060\, United States
CATEGORIES:Playgroups
END:VEVENT
BEGIN:VEVENT
DTSTART;TZID=America/New_York:20270914T170000
DTEND;TZID=America/New_York:20270914T193000
DTSTAMP:20260420T004907
CREATED:20260101T190453Z
LAST-MODIFIED:20260103T013002Z
UID:10021414-1820941200-1820950200@bluewaterparent.com
SUMMARY:Teen D&D Group - Algonac-Clay
DESCRIPTION:Registration requested.
URL:https://bluewaterparent.com/event/teen-dd-group-algonac-clay/2027-09-14/
LOCATION:Algonac-Clay Library\, 2011 St Clair River Dr\, Algonac\, MI\, 48001\, United States
CATEGORIES:Teens
END:VEVENT
BEGIN:VEVENT
DTSTART;TZID=America/New_York:20270914T180000
DTEND;TZID=America/New_York:20270914T183000
DTSTAMP:20260420T004907
CREATED:20260419T002148Z
LAST-MODIFIED:20260419T003520Z
UID:10025675-1820944800-1820946600@bluewaterparent.com
SUMMARY:Bedtime Storytime - Port Huron
DESCRIPTION:
URL:https://bluewaterparent.com/event/bedtime-storytime/2027-09-14/
LOCATION:Main Library\, 210 McMorran Blvd\, Port Huron\, MI\, 48060\, United States
CATEGORIES:Playgroups
END:VEVENT
BEGIN:VEVENT
DTSTART;TZID=America/New_York:20270915T080000
DTEND;TZID=America/New_York:20270915T170000
DTSTAMP:20260420T004907
CREATED:20260419T012510Z
LAST-MODIFIED:20260419T012510Z
UID:10026534-1820995200-1821027600@bluewaterparent.com
SUMMARY:Discovery Lab for Littles
DESCRIPTION:This event is included with admission.
URL:https://bluewaterparent.com/event/discovery-lab-for-littles/2027-09-15/
LOCATION:Discovery City Children’s Museum\, 317 Grand River Avenue\, Port huron\, MI\, 48060
END:VEVENT
END:VCALENDAR