BEGIN:VCALENDAR
VERSION:2.0
PRODID:-//BlueWaterParent.com - ECPv6.15.20//NONSGML v1.0//EN
CALSCALE:GREGORIAN
METHOD:PUBLISH
X-WR-CALNAME:BlueWaterParent.com
X-ORIGINAL-URL:https://bluewaterparent.com
X-WR-CALDESC:Events for BlueWaterParent.com
REFRESH-INTERVAL;VALUE=DURATION:PT1H
X-Robots-Tag:noindex
X-PUBLISHED-TTL:PT1H
BEGIN:VTIMEZONE
TZID:America/New_York
BEGIN:DAYLIGHT
TZOFFSETFROM:-0500
TZOFFSETTO:-0400
TZNAME:EDT
DTSTART:20290311T070000
END:DAYLIGHT
BEGIN:STANDARD
TZOFFSETFROM:-0400
TZOFFSETTO:-0500
TZNAME:EST
DTSTART:20291104T060000
END:STANDARD
BEGIN:DAYLIGHT
TZOFFSETFROM:-0500
TZOFFSETTO:-0400
TZNAME:EDT
DTSTART:20300310T070000
END:DAYLIGHT
BEGIN:STANDARD
TZOFFSETFROM:-0400
TZOFFSETTO:-0500
TZNAME:EST
DTSTART:20301103T060000
END:STANDARD
BEGIN:DAYLIGHT
TZOFFSETFROM:-0500
TZOFFSETTO:-0400
TZNAME:EDT
DTSTART:20310309T070000
END:DAYLIGHT
BEGIN:STANDARD
TZOFFSETFROM:-0400
TZOFFSETTO:-0500
TZNAME:EST
DTSTART:20311102T060000
END:STANDARD
END:VTIMEZONE
BEGIN:VEVENT
DTSTART;TZID=America/New_York:20300808T100000
DTEND;TZID=America/New_York:20300808T110000
DTSTAMP:20260425T124051
CREATED:20260307T014510Z
LAST-MODIFIED:20260307T014908Z
UID:10023792-1912413600-1912417200@bluewaterparent.com
SUMMARY:Great Start Playgroup - Marysville
DESCRIPTION:
URL:https://bluewaterparent.com/event/great-start-playgroup-marysville-3/2030-08-08/
LOCATION:St. Clair County RESA East Campus\, 1111 Delaware Avenue\, Marysville\, MI
CATEGORIES:Playgroups
END:VEVENT
BEGIN:VEVENT
DTSTART;TZID=America/New_York:20300808T110000
DTEND;TZID=America/New_York:20300808T113000
DTSTAMP:20260425T124051
CREATED:20260101T200511Z
LAST-MODIFIED:20260101T213808Z
UID:10021338-1912417200-1912419000@bluewaterparent.com
SUMMARY:Storytime - Algonac
DESCRIPTION:  \n 
URL:https://bluewaterparent.com/event/storytime-algonac-2/2030-08-08/
LOCATION:Algonac-Clay Library\, 2011 St Clair River Dr\, Algonac\, MI\, 48001\, United States
CATEGORIES:Playgroups
END:VEVENT
BEGIN:VEVENT
DTSTART;TZID=America/New_York:20300808T143000
DTEND;TZID=America/New_York:20300808T160000
DTSTAMP:20260425T124051
CREATED:20260101T200828Z
LAST-MODIFIED:20260101T200854Z
UID:10019832-1912429800-1912435200@bluewaterparent.com
SUMMARY:Teen Time - Yale
DESCRIPTION:
URL:https://bluewaterparent.com/event/teen-time-yale-3/2030-08-08/
LOCATION:Yale Library\, 2 Jones St\, Yale\, MI\, 48097\, United States
CATEGORIES:Teens
END:VEVENT
BEGIN:VEVENT
DTSTART;TZID=America/New_York:20300808T171500
DTEND;TZID=America/New_York:20300808T174500
DTSTAMP:20260425T124051
CREATED:20260328T183605Z
LAST-MODIFIED:20260328T183607Z
UID:10022958-1912439700-1912441500@bluewaterparent.com
SUMMARY:Little House on the Prairie Book Club for Kids
DESCRIPTION:  \n 
URL:https://bluewaterparent.com/event/little-house-on-the-prairie-book-club-for-kids-2-3/2030-08-08/
LOCATION:Capac Library\, 111 N Main St\, Capac\, MI\, 48014\, United States
CATEGORIES:Free
END:VEVENT
BEGIN:VEVENT
DTSTART;TZID=America/New_York:20300809T080000
DTEND;TZID=America/New_York:20300809T170000
DTSTAMP:20260425T124051
CREATED:20260419T012510Z
LAST-MODIFIED:20260419T012510Z
UID:10026837-1912492800-1912525200@bluewaterparent.com
SUMMARY:Discovery Lab for Littles
DESCRIPTION:This event is included with admission.
URL:https://bluewaterparent.com/event/discovery-lab-for-littles/2030-08-09/
LOCATION:Discovery City Children’s Museum\, 317 Grand River Avenue\, Port huron\, MI\, 48060
END:VEVENT
BEGIN:VEVENT
DTSTART;TZID=America/New_York:20300809T100000
DTEND;TZID=America/New_York:20300809T104500
DTSTAMP:20260425T124051
CREATED:20260101T202520Z
LAST-MODIFIED:20260131T171318Z
UID:10023479-1912500000-1912502700@bluewaterparent.com
SUMMARY:Family Storytime - Memphis
DESCRIPTION:
URL:https://bluewaterparent.com/event/family-storytime-capac-2-2/2030-08-09/
LOCATION:Memphis Library\, 34830 Potter St\, Memphis\, MI\, 48041\, United States
CATEGORIES:Playgroups
END:VEVENT
BEGIN:VEVENT
DTSTART;TZID=America/New_York:20300809T100000
DTEND;TZID=America/New_York:20300809T110000
DTSTAMP:20260425T124051
CREATED:20260419T003829Z
LAST-MODIFIED:20260419T003829Z
UID:10026348-1912500000-1912503600@bluewaterparent.com
SUMMARY:Storytime - Port Huron
DESCRIPTION:
URL:https://bluewaterparent.com/event/storytime-port-huron-2/2030-08-09/
LOCATION:Main Library\, 210 McMorran Blvd\, Port Huron\, MI\, 48060\, United States
CATEGORIES:Playgroups
END:VEVENT
BEGIN:VEVENT
DTSTART;TZID=America/New_York:20300809T110000
DTEND;TZID=America/New_York:20300809T120000
DTSTAMP:20260425T124051
CREATED:20260101T164906Z
LAST-MODIFIED:20260101T171615Z
UID:10017161-1912503600-1912507200@bluewaterparent.com
SUMMARY:Playgroup Pals
DESCRIPTION:
URL:https://bluewaterparent.com/event/playgroup-pals-2/2030-08-09/
LOCATION:Ira Township Library\, 7013 Meldrum Rd\, Ira Township\, Michigan\, 48023\, United States
CATEGORIES:Playgroups
END:VEVENT
BEGIN:VEVENT
DTSTART;TZID=America/New_York:20300812T100000
DTEND;TZID=America/New_York:20300812T110000
DTSTAMP:20260425T124051
CREATED:20260101T192653Z
LAST-MODIFIED:20260307T025320Z
UID:10024575-1912759200-1912762800@bluewaterparent.com
SUMMARY:Storytime - St. Clair
DESCRIPTION:From SCCLS – Join us for a fun and educational blend of stories\, crafts\, movement activities\, and songs.
URL:https://bluewaterparent.com/event/storytime-st-clair/2030-08-12/
LOCATION:St. Clair Library\, 310 S. 2nd Street\, St. Clair\, MI
CATEGORIES:Free,Playgroups
END:VEVENT
BEGIN:VEVENT
DTSTART;TZID=America/New_York:20300812T100000
DTEND;TZID=America/New_York:20300812T110000
DTSTAMP:20260425T124051
CREATED:20260125T194928Z
LAST-MODIFIED:20260125T194929Z
UID:10017684-1912759200-1912762800@bluewaterparent.com
SUMMARY:Storytime - Marysville
DESCRIPTION:From SCCLS – Preschoolers and their adults: Join us at the library for a happy blend of stories\, rhymes\, music and movement\, followed by a creative activity time.
URL:https://bluewaterparent.com/event/storytime-marysville-3/2030-08-12/
LOCATION:Marysville Library\, 1175 Delaware\, Marysville\, MI
CATEGORIES:Free,Playgroups
END:VEVENT
BEGIN:VEVENT
DTSTART;TZID=America/New_York:20300812T100000
DTEND;TZID=America/New_York:20300812T110000
DTSTAMP:20260425T124051
CREATED:20260307T142323Z
LAST-MODIFIED:20260307T142325Z
UID:10017423-1912759200-1912762800@bluewaterparent.com
SUMMARY:Storytime - Yale
DESCRIPTION:
URL:https://bluewaterparent.com/event/storytime-yale-2-2-2/2030-08-12/
LOCATION:Yale Library\, 2 Jones St\, Yale\, MI\, 48097\, United States
CATEGORIES:Free,Playgroups
END:VEVENT
BEGIN:VEVENT
DTSTART;TZID=America/New_York:20300812T103000
DTEND;TZID=America/New_York:20300812T110000
DTSTAMP:20260425T124051
CREATED:20260401T010404Z
LAST-MODIFIED:20260401T010407Z
UID:10025188-1912761000-1912762800@bluewaterparent.com
SUMMARY:Storytime - Burtchville
DESCRIPTION:
URL:https://bluewaterparent.com/event/storytime-burtchville-3-2/2030-08-12/
LOCATION:Burtchville Library\, 7093 2nd St\, Lakeport\, MI\, 48059\, United States
CATEGORIES:Free,Playgroups
END:VEVENT
BEGIN:VEVENT
DTSTART;TZID=America/New_York:20300812T103000
DTEND;TZID=America/New_York:20300812T113000
DTSTAMP:20260425T124051
CREATED:20260321T165751Z
LAST-MODIFIED:20260321T165752Z
UID:10024778-1912761000-1912764600@bluewaterparent.com
SUMMARY:Storytime - Marine City
DESCRIPTION:From SCCLS – Preschoolers and their adults join us at the library for a happy blend of stories and activities.
URL:https://bluewaterparent.com/event/storytime-marine-city-2-2/2030-08-12/
LOCATION:Marine City Library\, 300 S Parker St\, Marine City\, MI\, 48039\, United States
CATEGORIES:Free,Playgroups
END:VEVENT
BEGIN:VEVENT
DTSTART;TZID=America/New_York:20300812T160000
DTEND;TZID=America/New_York:20300812T180000
DTSTAMP:20260425T124051
CREATED:20260101T211427Z
LAST-MODIFIED:20260101T211427Z
UID:10021087-1912780800-1912788000@bluewaterparent.com
SUMMARY:Teen Scene
DESCRIPTION:Ages 13-18.
URL:https://bluewaterparent.com/event/teen-scene/2030-08-12/
LOCATION:Capac Library\, 111 N Main St\, Capac\, MI\, 48014\, United States
CATEGORIES:Teens
END:VEVENT
BEGIN:VEVENT
DTSTART;TZID=America/New_York:20300813T100000
DTEND;TZID=America/New_York:20300813T103000
DTSTAMP:20260425T124051
CREATED:20260418T235804Z
LAST-MODIFIED:20260419T000903Z
UID:10025566-1912845600-1912847400@bluewaterparent.com
SUMMARY:Rhythm and Rhyme - Port Huron
DESCRIPTION:For children ages 0-3 and their caregivers.
URL:https://bluewaterparent.com/event/rhythm-and-rhyme-port-huron/2030-08-13/
LOCATION:Main Library\, 210 McMorran Blvd\, Port Huron\, MI\, 48060\, United States
CATEGORIES:Playgroups
END:VEVENT
BEGIN:VEVENT
DTSTART;TZID=America/New_York:20300813T170000
DTEND;TZID=America/New_York:20300813T193000
DTSTAMP:20260425T124051
CREATED:20260101T190453Z
LAST-MODIFIED:20260103T013002Z
UID:10021490-1912870800-1912879800@bluewaterparent.com
SUMMARY:Teen D&D Group - Algonac-Clay
DESCRIPTION:Registration requested.
URL:https://bluewaterparent.com/event/teen-dd-group-algonac-clay/2030-08-13/
LOCATION:Algonac-Clay Library\, 2011 St Clair River Dr\, Algonac\, MI\, 48001\, United States
CATEGORIES:Teens
END:VEVENT
BEGIN:VEVENT
DTSTART;TZID=America/New_York:20300813T180000
DTEND;TZID=America/New_York:20300813T183000
DTSTAMP:20260425T124051
CREATED:20260419T002148Z
LAST-MODIFIED:20260419T003520Z
UID:10025827-1912874400-1912876200@bluewaterparent.com
SUMMARY:Bedtime Storytime - Port Huron
DESCRIPTION:
URL:https://bluewaterparent.com/event/bedtime-storytime/2030-08-13/
LOCATION:Main Library\, 210 McMorran Blvd\, Port Huron\, MI\, 48060\, United States
CATEGORIES:Playgroups
END:VEVENT
BEGIN:VEVENT
DTSTART;TZID=America/New_York:20300814T080000
DTEND;TZID=America/New_York:20300814T170000
DTSTAMP:20260425T124051
CREATED:20260419T012510Z
LAST-MODIFIED:20260419T012510Z
UID:10026838-1912924800-1912957200@bluewaterparent.com
SUMMARY:Discovery Lab for Littles
DESCRIPTION:This event is included with admission.
URL:https://bluewaterparent.com/event/discovery-lab-for-littles/2030-08-14/
LOCATION:Discovery City Children’s Museum\, 317 Grand River Avenue\, Port huron\, MI\, 48060
END:VEVENT
BEGIN:VEVENT
DTSTART;TZID=America/New_York:20300814T100000
DTEND;TZID=America/New_York:20300814T110000
DTSTAMP:20260425T124051
CREATED:20260419T003159Z
LAST-MODIFIED:20260419T003555Z
UID:10026088-1912932000-1912935600@bluewaterparent.com
SUMMARY:Storytime - Port Huron
DESCRIPTION:
URL:https://bluewaterparent.com/event/storytime-port-huron/2030-08-14/
LOCATION:Main Library\, 210 McMorran Blvd\, Port Huron\, MI\, 48060\, United States
CATEGORIES:Playgroups
END:VEVENT
BEGIN:VEVENT
DTSTART;TZID=America/New_York:20300815T100000
DTEND;TZID=America/New_York:20300815T110000
DTSTAMP:20260425T124051
CREATED:20251201T004011Z
LAST-MODIFIED:20260307T021133Z
UID:10024054-1913018400-1913022000@bluewaterparent.com
SUMMARY:Great Start Playgroup - Avoca
DESCRIPTION:
URL:https://bluewaterparent.com/event/great-start-playgroup-emmett/2030-08-15/
LOCATION:Avoca Elementary\, 8751 Willow St.\, Avoca\, MI\, 48006\, United States
CATEGORIES:Playgroups
END:VEVENT
BEGIN:VEVENT
DTSTART;TZID=America/New_York:20300815T100000
DTEND;TZID=America/New_York:20300815T110000
DTSTAMP:20260425T124051
CREATED:20260307T014510Z
LAST-MODIFIED:20260307T014908Z
UID:10023793-1913018400-1913022000@bluewaterparent.com
SUMMARY:Great Start Playgroup - Marysville
DESCRIPTION:
URL:https://bluewaterparent.com/event/great-start-playgroup-marysville-3/2030-08-15/
LOCATION:St. Clair County RESA East Campus\, 1111 Delaware Avenue\, Marysville\, MI
CATEGORIES:Playgroups
END:VEVENT
BEGIN:VEVENT
DTSTART;TZID=America/New_York:20300815T110000
DTEND;TZID=America/New_York:20300815T113000
DTSTAMP:20260425T124051
CREATED:20260101T200511Z
LAST-MODIFIED:20260101T213808Z
UID:10021339-1913022000-1913023800@bluewaterparent.com
SUMMARY:Storytime - Algonac
DESCRIPTION:  \n 
URL:https://bluewaterparent.com/event/storytime-algonac-2/2030-08-15/
LOCATION:Algonac-Clay Library\, 2011 St Clair River Dr\, Algonac\, MI\, 48001\, United States
CATEGORIES:Playgroups
END:VEVENT
BEGIN:VEVENT
DTSTART;TZID=America/New_York:20300815T143000
DTEND;TZID=America/New_York:20300815T160000
DTSTAMP:20260425T124051
CREATED:20260101T200828Z
LAST-MODIFIED:20260101T200854Z
UID:10019833-1913034600-1913040000@bluewaterparent.com
SUMMARY:Teen Time - Yale
DESCRIPTION:
URL:https://bluewaterparent.com/event/teen-time-yale-3/2030-08-15/
LOCATION:Yale Library\, 2 Jones St\, Yale\, MI\, 48097\, United States
CATEGORIES:Teens
END:VEVENT
BEGIN:VEVENT
DTSTART;TZID=America/New_York:20300815T153000
DTEND;TZID=America/New_York:20300815T180000
DTSTAMP:20260425T124051
CREATED:20260101T201514Z
LAST-MODIFIED:20260103T021445Z
UID:10021596-1913038200-1913047200@bluewaterparent.com
SUMMARY:To D&D\, And Beyond!
DESCRIPTION:  \n 
URL:https://bluewaterparent.com/event/to-dd-and-beyond-3/2030-08-15/
LOCATION:Marysville Library\, 1175 Delaware\, Marysville\, MI
CATEGORIES:Teens
END:VEVENT
BEGIN:VEVENT
DTSTART;TZID=America/New_York:20300816T080000
DTEND;TZID=America/New_York:20300816T170000
DTSTAMP:20260425T124051
CREATED:20260419T012510Z
LAST-MODIFIED:20260419T012510Z
UID:10026839-1913097600-1913130000@bluewaterparent.com
SUMMARY:Discovery Lab for Littles
DESCRIPTION:This event is included with admission.
URL:https://bluewaterparent.com/event/discovery-lab-for-littles/2030-08-16/
LOCATION:Discovery City Children’s Museum\, 317 Grand River Avenue\, Port huron\, MI\, 48060
END:VEVENT
BEGIN:VEVENT
DTSTART;TZID=America/New_York:20300816T100000
DTEND;TZID=America/New_York:20300816T104500
DTSTAMP:20260425T124051
CREATED:20260101T202520Z
LAST-MODIFIED:20260131T171318Z
UID:10023480-1913104800-1913107500@bluewaterparent.com
SUMMARY:Family Storytime - Memphis
DESCRIPTION:
URL:https://bluewaterparent.com/event/family-storytime-capac-2-2/2030-08-16/
LOCATION:Memphis Library\, 34830 Potter St\, Memphis\, MI\, 48041\, United States
CATEGORIES:Playgroups
END:VEVENT
BEGIN:VEVENT
DTSTART;TZID=America/New_York:20300816T100000
DTEND;TZID=America/New_York:20300816T110000
DTSTAMP:20260425T124051
CREATED:20260419T003829Z
LAST-MODIFIED:20260419T003829Z
UID:10026349-1913104800-1913108400@bluewaterparent.com
SUMMARY:Storytime - Port Huron
DESCRIPTION:
URL:https://bluewaterparent.com/event/storytime-port-huron-2/2030-08-16/
LOCATION:Main Library\, 210 McMorran Blvd\, Port Huron\, MI\, 48060\, United States
CATEGORIES:Playgroups
END:VEVENT
BEGIN:VEVENT
DTSTART;TZID=America/New_York:20300816T110000
DTEND;TZID=America/New_York:20300816T120000
DTSTAMP:20260425T124051
CREATED:20260101T164906Z
LAST-MODIFIED:20260101T171615Z
UID:10017162-1913108400-1913112000@bluewaterparent.com
SUMMARY:Playgroup Pals
DESCRIPTION:
URL:https://bluewaterparent.com/event/playgroup-pals-2/2030-08-16/
LOCATION:Ira Township Library\, 7013 Meldrum Rd\, Ira Township\, Michigan\, 48023\, United States
CATEGORIES:Playgroups
END:VEVENT
BEGIN:VEVENT
DTSTART;TZID=America/New_York:20300816T150000
DTEND;TZID=America/New_York:20300816T163000
DTSTAMP:20260425T124051
CREATED:20260101T204005Z
LAST-MODIFIED:20260103T023339Z
UID:10021725-1913122800-1913128200@bluewaterparent.com
SUMMARY:Friday Game Zone
DESCRIPTION:
URL:https://bluewaterparent.com/event/friday-game-zone/2030-08-16/
LOCATION:Ira Township Library\, 7013 Meldrum Rd\, Ira Township\, Michigan\, 48023\, United States
CATEGORIES:Free
END:VEVENT
BEGIN:VEVENT
DTSTART;TZID=America/New_York:20300819T100000
DTEND;TZID=America/New_York:20300819T110000
DTSTAMP:20260425T124051
CREATED:20260101T192653Z
LAST-MODIFIED:20260307T025320Z
UID:10024576-1913364000-1913367600@bluewaterparent.com
SUMMARY:Storytime - St. Clair
DESCRIPTION:From SCCLS – Join us for a fun and educational blend of stories\, crafts\, movement activities\, and songs.
URL:https://bluewaterparent.com/event/storytime-st-clair/2030-08-19/
LOCATION:St. Clair Library\, 310 S. 2nd Street\, St. Clair\, MI
CATEGORIES:Free,Playgroups
END:VEVENT
END:VCALENDAR