BEGIN:VCALENDAR
VERSION:2.0
PRODID:-//BlueWaterParent.com - ECPv6.15.20//NONSGML v1.0//EN
CALSCALE:GREGORIAN
METHOD:PUBLISH
X-WR-CALNAME:BlueWaterParent.com
X-ORIGINAL-URL:https://bluewaterparent.com
X-WR-CALDESC:Events for BlueWaterParent.com
REFRESH-INTERVAL;VALUE=DURATION:PT1H
X-Robots-Tag:noindex
X-PUBLISHED-TTL:PT1H
BEGIN:VTIMEZONE
TZID:America/New_York
BEGIN:DAYLIGHT
TZOFFSETFROM:-0500
TZOFFSETTO:-0400
TZNAME:EDT
DTSTART:20260308T070000
END:DAYLIGHT
BEGIN:STANDARD
TZOFFSETFROM:-0400
TZOFFSETTO:-0500
TZNAME:EST
DTSTART:20261101T060000
END:STANDARD
BEGIN:DAYLIGHT
TZOFFSETFROM:-0500
TZOFFSETTO:-0400
TZNAME:EDT
DTSTART:20270314T070000
END:DAYLIGHT
BEGIN:STANDARD
TZOFFSETFROM:-0400
TZOFFSETTO:-0500
TZNAME:EST
DTSTART:20271107T060000
END:STANDARD
BEGIN:DAYLIGHT
TZOFFSETFROM:-0500
TZOFFSETTO:-0400
TZNAME:EDT
DTSTART:20280312T070000
END:DAYLIGHT
BEGIN:STANDARD
TZOFFSETFROM:-0400
TZOFFSETTO:-0500
TZNAME:EST
DTSTART:20281105T060000
END:STANDARD
END:VTIMEZONE
BEGIN:VEVENT
DTSTART;TZID=America/New_York:20270820T080000
DTEND;TZID=America/New_York:20270820T170000
DTSTAMP:20260419T225347
CREATED:20260419T012510Z
LAST-MODIFIED:20260419T012510Z
UID:10026527-1818748800-1818781200@bluewaterparent.com
SUMMARY:Discovery Lab for Littles
DESCRIPTION:This event is included with admission.
URL:https://bluewaterparent.com/event/discovery-lab-for-littles/2027-08-20/
LOCATION:Discovery City Children’s Museum\, 317 Grand River Avenue\, Port huron\, MI\, 48060
END:VEVENT
BEGIN:VEVENT
DTSTART;TZID=America/New_York:20270820T100000
DTEND;TZID=America/New_York:20270820T104500
DTSTAMP:20260419T225347
CREATED:20260101T202520Z
LAST-MODIFIED:20260131T171318Z
UID:10023324-1818756000-1818758700@bluewaterparent.com
SUMMARY:Family Storytime - Memphis
DESCRIPTION:
URL:https://bluewaterparent.com/event/family-storytime-capac-2-2/2027-08-20/
LOCATION:Memphis Library\, 34830 Potter St\, Memphis\, MI\, 48041\, United States
CATEGORIES:Playgroups
END:VEVENT
BEGIN:VEVENT
DTSTART;TZID=America/New_York:20270820T100000
DTEND;TZID=America/New_York:20270820T110000
DTSTAMP:20260419T225347
CREATED:20260419T003829Z
LAST-MODIFIED:20260419T003829Z
UID:10026193-1818756000-1818759600@bluewaterparent.com
SUMMARY:Storytime - Port Huron
DESCRIPTION:
URL:https://bluewaterparent.com/event/storytime-port-huron-2/2027-08-20/
LOCATION:Main Library\, 210 McMorran Blvd\, Port Huron\, MI\, 48060\, United States
CATEGORIES:Playgroups
END:VEVENT
BEGIN:VEVENT
DTSTART;TZID=America/New_York:20270820T110000
DTEND;TZID=America/New_York:20270820T120000
DTSTAMP:20260419T225347
CREATED:20260101T164906Z
LAST-MODIFIED:20260101T171615Z
UID:10017006-1818759600-1818763200@bluewaterparent.com
SUMMARY:Playgroup Pals
DESCRIPTION:
URL:https://bluewaterparent.com/event/playgroup-pals-2/2027-08-20/
LOCATION:Ira Township Library\, 7013 Meldrum Rd\, Ira Township\, Michigan\, 48023\, United States
CATEGORIES:Playgroups
END:VEVENT
BEGIN:VEVENT
DTSTART;TZID=America/New_York:20270820T150000
DTEND;TZID=America/New_York:20270820T163000
DTSTAMP:20260419T225347
CREATED:20260101T204005Z
LAST-MODIFIED:20260103T023339Z
UID:10021647-1818774000-1818779400@bluewaterparent.com
SUMMARY:Friday Game Zone
DESCRIPTION:
URL:https://bluewaterparent.com/event/friday-game-zone/2027-08-20/
LOCATION:Ira Township Library\, 7013 Meldrum Rd\, Ira Township\, Michigan\, 48023\, United States
CATEGORIES:Free
END:VEVENT
BEGIN:VEVENT
DTSTART;TZID=America/New_York:20270823T100000
DTEND;TZID=America/New_York:20270823T110000
DTSTAMP:20260419T225347
CREATED:20260101T192653Z
LAST-MODIFIED:20260307T025320Z
UID:10024420-1819015200-1819018800@bluewaterparent.com
SUMMARY:Storytime - St. Clair
DESCRIPTION:From SCCLS – Join us for a fun and educational blend of stories\, crafts\, movement activities\, and songs.
URL:https://bluewaterparent.com/event/storytime-st-clair/2027-08-23/
LOCATION:St. Clair Library\, 310 S. 2nd Street\, St. Clair\, MI
CATEGORIES:Free,Playgroups
END:VEVENT
BEGIN:VEVENT
DTSTART;TZID=America/New_York:20270823T100000
DTEND;TZID=America/New_York:20270823T110000
DTSTAMP:20260419T225347
CREATED:20260125T194928Z
LAST-MODIFIED:20260125T194929Z
UID:10017529-1819015200-1819018800@bluewaterparent.com
SUMMARY:Storytime - Marysville
DESCRIPTION:From SCCLS – Preschoolers and their adults: Join us at the library for a happy blend of stories\, rhymes\, music and movement\, followed by a creative activity time.
URL:https://bluewaterparent.com/event/storytime-marysville-3/2027-08-23/
LOCATION:Marysville Library\, 1175 Delaware\, Marysville\, MI
CATEGORIES:Free,Playgroups
END:VEVENT
BEGIN:VEVENT
DTSTART;TZID=America/New_York:20270823T100000
DTEND;TZID=America/New_York:20270823T110000
DTSTAMP:20260419T225347
CREATED:20260307T142323Z
LAST-MODIFIED:20260307T142325Z
UID:10017268-1819015200-1819018800@bluewaterparent.com
SUMMARY:Storytime - Yale
DESCRIPTION:
URL:https://bluewaterparent.com/event/storytime-yale-2-2-2/2027-08-23/
LOCATION:Yale Library\, 2 Jones St\, Yale\, MI\, 48097\, United States
CATEGORIES:Free,Playgroups
END:VEVENT
BEGIN:VEVENT
DTSTART;TZID=America/New_York:20270823T103000
DTEND;TZID=America/New_York:20270823T110000
DTSTAMP:20260419T225347
CREATED:20260401T010404Z
LAST-MODIFIED:20260401T010407Z
UID:10025033-1819017000-1819018800@bluewaterparent.com
SUMMARY:Storytime - Burtchville
DESCRIPTION:
URL:https://bluewaterparent.com/event/storytime-burtchville-3-2/2027-08-23/
LOCATION:Burtchville Library\, 7093 2nd St\, Lakeport\, MI\, 48059\, United States
CATEGORIES:Free,Playgroups
END:VEVENT
BEGIN:VEVENT
DTSTART;TZID=America/New_York:20270823T103000
DTEND;TZID=America/New_York:20270823T113000
DTSTAMP:20260419T225347
CREATED:20260321T165751Z
LAST-MODIFIED:20260321T165752Z
UID:10017790-1819017000-1819020600@bluewaterparent.com
SUMMARY:Storytime - Marine City
DESCRIPTION:From SCCLS – Preschoolers and their adults join us at the library for a happy blend of stories and activities.
URL:https://bluewaterparent.com/event/storytime-marine-city-2-2/2027-08-23/
LOCATION:Marine City Library\, 300 S Parker St\, Marine City\, MI\, 48039\, United States
CATEGORIES:Free,Playgroups
END:VEVENT
BEGIN:VEVENT
DTSTART;TZID=America/New_York:20270824T100000
DTEND;TZID=America/New_York:20270824T103000
DTSTAMP:20260419T225347
CREATED:20260418T235804Z
LAST-MODIFIED:20260419T000903Z
UID:10025411-1819101600-1819103400@bluewaterparent.com
SUMMARY:Rhythm and Rhyme - Port Huron
DESCRIPTION:For children ages 0-3 and their caregivers.
URL:https://bluewaterparent.com/event/rhythm-and-rhyme-port-huron/2027-08-24/
LOCATION:Main Library\, 210 McMorran Blvd\, Port Huron\, MI\, 48060\, United States
CATEGORIES:Playgroups
END:VEVENT
BEGIN:VEVENT
DTSTART;TZID=America/New_York:20270824T180000
DTEND;TZID=America/New_York:20270824T183000
DTSTAMP:20260419T225347
CREATED:20260419T002148Z
LAST-MODIFIED:20260419T003520Z
UID:10025672-1819130400-1819132200@bluewaterparent.com
SUMMARY:Bedtime Storytime - Port Huron
DESCRIPTION:
URL:https://bluewaterparent.com/event/bedtime-storytime/2027-08-24/
LOCATION:Main Library\, 210 McMorran Blvd\, Port Huron\, MI\, 48060\, United States
CATEGORIES:Playgroups
END:VEVENT
BEGIN:VEVENT
DTSTART;TZID=America/New_York:20270825T080000
DTEND;TZID=America/New_York:20270825T170000
DTSTAMP:20260419T225347
CREATED:20260419T012510Z
LAST-MODIFIED:20260419T012510Z
UID:10026528-1819180800-1819213200@bluewaterparent.com
SUMMARY:Discovery Lab for Littles
DESCRIPTION:This event is included with admission.
URL:https://bluewaterparent.com/event/discovery-lab-for-littles/2027-08-25/
LOCATION:Discovery City Children’s Museum\, 317 Grand River Avenue\, Port huron\, MI\, 48060
END:VEVENT
BEGIN:VEVENT
DTSTART;TZID=America/New_York:20270825T100000
DTEND;TZID=America/New_York:20270825T110000
DTSTAMP:20260419T225347
CREATED:20260419T003159Z
LAST-MODIFIED:20260419T003555Z
UID:10025933-1819188000-1819191600@bluewaterparent.com
SUMMARY:Storytime - Port Huron
DESCRIPTION:
URL:https://bluewaterparent.com/event/storytime-port-huron/2027-08-25/
LOCATION:Main Library\, 210 McMorran Blvd\, Port Huron\, MI\, 48060\, United States
CATEGORIES:Playgroups
END:VEVENT
BEGIN:VEVENT
DTSTART;TZID=America/New_York:20270826T100000
DTEND;TZID=America/New_York:20270826T110000
DTSTAMP:20260419T225347
CREATED:20251201T004011Z
LAST-MODIFIED:20260307T021133Z
UID:10023899-1819274400-1819278000@bluewaterparent.com
SUMMARY:Great Start Playgroup - Avoca
DESCRIPTION:
URL:https://bluewaterparent.com/event/great-start-playgroup-emmett/2027-08-26/
LOCATION:Avoca Elementary\, 8751 Willow St.\, Avoca\, MI\, 48006\, United States
CATEGORIES:Playgroups
END:VEVENT
BEGIN:VEVENT
DTSTART;TZID=America/New_York:20270826T100000
DTEND;TZID=America/New_York:20270826T110000
DTSTAMP:20260419T225347
CREATED:20260307T014510Z
LAST-MODIFIED:20260307T014908Z
UID:10023638-1819274400-1819278000@bluewaterparent.com
SUMMARY:Great Start Playgroup - Marysville
DESCRIPTION:
URL:https://bluewaterparent.com/event/great-start-playgroup-marysville-3/2027-08-26/
LOCATION:St. Clair County RESA East Campus\, 1111 Delaware Avenue\, Marysville\, MI
CATEGORIES:Playgroups
END:VEVENT
BEGIN:VEVENT
DTSTART;TZID=America/New_York:20270826T110000
DTEND;TZID=America/New_York:20270826T113000
DTSTAMP:20260419T225347
CREATED:20260101T200511Z
LAST-MODIFIED:20260101T213808Z
UID:10021184-1819278000-1819279800@bluewaterparent.com
SUMMARY:Storytime - Algonac
DESCRIPTION:  \n 
URL:https://bluewaterparent.com/event/storytime-algonac-2/2027-08-26/
LOCATION:Algonac-Clay Library\, 2011 St Clair River Dr\, Algonac\, MI\, 48001\, United States
CATEGORIES:Playgroups
END:VEVENT
BEGIN:VEVENT
DTSTART;TZID=America/New_York:20270826T143000
DTEND;TZID=America/New_York:20270826T160000
DTSTAMP:20260419T225347
CREATED:20260101T200828Z
LAST-MODIFIED:20260101T200854Z
UID:10019678-1819290600-1819296000@bluewaterparent.com
SUMMARY:Teen Time - Yale
DESCRIPTION:
URL:https://bluewaterparent.com/event/teen-time-yale-3/2027-08-26/
LOCATION:Yale Library\, 2 Jones St\, Yale\, MI\, 48097\, United States
CATEGORIES:Teens
END:VEVENT
BEGIN:VEVENT
DTSTART;TZID=America/New_York:20270826T171500
DTEND;TZID=America/New_York:20270826T174500
DTSTAMP:20260419T225347
CREATED:20260328T183605Z
LAST-MODIFIED:20260328T183607Z
UID:10024827-1819300500-1819302300@bluewaterparent.com
SUMMARY:Little House on the Prairie Book Club for Kids
DESCRIPTION:  \n 
URL:https://bluewaterparent.com/event/little-house-on-the-prairie-book-club-for-kids-2-3/2027-08-26/
LOCATION:Capac Library\, 111 N Main St\, Capac\, MI\, 48014\, United States
CATEGORIES:Free
END:VEVENT
BEGIN:VEVENT
DTSTART;TZID=America/New_York:20270827T080000
DTEND;TZID=America/New_York:20270827T170000
DTSTAMP:20260419T225347
CREATED:20260419T012510Z
LAST-MODIFIED:20260419T012510Z
UID:10026529-1819353600-1819386000@bluewaterparent.com
SUMMARY:Discovery Lab for Littles
DESCRIPTION:This event is included with admission.
URL:https://bluewaterparent.com/event/discovery-lab-for-littles/2027-08-27/
LOCATION:Discovery City Children’s Museum\, 317 Grand River Avenue\, Port huron\, MI\, 48060
END:VEVENT
BEGIN:VEVENT
DTSTART;TZID=America/New_York:20270827T100000
DTEND;TZID=America/New_York:20270827T104500
DTSTAMP:20260419T225347
CREATED:20260101T202520Z
LAST-MODIFIED:20260131T171318Z
UID:10023325-1819360800-1819363500@bluewaterparent.com
SUMMARY:Family Storytime - Memphis
DESCRIPTION:
URL:https://bluewaterparent.com/event/family-storytime-capac-2-2/2027-08-27/
LOCATION:Memphis Library\, 34830 Potter St\, Memphis\, MI\, 48041\, United States
CATEGORIES:Playgroups
END:VEVENT
BEGIN:VEVENT
DTSTART;TZID=America/New_York:20270827T100000
DTEND;TZID=America/New_York:20270827T110000
DTSTAMP:20260419T225347
CREATED:20260419T003829Z
LAST-MODIFIED:20260419T003829Z
UID:10026194-1819360800-1819364400@bluewaterparent.com
SUMMARY:Storytime - Port Huron
DESCRIPTION:
URL:https://bluewaterparent.com/event/storytime-port-huron-2/2027-08-27/
LOCATION:Main Library\, 210 McMorran Blvd\, Port Huron\, MI\, 48060\, United States
CATEGORIES:Playgroups
END:VEVENT
BEGIN:VEVENT
DTSTART;TZID=America/New_York:20270827T110000
DTEND;TZID=America/New_York:20270827T120000
DTSTAMP:20260419T225347
CREATED:20260101T164906Z
LAST-MODIFIED:20260101T171615Z
UID:10017007-1819364400-1819368000@bluewaterparent.com
SUMMARY:Playgroup Pals
DESCRIPTION:
URL:https://bluewaterparent.com/event/playgroup-pals-2/2027-08-27/
LOCATION:Ira Township Library\, 7013 Meldrum Rd\, Ira Township\, Michigan\, 48023\, United States
CATEGORIES:Playgroups
END:VEVENT
BEGIN:VEVENT
DTSTART;TZID=America/New_York:20270830T100000
DTEND;TZID=America/New_York:20270830T110000
DTSTAMP:20260419T225347
CREATED:20260101T192653Z
LAST-MODIFIED:20260307T025320Z
UID:10024421-1819620000-1819623600@bluewaterparent.com
SUMMARY:Storytime - St. Clair
DESCRIPTION:From SCCLS – Join us for a fun and educational blend of stories\, crafts\, movement activities\, and songs.
URL:https://bluewaterparent.com/event/storytime-st-clair/2027-08-30/
LOCATION:St. Clair Library\, 310 S. 2nd Street\, St. Clair\, MI
CATEGORIES:Free,Playgroups
END:VEVENT
BEGIN:VEVENT
DTSTART;TZID=America/New_York:20270830T100000
DTEND;TZID=America/New_York:20270830T110000
DTSTAMP:20260419T225347
CREATED:20260125T194928Z
LAST-MODIFIED:20260125T194929Z
UID:10017530-1819620000-1819623600@bluewaterparent.com
SUMMARY:Storytime - Marysville
DESCRIPTION:From SCCLS – Preschoolers and their adults: Join us at the library for a happy blend of stories\, rhymes\, music and movement\, followed by a creative activity time.
URL:https://bluewaterparent.com/event/storytime-marysville-3/2027-08-30/
LOCATION:Marysville Library\, 1175 Delaware\, Marysville\, MI
CATEGORIES:Free,Playgroups
END:VEVENT
BEGIN:VEVENT
DTSTART;TZID=America/New_York:20270830T100000
DTEND;TZID=America/New_York:20270830T110000
DTSTAMP:20260419T225347
CREATED:20260307T142323Z
LAST-MODIFIED:20260307T142325Z
UID:10017269-1819620000-1819623600@bluewaterparent.com
SUMMARY:Storytime - Yale
DESCRIPTION:
URL:https://bluewaterparent.com/event/storytime-yale-2-2-2/2027-08-30/
LOCATION:Yale Library\, 2 Jones St\, Yale\, MI\, 48097\, United States
CATEGORIES:Free,Playgroups
END:VEVENT
BEGIN:VEVENT
DTSTART;TZID=America/New_York:20270830T103000
DTEND;TZID=America/New_York:20270830T110000
DTSTAMP:20260419T225347
CREATED:20260401T010404Z
LAST-MODIFIED:20260401T010407Z
UID:10025034-1819621800-1819623600@bluewaterparent.com
SUMMARY:Storytime - Burtchville
DESCRIPTION:
URL:https://bluewaterparent.com/event/storytime-burtchville-3-2/2027-08-30/
LOCATION:Burtchville Library\, 7093 2nd St\, Lakeport\, MI\, 48059\, United States
CATEGORIES:Free,Playgroups
END:VEVENT
BEGIN:VEVENT
DTSTART;TZID=America/New_York:20270830T103000
DTEND;TZID=America/New_York:20270830T113000
DTSTAMP:20260419T225347
CREATED:20260321T165751Z
LAST-MODIFIED:20260321T165752Z
UID:10024701-1819621800-1819625400@bluewaterparent.com
SUMMARY:Storytime - Marine City
DESCRIPTION:From SCCLS – Preschoolers and their adults join us at the library for a happy blend of stories and activities.
URL:https://bluewaterparent.com/event/storytime-marine-city-2-2/2027-08-30/
LOCATION:Marine City Library\, 300 S Parker St\, Marine City\, MI\, 48039\, United States
CATEGORIES:Free,Playgroups
END:VEVENT
BEGIN:VEVENT
DTSTART;TZID=America/New_York:20270831T100000
DTEND;TZID=America/New_York:20270831T103000
DTSTAMP:20260419T225347
CREATED:20260418T235804Z
LAST-MODIFIED:20260419T000903Z
UID:10025412-1819706400-1819708200@bluewaterparent.com
SUMMARY:Rhythm and Rhyme - Port Huron
DESCRIPTION:For children ages 0-3 and their caregivers.
URL:https://bluewaterparent.com/event/rhythm-and-rhyme-port-huron/2027-08-31/
LOCATION:Main Library\, 210 McMorran Blvd\, Port Huron\, MI\, 48060\, United States
CATEGORIES:Playgroups
END:VEVENT
BEGIN:VEVENT
DTSTART;TZID=America/New_York:20270831T170000
DTEND;TZID=America/New_York:20270831T193000
DTSTAMP:20260419T225347
CREATED:20260101T190453Z
LAST-MODIFIED:20260103T013002Z
UID:10021413-1819731600-1819740600@bluewaterparent.com
SUMMARY:Teen D&D Group - Algonac-Clay
DESCRIPTION:Registration requested.
URL:https://bluewaterparent.com/event/teen-dd-group-algonac-clay/2027-08-31/
LOCATION:Algonac-Clay Library\, 2011 St Clair River Dr\, Algonac\, MI\, 48001\, United States
CATEGORIES:Teens
END:VEVENT
END:VCALENDAR