BEGIN:VCALENDAR
VERSION:2.0
PRODID:-//BlueWaterParent.com - ECPv6.15.20//NONSGML v1.0//EN
CALSCALE:GREGORIAN
METHOD:PUBLISH
X-ORIGINAL-URL:https://bluewaterparent.com
X-WR-CALDESC:Events for BlueWaterParent.com
REFRESH-INTERVAL;VALUE=DURATION:PT1H
X-Robots-Tag:noindex
X-PUBLISHED-TTL:PT1H
BEGIN:VTIMEZONE
TZID:America/New_York
BEGIN:DAYLIGHT
TZOFFSETFROM:-0500
TZOFFSETTO:-0400
TZNAME:EDT
DTSTART:20280312T070000
END:DAYLIGHT
BEGIN:STANDARD
TZOFFSETFROM:-0400
TZOFFSETTO:-0500
TZNAME:EST
DTSTART:20281105T060000
END:STANDARD
BEGIN:DAYLIGHT
TZOFFSETFROM:-0500
TZOFFSETTO:-0400
TZNAME:EDT
DTSTART:20290311T070000
END:DAYLIGHT
BEGIN:STANDARD
TZOFFSETFROM:-0400
TZOFFSETTO:-0500
TZNAME:EST
DTSTART:20291104T060000
END:STANDARD
BEGIN:DAYLIGHT
TZOFFSETFROM:-0500
TZOFFSETTO:-0400
TZNAME:EDT
DTSTART:20300310T070000
END:DAYLIGHT
BEGIN:STANDARD
TZOFFSETFROM:-0400
TZOFFSETTO:-0500
TZNAME:EST
DTSTART:20301103T060000
END:STANDARD
END:VTIMEZONE
BEGIN:VEVENT
DTSTART;TZID=America/New_York:20290611T100000
DTEND;TZID=America/New_York:20290611T110000
DTSTAMP:20260424T105915
CREATED:20260307T142323Z
LAST-MODIFIED:20260307T142325Z
UID:10017362-1875866400-1875870000@bluewaterparent.com
SUMMARY:Storytime - Yale
DESCRIPTION:
URL:https://bluewaterparent.com/event/storytime-yale-2-2-2/2029-06-11/
LOCATION:Yale Library\, 2 Jones St\, Yale\, MI\, 48097\, United States
CATEGORIES:Free,Playgroups
END:VEVENT
BEGIN:VEVENT
DTSTART;TZID=America/New_York:20290611T103000
DTEND;TZID=America/New_York:20290611T110000
DTSTAMP:20260424T105915
CREATED:20260401T010404Z
LAST-MODIFIED:20260401T010407Z
UID:10025127-1875868200-1875870000@bluewaterparent.com
SUMMARY:Storytime - Burtchville
DESCRIPTION:
URL:https://bluewaterparent.com/event/storytime-burtchville-3-2/2029-06-11/
LOCATION:Burtchville Library\, 7093 2nd St\, Lakeport\, MI\, 48059\, United States
CATEGORIES:Free,Playgroups
END:VEVENT
BEGIN:VEVENT
DTSTART;TZID=America/New_York:20290611T103000
DTEND;TZID=America/New_York:20290611T113000
DTSTAMP:20260424T105915
CREATED:20260321T165751Z
LAST-MODIFIED:20260321T165752Z
UID:10017884-1875868200-1875871800@bluewaterparent.com
SUMMARY:Storytime - Marine City
DESCRIPTION:From SCCLS – Preschoolers and their adults join us at the library for a happy blend of stories and activities.
URL:https://bluewaterparent.com/event/storytime-marine-city-2-2/2029-06-11/
LOCATION:Marine City Library\, 300 S Parker St\, Marine City\, MI\, 48039\, United States
CATEGORIES:Free,Playgroups
END:VEVENT
BEGIN:VEVENT
DTSTART;TZID=America/New_York:20290611T160000
DTEND;TZID=America/New_York:20290611T180000
DTSTAMP:20260424T105915
CREATED:20260101T211427Z
LAST-MODIFIED:20260101T211427Z
UID:10021073-1875888000-1875895200@bluewaterparent.com
SUMMARY:Teen Scene
DESCRIPTION:Ages 13-18.
URL:https://bluewaterparent.com/event/teen-scene/2029-06-11/
LOCATION:Capac Library\, 111 N Main St\, Capac\, MI\, 48014\, United States
CATEGORIES:Teens
END:VEVENT
BEGIN:VEVENT
DTSTART;TZID=America/New_York:20290612T100000
DTEND;TZID=America/New_York:20290612T103000
DTSTAMP:20260424T105915
CREATED:20260418T235804Z
LAST-MODIFIED:20260419T000903Z
UID:10025505-1875952800-1875954600@bluewaterparent.com
SUMMARY:Rhythm and Rhyme - Port Huron
DESCRIPTION:For children ages 0-3 and their caregivers.
URL:https://bluewaterparent.com/event/rhythm-and-rhyme-port-huron/2029-06-12/
LOCATION:Main Library\, 210 McMorran Blvd\, Port Huron\, MI\, 48060\, United States
CATEGORIES:Playgroups
END:VEVENT
BEGIN:VEVENT
DTSTART;TZID=America/New_York:20290612T180000
DTEND;TZID=America/New_York:20290612T183000
DTSTAMP:20260424T105915
CREATED:20260419T002148Z
LAST-MODIFIED:20260419T003520Z
UID:10025766-1875981600-1875983400@bluewaterparent.com
SUMMARY:Bedtime Storytime - Port Huron
DESCRIPTION:
URL:https://bluewaterparent.com/event/bedtime-storytime/2029-06-12/
LOCATION:Main Library\, 210 McMorran Blvd\, Port Huron\, MI\, 48060\, United States
CATEGORIES:Playgroups
END:VEVENT
BEGIN:VEVENT
DTSTART;TZID=America/New_York:20290613T080000
DTEND;TZID=America/New_York:20290613T170000
DTSTAMP:20260424T105915
CREATED:20260419T012510Z
LAST-MODIFIED:20260419T012510Z
UID:10026716-1876032000-1876064400@bluewaterparent.com
SUMMARY:Discovery Lab for Littles
DESCRIPTION:This event is included with admission.
URL:https://bluewaterparent.com/event/discovery-lab-for-littles/2029-06-13/
LOCATION:Discovery City Children’s Museum\, 317 Grand River Avenue\, Port huron\, MI\, 48060
END:VEVENT
BEGIN:VEVENT
DTSTART;TZID=America/New_York:20290613T100000
DTEND;TZID=America/New_York:20290613T110000
DTSTAMP:20260424T105915
CREATED:20260419T003159Z
LAST-MODIFIED:20260419T003555Z
UID:10026027-1876039200-1876042800@bluewaterparent.com
SUMMARY:Storytime - Port Huron
DESCRIPTION:
URL:https://bluewaterparent.com/event/storytime-port-huron/2029-06-13/
LOCATION:Main Library\, 210 McMorran Blvd\, Port Huron\, MI\, 48060\, United States
CATEGORIES:Playgroups
END:VEVENT
BEGIN:VEVENT
DTSTART;TZID=America/New_York:20290614T100000
DTEND;TZID=America/New_York:20290614T110000
DTSTAMP:20260424T105915
CREATED:20251201T004011Z
LAST-MODIFIED:20260307T021133Z
UID:10023993-1876125600-1876129200@bluewaterparent.com
SUMMARY:Great Start Playgroup - Avoca
DESCRIPTION:
URL:https://bluewaterparent.com/event/great-start-playgroup-emmett/2029-06-14/
LOCATION:Avoca Elementary\, 8751 Willow St.\, Avoca\, MI\, 48006\, United States
CATEGORIES:Playgroups
END:VEVENT
BEGIN:VEVENT
DTSTART;TZID=America/New_York:20290614T100000
DTEND;TZID=America/New_York:20290614T110000
DTSTAMP:20260424T105915
CREATED:20260307T014510Z
LAST-MODIFIED:20260307T014908Z
UID:10023732-1876125600-1876129200@bluewaterparent.com
SUMMARY:Great Start Playgroup - Marysville
DESCRIPTION:
URL:https://bluewaterparent.com/event/great-start-playgroup-marysville-3/2029-06-14/
LOCATION:St. Clair County RESA East Campus\, 1111 Delaware Avenue\, Marysville\, MI
CATEGORIES:Playgroups
END:VEVENT
BEGIN:VEVENT
DTSTART;TZID=America/New_York:20290614T110000
DTEND;TZID=America/New_York:20290614T113000
DTSTAMP:20260424T105915
CREATED:20260101T200511Z
LAST-MODIFIED:20260101T213808Z
UID:10021278-1876129200-1876131000@bluewaterparent.com
SUMMARY:Storytime - Algonac
DESCRIPTION:  \n 
URL:https://bluewaterparent.com/event/storytime-algonac-2/2029-06-14/
LOCATION:Algonac-Clay Library\, 2011 St Clair River Dr\, Algonac\, MI\, 48001\, United States
CATEGORIES:Playgroups
END:VEVENT
BEGIN:VEVENT
DTSTART;TZID=America/New_York:20290614T143000
DTEND;TZID=America/New_York:20290614T160000
DTSTAMP:20260424T105915
CREATED:20260101T200828Z
LAST-MODIFIED:20260101T200854Z
UID:10019772-1876141800-1876147200@bluewaterparent.com
SUMMARY:Teen Time - Yale
DESCRIPTION:
URL:https://bluewaterparent.com/event/teen-time-yale-3/2029-06-14/
LOCATION:Yale Library\, 2 Jones St\, Yale\, MI\, 48097\, United States
CATEGORIES:Teens
END:VEVENT
BEGIN:VEVENT
DTSTART;TZID=America/New_York:20290614T171500
DTEND;TZID=America/New_York:20290614T174500
DTSTAMP:20260424T105915
CREATED:20260328T183605Z
LAST-MODIFIED:20260328T183607Z
UID:10022948-1876151700-1876153500@bluewaterparent.com
SUMMARY:Little House on the Prairie Book Club for Kids
DESCRIPTION:  \n 
URL:https://bluewaterparent.com/event/little-house-on-the-prairie-book-club-for-kids-2-3/2029-06-14/
LOCATION:Capac Library\, 111 N Main St\, Capac\, MI\, 48014\, United States
CATEGORIES:Free
END:VEVENT
BEGIN:VEVENT
DTSTART;TZID=America/New_York:20290615T080000
DTEND;TZID=America/New_York:20290615T170000
DTSTAMP:20260424T105915
CREATED:20260419T012510Z
LAST-MODIFIED:20260419T012510Z
UID:10026717-1876204800-1876237200@bluewaterparent.com
SUMMARY:Discovery Lab for Littles
DESCRIPTION:This event is included with admission.
URL:https://bluewaterparent.com/event/discovery-lab-for-littles/2029-06-15/
LOCATION:Discovery City Children’s Museum\, 317 Grand River Avenue\, Port huron\, MI\, 48060
END:VEVENT
BEGIN:VEVENT
DTSTART;TZID=America/New_York:20290615T100000
DTEND;TZID=America/New_York:20290615T104500
DTSTAMP:20260424T105915
CREATED:20260101T202520Z
LAST-MODIFIED:20260131T171318Z
UID:10023419-1876212000-1876214700@bluewaterparent.com
SUMMARY:Family Storytime - Memphis
DESCRIPTION:
URL:https://bluewaterparent.com/event/family-storytime-capac-2-2/2029-06-15/
LOCATION:Memphis Library\, 34830 Potter St\, Memphis\, MI\, 48041\, United States
CATEGORIES:Playgroups
END:VEVENT
BEGIN:VEVENT
DTSTART;TZID=America/New_York:20290615T100000
DTEND;TZID=America/New_York:20290615T110000
DTSTAMP:20260424T105915
CREATED:20260419T003829Z
LAST-MODIFIED:20260419T003829Z
UID:10026288-1876212000-1876215600@bluewaterparent.com
SUMMARY:Storytime - Port Huron
DESCRIPTION:
URL:https://bluewaterparent.com/event/storytime-port-huron-2/2029-06-15/
LOCATION:Main Library\, 210 McMorran Blvd\, Port Huron\, MI\, 48060\, United States
CATEGORIES:Playgroups
END:VEVENT
BEGIN:VEVENT
DTSTART;TZID=America/New_York:20290615T110000
DTEND;TZID=America/New_York:20290615T120000
DTSTAMP:20260424T105915
CREATED:20260101T164906Z
LAST-MODIFIED:20260101T171615Z
UID:10017101-1876215600-1876219200@bluewaterparent.com
SUMMARY:Playgroup Pals
DESCRIPTION:
URL:https://bluewaterparent.com/event/playgroup-pals-2/2029-06-15/
LOCATION:Ira Township Library\, 7013 Meldrum Rd\, Ira Township\, Michigan\, 48023\, United States
CATEGORIES:Playgroups
END:VEVENT
BEGIN:VEVENT
DTSTART;TZID=America/New_York:20290618T100000
DTEND;TZID=America/New_York:20290618T110000
DTSTAMP:20260424T105915
CREATED:20260101T192653Z
LAST-MODIFIED:20260307T025320Z
UID:10024515-1876471200-1876474800@bluewaterparent.com
SUMMARY:Storytime - St. Clair
DESCRIPTION:From SCCLS – Join us for a fun and educational blend of stories\, crafts\, movement activities\, and songs.
URL:https://bluewaterparent.com/event/storytime-st-clair/2029-06-18/
LOCATION:St. Clair Library\, 310 S. 2nd Street\, St. Clair\, MI
CATEGORIES:Free,Playgroups
END:VEVENT
BEGIN:VEVENT
DTSTART;TZID=America/New_York:20290618T100000
DTEND;TZID=America/New_York:20290618T110000
DTSTAMP:20260424T105915
CREATED:20260125T194928Z
LAST-MODIFIED:20260125T194929Z
UID:10017624-1876471200-1876474800@bluewaterparent.com
SUMMARY:Storytime - Marysville
DESCRIPTION:From SCCLS – Preschoolers and their adults: Join us at the library for a happy blend of stories\, rhymes\, music and movement\, followed by a creative activity time.
URL:https://bluewaterparent.com/event/storytime-marysville-3/2029-06-18/
LOCATION:Marysville Library\, 1175 Delaware\, Marysville\, MI
CATEGORIES:Free,Playgroups
END:VEVENT
BEGIN:VEVENT
DTSTART;TZID=America/New_York:20290618T100000
DTEND;TZID=America/New_York:20290618T110000
DTSTAMP:20260424T105915
CREATED:20260307T142323Z
LAST-MODIFIED:20260307T142325Z
UID:10017363-1876471200-1876474800@bluewaterparent.com
SUMMARY:Storytime - Yale
DESCRIPTION:
URL:https://bluewaterparent.com/event/storytime-yale-2-2-2/2029-06-18/
LOCATION:Yale Library\, 2 Jones St\, Yale\, MI\, 48097\, United States
CATEGORIES:Free,Playgroups
END:VEVENT
BEGIN:VEVENT
DTSTART;TZID=America/New_York:20290618T103000
DTEND;TZID=America/New_York:20290618T110000
DTSTAMP:20260424T105915
CREATED:20260401T010404Z
LAST-MODIFIED:20260401T010407Z
UID:10025128-1876473000-1876474800@bluewaterparent.com
SUMMARY:Storytime - Burtchville
DESCRIPTION:
URL:https://bluewaterparent.com/event/storytime-burtchville-3-2/2029-06-18/
LOCATION:Burtchville Library\, 7093 2nd St\, Lakeport\, MI\, 48059\, United States
CATEGORIES:Free,Playgroups
END:VEVENT
BEGIN:VEVENT
DTSTART;TZID=America/New_York:20290618T103000
DTEND;TZID=America/New_York:20290618T113000
DTSTAMP:20260424T105915
CREATED:20260321T165751Z
LAST-MODIFIED:20260321T165752Z
UID:10024748-1876473000-1876476600@bluewaterparent.com
SUMMARY:Storytime - Marine City
DESCRIPTION:From SCCLS – Preschoolers and their adults join us at the library for a happy blend of stories and activities.
URL:https://bluewaterparent.com/event/storytime-marine-city-2-2/2029-06-18/
LOCATION:Marine City Library\, 300 S Parker St\, Marine City\, MI\, 48039\, United States
CATEGORIES:Free,Playgroups
END:VEVENT
BEGIN:VEVENT
DTSTART;TZID=America/New_York:20290619T100000
DTEND;TZID=America/New_York:20290619T103000
DTSTAMP:20260424T105915
CREATED:20260418T235804Z
LAST-MODIFIED:20260419T000903Z
UID:10025506-1876557600-1876559400@bluewaterparent.com
SUMMARY:Rhythm and Rhyme - Port Huron
DESCRIPTION:For children ages 0-3 and their caregivers.
URL:https://bluewaterparent.com/event/rhythm-and-rhyme-port-huron/2029-06-19/
LOCATION:Main Library\, 210 McMorran Blvd\, Port Huron\, MI\, 48060\, United States
CATEGORIES:Playgroups
END:VEVENT
BEGIN:VEVENT
DTSTART;TZID=America/New_York:20290619T170000
DTEND;TZID=America/New_York:20290619T193000
DTSTAMP:20260424T105915
CREATED:20260101T190453Z
LAST-MODIFIED:20260103T013002Z
UID:10021460-1876582800-1876591800@bluewaterparent.com
SUMMARY:Teen D&D Group - Algonac-Clay
DESCRIPTION:Registration requested.
URL:https://bluewaterparent.com/event/teen-dd-group-algonac-clay/2029-06-19/
LOCATION:Algonac-Clay Library\, 2011 St Clair River Dr\, Algonac\, MI\, 48001\, United States
CATEGORIES:Teens
END:VEVENT
BEGIN:VEVENT
DTSTART;TZID=America/New_York:20290619T180000
DTEND;TZID=America/New_York:20290619T183000
DTSTAMP:20260424T105915
CREATED:20260419T002148Z
LAST-MODIFIED:20260419T003520Z
UID:10025767-1876586400-1876588200@bluewaterparent.com
SUMMARY:Bedtime Storytime - Port Huron
DESCRIPTION:
URL:https://bluewaterparent.com/event/bedtime-storytime/2029-06-19/
LOCATION:Main Library\, 210 McMorran Blvd\, Port Huron\, MI\, 48060\, United States
CATEGORIES:Playgroups
END:VEVENT
BEGIN:VEVENT
DTSTART;TZID=America/New_York:20290620T080000
DTEND;TZID=America/New_York:20290620T170000
DTSTAMP:20260424T105915
CREATED:20260419T012510Z
LAST-MODIFIED:20260419T012510Z
UID:10026718-1876636800-1876669200@bluewaterparent.com
SUMMARY:Discovery Lab for Littles
DESCRIPTION:This event is included with admission.
URL:https://bluewaterparent.com/event/discovery-lab-for-littles/2029-06-20/
LOCATION:Discovery City Children’s Museum\, 317 Grand River Avenue\, Port huron\, MI\, 48060
END:VEVENT
BEGIN:VEVENT
DTSTART;TZID=America/New_York:20290620T100000
DTEND;TZID=America/New_York:20290620T110000
DTSTAMP:20260424T105915
CREATED:20260419T003159Z
LAST-MODIFIED:20260419T003555Z
UID:10026028-1876644000-1876647600@bluewaterparent.com
SUMMARY:Storytime - Port Huron
DESCRIPTION:
URL:https://bluewaterparent.com/event/storytime-port-huron/2029-06-20/
LOCATION:Main Library\, 210 McMorran Blvd\, Port Huron\, MI\, 48060\, United States
CATEGORIES:Playgroups
END:VEVENT
BEGIN:VEVENT
DTSTART;TZID=America/New_York:20290621T100000
DTEND;TZID=America/New_York:20290621T110000
DTSTAMP:20260424T105915
CREATED:20251201T004011Z
LAST-MODIFIED:20260307T021133Z
UID:10023994-1876730400-1876734000@bluewaterparent.com
SUMMARY:Great Start Playgroup - Avoca
DESCRIPTION:
URL:https://bluewaterparent.com/event/great-start-playgroup-emmett/2029-06-21/
LOCATION:Avoca Elementary\, 8751 Willow St.\, Avoca\, MI\, 48006\, United States
CATEGORIES:Playgroups
END:VEVENT
BEGIN:VEVENT
DTSTART;TZID=America/New_York:20290621T100000
DTEND;TZID=America/New_York:20290621T110000
DTSTAMP:20260424T105915
CREATED:20260307T014510Z
LAST-MODIFIED:20260307T014908Z
UID:10023733-1876730400-1876734000@bluewaterparent.com
SUMMARY:Great Start Playgroup - Marysville
DESCRIPTION:
URL:https://bluewaterparent.com/event/great-start-playgroup-marysville-3/2029-06-21/
LOCATION:St. Clair County RESA East Campus\, 1111 Delaware Avenue\, Marysville\, MI
CATEGORIES:Playgroups
END:VEVENT
BEGIN:VEVENT
DTSTART;TZID=America/New_York:20290621T110000
DTEND;TZID=America/New_York:20290621T113000
DTSTAMP:20260424T105915
CREATED:20260101T200511Z
LAST-MODIFIED:20260101T213808Z
UID:10021279-1876734000-1876735800@bluewaterparent.com
SUMMARY:Storytime - Algonac
DESCRIPTION:  \n 
URL:https://bluewaterparent.com/event/storytime-algonac-2/2029-06-21/
LOCATION:Algonac-Clay Library\, 2011 St Clair River Dr\, Algonac\, MI\, 48001\, United States
CATEGORIES:Playgroups
END:VEVENT
END:VCALENDAR