BEGIN:VCALENDAR
VERSION:2.0
PRODID:-//BlueWaterParent.com - ECPv6.15.20//NONSGML v1.0//EN
CALSCALE:GREGORIAN
METHOD:PUBLISH
X-WR-CALNAME:BlueWaterParent.com
X-ORIGINAL-URL:https://bluewaterparent.com
X-WR-CALDESC:Events for BlueWaterParent.com
REFRESH-INTERVAL;VALUE=DURATION:PT1H
X-Robots-Tag:noindex
X-PUBLISHED-TTL:PT1H
BEGIN:VTIMEZONE
TZID:America/New_York
BEGIN:DAYLIGHT
TZOFFSETFROM:-0500
TZOFFSETTO:-0400
TZNAME:EDT
DTSTART:20280312T070000
END:DAYLIGHT
BEGIN:STANDARD
TZOFFSETFROM:-0400
TZOFFSETTO:-0500
TZNAME:EST
DTSTART:20281105T060000
END:STANDARD
BEGIN:DAYLIGHT
TZOFFSETFROM:-0500
TZOFFSETTO:-0400
TZNAME:EDT
DTSTART:20290311T070000
END:DAYLIGHT
BEGIN:STANDARD
TZOFFSETFROM:-0400
TZOFFSETTO:-0500
TZNAME:EST
DTSTART:20291104T060000
END:STANDARD
BEGIN:DAYLIGHT
TZOFFSETFROM:-0500
TZOFFSETTO:-0400
TZNAME:EDT
DTSTART:20300310T070000
END:DAYLIGHT
BEGIN:STANDARD
TZOFFSETFROM:-0400
TZOFFSETTO:-0500
TZNAME:EST
DTSTART:20301103T060000
END:STANDARD
END:VTIMEZONE
BEGIN:VEVENT
DTSTART;TZID=America/New_York:20290906T110000
DTEND;TZID=America/New_York:20290906T113000
DTSTAMP:20260425T121848
CREATED:20260101T200511Z
LAST-MODIFIED:20260101T213808Z
UID:10021290-1883386800-1883388600@bluewaterparent.com
SUMMARY:Storytime - Algonac
DESCRIPTION:  \n 
URL:https://bluewaterparent.com/event/storytime-algonac-2/2029-09-06/
LOCATION:Algonac-Clay Library\, 2011 St Clair River Dr\, Algonac\, MI\, 48001\, United States
CATEGORIES:Playgroups
END:VEVENT
BEGIN:VEVENT
DTSTART;TZID=America/New_York:20290906T143000
DTEND;TZID=America/New_York:20290906T160000
DTSTAMP:20260425T121848
CREATED:20260101T200828Z
LAST-MODIFIED:20260101T200854Z
UID:10019784-1883399400-1883404800@bluewaterparent.com
SUMMARY:Teen Time - Yale
DESCRIPTION:
URL:https://bluewaterparent.com/event/teen-time-yale-3/2029-09-06/
LOCATION:Yale Library\, 2 Jones St\, Yale\, MI\, 48097\, United States
CATEGORIES:Teens
END:VEVENT
BEGIN:VEVENT
DTSTART;TZID=America/New_York:20290906T171500
DTEND;TZID=America/New_York:20290906T174500
DTSTAMP:20260425T121848
CREATED:20260328T183605Z
LAST-MODIFIED:20260328T183607Z
UID:10022950-1883409300-1883411100@bluewaterparent.com
SUMMARY:Little House on the Prairie Book Club for Kids
DESCRIPTION:  \n 
URL:https://bluewaterparent.com/event/little-house-on-the-prairie-book-club-for-kids-2-3/2029-09-06/
LOCATION:Capac Library\, 111 N Main St\, Capac\, MI\, 48014\, United States
CATEGORIES:Free
END:VEVENT
BEGIN:VEVENT
DTSTART;TZID=America/New_York:20290907T080000
DTEND;TZID=America/New_York:20290907T170000
DTSTAMP:20260425T121848
CREATED:20260419T012510Z
LAST-MODIFIED:20260419T012510Z
UID:10026741-1883462400-1883494800@bluewaterparent.com
SUMMARY:Discovery Lab for Littles
DESCRIPTION:This event is included with admission.
URL:https://bluewaterparent.com/event/discovery-lab-for-littles/2029-09-07/
LOCATION:Discovery City Children’s Museum\, 317 Grand River Avenue\, Port huron\, MI\, 48060
END:VEVENT
BEGIN:VEVENT
DTSTART;TZID=America/New_York:20290907T100000
DTEND;TZID=America/New_York:20290907T104500
DTSTAMP:20260425T121848
CREATED:20260101T202520Z
LAST-MODIFIED:20260131T171318Z
UID:10023431-1883469600-1883472300@bluewaterparent.com
SUMMARY:Family Storytime - Memphis
DESCRIPTION:
URL:https://bluewaterparent.com/event/family-storytime-capac-2-2/2029-09-07/
LOCATION:Memphis Library\, 34830 Potter St\, Memphis\, MI\, 48041\, United States
CATEGORIES:Playgroups
END:VEVENT
BEGIN:VEVENT
DTSTART;TZID=America/New_York:20290907T100000
DTEND;TZID=America/New_York:20290907T110000
DTSTAMP:20260425T121848
CREATED:20260419T003829Z
LAST-MODIFIED:20260419T003829Z
UID:10026300-1883469600-1883473200@bluewaterparent.com
SUMMARY:Storytime - Port Huron
DESCRIPTION:
URL:https://bluewaterparent.com/event/storytime-port-huron-2/2029-09-07/
LOCATION:Main Library\, 210 McMorran Blvd\, Port Huron\, MI\, 48060\, United States
CATEGORIES:Playgroups
END:VEVENT
BEGIN:VEVENT
DTSTART;TZID=America/New_York:20290907T110000
DTEND;TZID=America/New_York:20290907T120000
DTSTAMP:20260425T121848
CREATED:20260101T164906Z
LAST-MODIFIED:20260101T171615Z
UID:10017113-1883473200-1883476800@bluewaterparent.com
SUMMARY:Playgroup Pals
DESCRIPTION:
URL:https://bluewaterparent.com/event/playgroup-pals-2/2029-09-07/
LOCATION:Ira Township Library\, 7013 Meldrum Rd\, Ira Township\, Michigan\, 48023\, United States
CATEGORIES:Playgroups
END:VEVENT
BEGIN:VEVENT
DTSTART;TZID=America/New_York:20290910T100000
DTEND;TZID=America/New_York:20290910T110000
DTSTAMP:20260425T121848
CREATED:20260101T192653Z
LAST-MODIFIED:20260307T025320Z
UID:10024527-1883728800-1883732400@bluewaterparent.com
SUMMARY:Storytime - St. Clair
DESCRIPTION:From SCCLS – Join us for a fun and educational blend of stories\, crafts\, movement activities\, and songs.
URL:https://bluewaterparent.com/event/storytime-st-clair/2029-09-10/
LOCATION:St. Clair Library\, 310 S. 2nd Street\, St. Clair\, MI
CATEGORIES:Free,Playgroups
END:VEVENT
BEGIN:VEVENT
DTSTART;TZID=America/New_York:20290910T100000
DTEND;TZID=America/New_York:20290910T110000
DTSTAMP:20260425T121848
CREATED:20260125T194928Z
LAST-MODIFIED:20260125T194929Z
UID:10017636-1883728800-1883732400@bluewaterparent.com
SUMMARY:Storytime - Marysville
DESCRIPTION:From SCCLS – Preschoolers and their adults: Join us at the library for a happy blend of stories\, rhymes\, music and movement\, followed by a creative activity time.
URL:https://bluewaterparent.com/event/storytime-marysville-3/2029-09-10/
LOCATION:Marysville Library\, 1175 Delaware\, Marysville\, MI
CATEGORIES:Free,Playgroups
END:VEVENT
BEGIN:VEVENT
DTSTART;TZID=America/New_York:20290910T100000
DTEND;TZID=America/New_York:20290910T110000
DTSTAMP:20260425T121848
CREATED:20260307T142323Z
LAST-MODIFIED:20260307T142325Z
UID:10017375-1883728800-1883732400@bluewaterparent.com
SUMMARY:Storytime - Yale
DESCRIPTION:
URL:https://bluewaterparent.com/event/storytime-yale-2-2-2/2029-09-10/
LOCATION:Yale Library\, 2 Jones St\, Yale\, MI\, 48097\, United States
CATEGORIES:Free,Playgroups
END:VEVENT
BEGIN:VEVENT
DTSTART;TZID=America/New_York:20290910T103000
DTEND;TZID=America/New_York:20290910T110000
DTSTAMP:20260425T121848
CREATED:20260401T010404Z
LAST-MODIFIED:20260401T010407Z
UID:10025140-1883730600-1883732400@bluewaterparent.com
SUMMARY:Storytime - Burtchville
DESCRIPTION:
URL:https://bluewaterparent.com/event/storytime-burtchville-3-2/2029-09-10/
LOCATION:Burtchville Library\, 7093 2nd St\, Lakeport\, MI\, 48059\, United States
CATEGORIES:Free,Playgroups
END:VEVENT
BEGIN:VEVENT
DTSTART;TZID=America/New_York:20290910T103000
DTEND;TZID=America/New_York:20290910T113000
DTSTAMP:20260425T121848
CREATED:20260321T165751Z
LAST-MODIFIED:20260321T165752Z
UID:10024754-1883730600-1883734200@bluewaterparent.com
SUMMARY:Storytime - Marine City
DESCRIPTION:From SCCLS – Preschoolers and their adults join us at the library for a happy blend of stories and activities.
URL:https://bluewaterparent.com/event/storytime-marine-city-2-2/2029-09-10/
LOCATION:Marine City Library\, 300 S Parker St\, Marine City\, MI\, 48039\, United States
CATEGORIES:Free,Playgroups
END:VEVENT
BEGIN:VEVENT
DTSTART;TZID=America/New_York:20290910T160000
DTEND;TZID=America/New_York:20290910T180000
DTSTAMP:20260425T121848
CREATED:20260101T211427Z
LAST-MODIFIED:20260101T211427Z
UID:10021076-1883750400-1883757600@bluewaterparent.com
SUMMARY:Teen Scene
DESCRIPTION:Ages 13-18.
URL:https://bluewaterparent.com/event/teen-scene/2029-09-10/
LOCATION:Capac Library\, 111 N Main St\, Capac\, MI\, 48014\, United States
CATEGORIES:Teens
END:VEVENT
BEGIN:VEVENT
DTSTART;TZID=America/New_York:20290911T100000
DTEND;TZID=America/New_York:20290911T103000
DTSTAMP:20260425T121848
CREATED:20260418T235804Z
LAST-MODIFIED:20260419T000903Z
UID:10025518-1883815200-1883817000@bluewaterparent.com
SUMMARY:Rhythm and Rhyme - Port Huron
DESCRIPTION:For children ages 0-3 and their caregivers.
URL:https://bluewaterparent.com/event/rhythm-and-rhyme-port-huron/2029-09-11/
LOCATION:Main Library\, 210 McMorran Blvd\, Port Huron\, MI\, 48060\, United States
CATEGORIES:Playgroups
END:VEVENT
BEGIN:VEVENT
DTSTART;TZID=America/New_York:20290911T170000
DTEND;TZID=America/New_York:20290911T193000
DTSTAMP:20260425T121848
CREATED:20260101T190453Z
LAST-MODIFIED:20260103T013002Z
UID:10021466-1883840400-1883849400@bluewaterparent.com
SUMMARY:Teen D&D Group - Algonac-Clay
DESCRIPTION:Registration requested.
URL:https://bluewaterparent.com/event/teen-dd-group-algonac-clay/2029-09-11/
LOCATION:Algonac-Clay Library\, 2011 St Clair River Dr\, Algonac\, MI\, 48001\, United States
CATEGORIES:Teens
END:VEVENT
BEGIN:VEVENT
DTSTART;TZID=America/New_York:20290911T180000
DTEND;TZID=America/New_York:20290911T183000
DTSTAMP:20260425T121848
CREATED:20260419T002148Z
LAST-MODIFIED:20260419T003520Z
UID:10025779-1883844000-1883845800@bluewaterparent.com
SUMMARY:Bedtime Storytime - Port Huron
DESCRIPTION:
URL:https://bluewaterparent.com/event/bedtime-storytime/2029-09-11/
LOCATION:Main Library\, 210 McMorran Blvd\, Port Huron\, MI\, 48060\, United States
CATEGORIES:Playgroups
END:VEVENT
BEGIN:VEVENT
DTSTART;TZID=America/New_York:20290912T080000
DTEND;TZID=America/New_York:20290912T170000
DTSTAMP:20260425T121848
CREATED:20260419T012510Z
LAST-MODIFIED:20260419T012510Z
UID:10026742-1883894400-1883926800@bluewaterparent.com
SUMMARY:Discovery Lab for Littles
DESCRIPTION:This event is included with admission.
URL:https://bluewaterparent.com/event/discovery-lab-for-littles/2029-09-12/
LOCATION:Discovery City Children’s Museum\, 317 Grand River Avenue\, Port huron\, MI\, 48060
END:VEVENT
BEGIN:VEVENT
DTSTART;TZID=America/New_York:20290912T100000
DTEND;TZID=America/New_York:20290912T110000
DTSTAMP:20260425T121848
CREATED:20260419T003159Z
LAST-MODIFIED:20260419T003555Z
UID:10026040-1883901600-1883905200@bluewaterparent.com
SUMMARY:Storytime - Port Huron
DESCRIPTION:
URL:https://bluewaterparent.com/event/storytime-port-huron/2029-09-12/
LOCATION:Main Library\, 210 McMorran Blvd\, Port Huron\, MI\, 48060\, United States
CATEGORIES:Playgroups
END:VEVENT
BEGIN:VEVENT
DTSTART;TZID=America/New_York:20290913T100000
DTEND;TZID=America/New_York:20290913T110000
DTSTAMP:20260425T121848
CREATED:20251201T004011Z
LAST-MODIFIED:20260307T021133Z
UID:10024006-1883988000-1883991600@bluewaterparent.com
SUMMARY:Great Start Playgroup - Avoca
DESCRIPTION:
URL:https://bluewaterparent.com/event/great-start-playgroup-emmett/2029-09-13/
LOCATION:Avoca Elementary\, 8751 Willow St.\, Avoca\, MI\, 48006\, United States
CATEGORIES:Playgroups
END:VEVENT
BEGIN:VEVENT
DTSTART;TZID=America/New_York:20290913T100000
DTEND;TZID=America/New_York:20290913T110000
DTSTAMP:20260425T121848
CREATED:20260307T014510Z
LAST-MODIFIED:20260307T014908Z
UID:10023745-1883988000-1883991600@bluewaterparent.com
SUMMARY:Great Start Playgroup - Marysville
DESCRIPTION:
URL:https://bluewaterparent.com/event/great-start-playgroup-marysville-3/2029-09-13/
LOCATION:St. Clair County RESA East Campus\, 1111 Delaware Avenue\, Marysville\, MI
CATEGORIES:Playgroups
END:VEVENT
BEGIN:VEVENT
DTSTART;TZID=America/New_York:20290913T110000
DTEND;TZID=America/New_York:20290913T113000
DTSTAMP:20260425T121848
CREATED:20260101T200511Z
LAST-MODIFIED:20260101T213808Z
UID:10021291-1883991600-1883993400@bluewaterparent.com
SUMMARY:Storytime - Algonac
DESCRIPTION:  \n 
URL:https://bluewaterparent.com/event/storytime-algonac-2/2029-09-13/
LOCATION:Algonac-Clay Library\, 2011 St Clair River Dr\, Algonac\, MI\, 48001\, United States
CATEGORIES:Playgroups
END:VEVENT
BEGIN:VEVENT
DTSTART;TZID=America/New_York:20290913T143000
DTEND;TZID=America/New_York:20290913T160000
DTSTAMP:20260425T121848
CREATED:20260101T200828Z
LAST-MODIFIED:20260101T200854Z
UID:10019785-1884004200-1884009600@bluewaterparent.com
SUMMARY:Teen Time - Yale
DESCRIPTION:
URL:https://bluewaterparent.com/event/teen-time-yale-3/2029-09-13/
LOCATION:Yale Library\, 2 Jones St\, Yale\, MI\, 48097\, United States
CATEGORIES:Teens
END:VEVENT
BEGIN:VEVENT
DTSTART;TZID=America/New_York:20290913T153000
DTEND;TZID=America/New_York:20290913T180000
DTSTAMP:20260425T121848
CREATED:20260101T201514Z
LAST-MODIFIED:20260103T021445Z
UID:10020158-1884007800-1884016800@bluewaterparent.com
SUMMARY:To D&D\, And Beyond!
DESCRIPTION:  \n 
URL:https://bluewaterparent.com/event/to-dd-and-beyond-3/2029-09-13/
LOCATION:Marysville Library\, 1175 Delaware\, Marysville\, MI
CATEGORIES:Teens
END:VEVENT
BEGIN:VEVENT
DTSTART;TZID=America/New_York:20290914T080000
DTEND;TZID=America/New_York:20290914T170000
DTSTAMP:20260425T121848
CREATED:20260419T012510Z
LAST-MODIFIED:20260419T012510Z
UID:10026743-1884067200-1884099600@bluewaterparent.com
SUMMARY:Discovery Lab for Littles
DESCRIPTION:This event is included with admission.
URL:https://bluewaterparent.com/event/discovery-lab-for-littles/2029-09-14/
LOCATION:Discovery City Children’s Museum\, 317 Grand River Avenue\, Port huron\, MI\, 48060
END:VEVENT
BEGIN:VEVENT
DTSTART;TZID=America/New_York:20290914T100000
DTEND;TZID=America/New_York:20290914T104500
DTSTAMP:20260425T121848
CREATED:20260101T202520Z
LAST-MODIFIED:20260131T171318Z
UID:10023432-1884074400-1884077100@bluewaterparent.com
SUMMARY:Family Storytime - Memphis
DESCRIPTION:
URL:https://bluewaterparent.com/event/family-storytime-capac-2-2/2029-09-14/
LOCATION:Memphis Library\, 34830 Potter St\, Memphis\, MI\, 48041\, United States
CATEGORIES:Playgroups
END:VEVENT
BEGIN:VEVENT
DTSTART;TZID=America/New_York:20290914T100000
DTEND;TZID=America/New_York:20290914T110000
DTSTAMP:20260425T121848
CREATED:20260419T003829Z
LAST-MODIFIED:20260419T003829Z
UID:10026301-1884074400-1884078000@bluewaterparent.com
SUMMARY:Storytime - Port Huron
DESCRIPTION:
URL:https://bluewaterparent.com/event/storytime-port-huron-2/2029-09-14/
LOCATION:Main Library\, 210 McMorran Blvd\, Port Huron\, MI\, 48060\, United States
CATEGORIES:Playgroups
END:VEVENT
BEGIN:VEVENT
DTSTART;TZID=America/New_York:20290914T110000
DTEND;TZID=America/New_York:20290914T120000
DTSTAMP:20260425T121848
CREATED:20260101T164906Z
LAST-MODIFIED:20260101T171615Z
UID:10017114-1884078000-1884081600@bluewaterparent.com
SUMMARY:Playgroup Pals
DESCRIPTION:
URL:https://bluewaterparent.com/event/playgroup-pals-2/2029-09-14/
LOCATION:Ira Township Library\, 7013 Meldrum Rd\, Ira Township\, Michigan\, 48023\, United States
CATEGORIES:Playgroups
END:VEVENT
BEGIN:VEVENT
DTSTART;TZID=America/New_York:20290914T150000
DTEND;TZID=America/New_York:20290914T163000
DTSTAMP:20260425T121848
CREATED:20260101T204005Z
LAST-MODIFIED:20260103T023339Z
UID:10021701-1884092400-1884097800@bluewaterparent.com
SUMMARY:Friday Game Zone
DESCRIPTION:
URL:https://bluewaterparent.com/event/friday-game-zone/2029-09-14/
LOCATION:Ira Township Library\, 7013 Meldrum Rd\, Ira Township\, Michigan\, 48023\, United States
CATEGORIES:Free
END:VEVENT
BEGIN:VEVENT
DTSTART;TZID=America/New_York:20290917T100000
DTEND;TZID=America/New_York:20290917T110000
DTSTAMP:20260425T121848
CREATED:20260101T192653Z
LAST-MODIFIED:20260307T025320Z
UID:10024528-1884333600-1884337200@bluewaterparent.com
SUMMARY:Storytime - St. Clair
DESCRIPTION:From SCCLS – Join us for a fun and educational blend of stories\, crafts\, movement activities\, and songs.
URL:https://bluewaterparent.com/event/storytime-st-clair/2029-09-17/
LOCATION:St. Clair Library\, 310 S. 2nd Street\, St. Clair\, MI
CATEGORIES:Free,Playgroups
END:VEVENT
BEGIN:VEVENT
DTSTART;TZID=America/New_York:20290917T100000
DTEND;TZID=America/New_York:20290917T110000
DTSTAMP:20260425T121848
CREATED:20260125T194928Z
LAST-MODIFIED:20260125T194929Z
UID:10017637-1884333600-1884337200@bluewaterparent.com
SUMMARY:Storytime - Marysville
DESCRIPTION:From SCCLS – Preschoolers and their adults: Join us at the library for a happy blend of stories\, rhymes\, music and movement\, followed by a creative activity time.
URL:https://bluewaterparent.com/event/storytime-marysville-3/2029-09-17/
LOCATION:Marysville Library\, 1175 Delaware\, Marysville\, MI
CATEGORIES:Free,Playgroups
END:VEVENT
END:VCALENDAR