BEGIN:VCALENDAR
VERSION:2.0
PRODID:-//BlueWaterParent.com - ECPv6.15.20//NONSGML v1.0//EN
CALSCALE:GREGORIAN
METHOD:PUBLISH
X-WR-CALNAME:BlueWaterParent.com
X-ORIGINAL-URL:https://bluewaterparent.com
X-WR-CALDESC:Events for BlueWaterParent.com
REFRESH-INTERVAL;VALUE=DURATION:PT1H
X-Robots-Tag:noindex
X-PUBLISHED-TTL:PT1H
BEGIN:VTIMEZONE
TZID:America/New_York
BEGIN:DAYLIGHT
TZOFFSETFROM:-0500
TZOFFSETTO:-0400
TZNAME:EDT
DTSTART:20290311T070000
END:DAYLIGHT
BEGIN:STANDARD
TZOFFSETFROM:-0400
TZOFFSETTO:-0500
TZNAME:EST
DTSTART:20291104T060000
END:STANDARD
BEGIN:DAYLIGHT
TZOFFSETFROM:-0500
TZOFFSETTO:-0400
TZNAME:EDT
DTSTART:20300310T070000
END:DAYLIGHT
BEGIN:STANDARD
TZOFFSETFROM:-0400
TZOFFSETTO:-0500
TZNAME:EST
DTSTART:20301103T060000
END:STANDARD
BEGIN:DAYLIGHT
TZOFFSETFROM:-0500
TZOFFSETTO:-0400
TZNAME:EDT
DTSTART:20310309T070000
END:DAYLIGHT
BEGIN:STANDARD
TZOFFSETFROM:-0400
TZOFFSETTO:-0500
TZNAME:EST
DTSTART:20311102T060000
END:STANDARD
END:VTIMEZONE
BEGIN:VEVENT
DTSTART;TZID=America/New_York:20300307T171500
DTEND;TZID=America/New_York:20300307T174500
DTSTAMP:20260425T074419
CREATED:20260328T183605Z
LAST-MODIFIED:20260328T183607Z
UID:10024871-1899134100-1899135900@bluewaterparent.com
SUMMARY:Little House on the Prairie Book Club for Kids
DESCRIPTION:  \n 
URL:https://bluewaterparent.com/event/little-house-on-the-prairie-book-club-for-kids-2-3/2030-03-07/
LOCATION:Capac Library\, 111 N Main St\, Capac\, MI\, 48014\, United States
CATEGORIES:Free
END:VEVENT
BEGIN:VEVENT
DTSTART;TZID=America/New_York:20300308T080000
DTEND;TZID=America/New_York:20300308T170000
DTSTAMP:20260425T074419
CREATED:20260419T012510Z
LAST-MODIFIED:20260419T012510Z
UID:10026793-1899187200-1899219600@bluewaterparent.com
SUMMARY:Discovery Lab for Littles
DESCRIPTION:This event is included with admission.
URL:https://bluewaterparent.com/event/discovery-lab-for-littles/2030-03-08/
LOCATION:Discovery City Children’s Museum\, 317 Grand River Avenue\, Port huron\, MI\, 48060
END:VEVENT
BEGIN:VEVENT
DTSTART;TZID=America/New_York:20300308T100000
DTEND;TZID=America/New_York:20300308T104500
DTSTAMP:20260425T074419
CREATED:20260101T202520Z
LAST-MODIFIED:20260131T171318Z
UID:10023457-1899194400-1899197100@bluewaterparent.com
SUMMARY:Family Storytime - Memphis
DESCRIPTION:
URL:https://bluewaterparent.com/event/family-storytime-capac-2-2/2030-03-08/
LOCATION:Memphis Library\, 34830 Potter St\, Memphis\, MI\, 48041\, United States
CATEGORIES:Playgroups
END:VEVENT
BEGIN:VEVENT
DTSTART;TZID=America/New_York:20300308T100000
DTEND;TZID=America/New_York:20300308T110000
DTSTAMP:20260425T074419
CREATED:20260419T003829Z
LAST-MODIFIED:20260419T003829Z
UID:10026326-1899194400-1899198000@bluewaterparent.com
SUMMARY:Storytime - Port Huron
DESCRIPTION:
URL:https://bluewaterparent.com/event/storytime-port-huron-2/2030-03-08/
LOCATION:Main Library\, 210 McMorran Blvd\, Port Huron\, MI\, 48060\, United States
CATEGORIES:Playgroups
END:VEVENT
BEGIN:VEVENT
DTSTART;TZID=America/New_York:20300308T110000
DTEND;TZID=America/New_York:20300308T120000
DTSTAMP:20260425T074419
CREATED:20260101T164906Z
LAST-MODIFIED:20260101T171615Z
UID:10017139-1899198000-1899201600@bluewaterparent.com
SUMMARY:Playgroup Pals
DESCRIPTION:
URL:https://bluewaterparent.com/event/playgroup-pals-2/2030-03-08/
LOCATION:Ira Township Library\, 7013 Meldrum Rd\, Ira Township\, Michigan\, 48023\, United States
CATEGORIES:Playgroups
END:VEVENT
BEGIN:VEVENT
DTSTART;TZID=America/New_York:20300311T100000
DTEND;TZID=America/New_York:20300311T110000
DTSTAMP:20260425T074419
CREATED:20260101T192653Z
LAST-MODIFIED:20260307T025320Z
UID:10024553-1899453600-1899457200@bluewaterparent.com
SUMMARY:Storytime - St. Clair
DESCRIPTION:From SCCLS – Join us for a fun and educational blend of stories\, crafts\, movement activities\, and songs.
URL:https://bluewaterparent.com/event/storytime-st-clair/2030-03-11/
LOCATION:St. Clair Library\, 310 S. 2nd Street\, St. Clair\, MI
CATEGORIES:Free,Playgroups
END:VEVENT
BEGIN:VEVENT
DTSTART;TZID=America/New_York:20300311T100000
DTEND;TZID=America/New_York:20300311T110000
DTSTAMP:20260425T074419
CREATED:20260125T194928Z
LAST-MODIFIED:20260125T194929Z
UID:10017662-1899453600-1899457200@bluewaterparent.com
SUMMARY:Storytime - Marysville
DESCRIPTION:From SCCLS – Preschoolers and their adults: Join us at the library for a happy blend of stories\, rhymes\, music and movement\, followed by a creative activity time.
URL:https://bluewaterparent.com/event/storytime-marysville-3/2030-03-11/
LOCATION:Marysville Library\, 1175 Delaware\, Marysville\, MI
CATEGORIES:Free,Playgroups
END:VEVENT
BEGIN:VEVENT
DTSTART;TZID=America/New_York:20300311T100000
DTEND;TZID=America/New_York:20300311T110000
DTSTAMP:20260425T074419
CREATED:20260307T142323Z
LAST-MODIFIED:20260307T142325Z
UID:10017401-1899453600-1899457200@bluewaterparent.com
SUMMARY:Storytime - Yale
DESCRIPTION:
URL:https://bluewaterparent.com/event/storytime-yale-2-2-2/2030-03-11/
LOCATION:Yale Library\, 2 Jones St\, Yale\, MI\, 48097\, United States
CATEGORIES:Free,Playgroups
END:VEVENT
BEGIN:VEVENT
DTSTART;TZID=America/New_York:20300311T103000
DTEND;TZID=America/New_York:20300311T110000
DTSTAMP:20260425T074419
CREATED:20260401T010404Z
LAST-MODIFIED:20260401T010407Z
UID:10025166-1899455400-1899457200@bluewaterparent.com
SUMMARY:Storytime - Burtchville
DESCRIPTION:
URL:https://bluewaterparent.com/event/storytime-burtchville-3-2/2030-03-11/
LOCATION:Burtchville Library\, 7093 2nd St\, Lakeport\, MI\, 48059\, United States
CATEGORIES:Free,Playgroups
END:VEVENT
BEGIN:VEVENT
DTSTART;TZID=America/New_York:20300311T103000
DTEND;TZID=America/New_York:20300311T113000
DTSTAMP:20260425T074419
CREATED:20260321T165751Z
LAST-MODIFIED:20260321T165752Z
UID:10024767-1899455400-1899459000@bluewaterparent.com
SUMMARY:Storytime - Marine City
DESCRIPTION:From SCCLS – Preschoolers and their adults join us at the library for a happy blend of stories and activities.
URL:https://bluewaterparent.com/event/storytime-marine-city-2-2/2030-03-11/
LOCATION:Marine City Library\, 300 S Parker St\, Marine City\, MI\, 48039\, United States
CATEGORIES:Free,Playgroups
END:VEVENT
BEGIN:VEVENT
DTSTART;TZID=America/New_York:20300311T160000
DTEND;TZID=America/New_York:20300311T180000
DTSTAMP:20260425T074419
CREATED:20260101T211427Z
LAST-MODIFIED:20260101T211427Z
UID:10021082-1899475200-1899482400@bluewaterparent.com
SUMMARY:Teen Scene
DESCRIPTION:Ages 13-18.
URL:https://bluewaterparent.com/event/teen-scene/2030-03-11/
LOCATION:Capac Library\, 111 N Main St\, Capac\, MI\, 48014\, United States
CATEGORIES:Teens
END:VEVENT
BEGIN:VEVENT
DTSTART;TZID=America/New_York:20300312T100000
DTEND;TZID=America/New_York:20300312T103000
DTSTAMP:20260425T074419
CREATED:20260418T235804Z
LAST-MODIFIED:20260419T000903Z
UID:10025544-1899540000-1899541800@bluewaterparent.com
SUMMARY:Rhythm and Rhyme - Port Huron
DESCRIPTION:For children ages 0-3 and their caregivers.
URL:https://bluewaterparent.com/event/rhythm-and-rhyme-port-huron/2030-03-12/
LOCATION:Main Library\, 210 McMorran Blvd\, Port Huron\, MI\, 48060\, United States
CATEGORIES:Playgroups
END:VEVENT
BEGIN:VEVENT
DTSTART;TZID=America/New_York:20300312T170000
DTEND;TZID=America/New_York:20300312T193000
DTSTAMP:20260425T074419
CREATED:20260101T190453Z
LAST-MODIFIED:20260103T013002Z
UID:10021479-1899565200-1899574200@bluewaterparent.com
SUMMARY:Teen D&D Group - Algonac-Clay
DESCRIPTION:Registration requested.
URL:https://bluewaterparent.com/event/teen-dd-group-algonac-clay/2030-03-12/
LOCATION:Algonac-Clay Library\, 2011 St Clair River Dr\, Algonac\, MI\, 48001\, United States
CATEGORIES:Teens
END:VEVENT
BEGIN:VEVENT
DTSTART;TZID=America/New_York:20300312T180000
DTEND;TZID=America/New_York:20300312T183000
DTSTAMP:20260425T074419
CREATED:20260419T002148Z
LAST-MODIFIED:20260419T003520Z
UID:10025805-1899568800-1899570600@bluewaterparent.com
SUMMARY:Bedtime Storytime - Port Huron
DESCRIPTION:
URL:https://bluewaterparent.com/event/bedtime-storytime/2030-03-12/
LOCATION:Main Library\, 210 McMorran Blvd\, Port Huron\, MI\, 48060\, United States
CATEGORIES:Playgroups
END:VEVENT
BEGIN:VEVENT
DTSTART;TZID=America/New_York:20300313T080000
DTEND;TZID=America/New_York:20300313T170000
DTSTAMP:20260425T074419
CREATED:20260419T012510Z
LAST-MODIFIED:20260419T012510Z
UID:10026794-1899619200-1899651600@bluewaterparent.com
SUMMARY:Discovery Lab for Littles
DESCRIPTION:This event is included with admission.
URL:https://bluewaterparent.com/event/discovery-lab-for-littles/2030-03-13/
LOCATION:Discovery City Children’s Museum\, 317 Grand River Avenue\, Port huron\, MI\, 48060
END:VEVENT
BEGIN:VEVENT
DTSTART;TZID=America/New_York:20300313T100000
DTEND;TZID=America/New_York:20300313T110000
DTSTAMP:20260425T074419
CREATED:20260419T003159Z
LAST-MODIFIED:20260419T003555Z
UID:10026066-1899626400-1899630000@bluewaterparent.com
SUMMARY:Storytime - Port Huron
DESCRIPTION:
URL:https://bluewaterparent.com/event/storytime-port-huron/2030-03-13/
LOCATION:Main Library\, 210 McMorran Blvd\, Port Huron\, MI\, 48060\, United States
CATEGORIES:Playgroups
END:VEVENT
BEGIN:VEVENT
DTSTART;TZID=America/New_York:20300314T100000
DTEND;TZID=America/New_York:20300314T110000
DTSTAMP:20260425T074419
CREATED:20251201T004011Z
LAST-MODIFIED:20260307T021133Z
UID:10024032-1899712800-1899716400@bluewaterparent.com
SUMMARY:Great Start Playgroup - Avoca
DESCRIPTION:
URL:https://bluewaterparent.com/event/great-start-playgroup-emmett/2030-03-14/
LOCATION:Avoca Elementary\, 8751 Willow St.\, Avoca\, MI\, 48006\, United States
CATEGORIES:Playgroups
END:VEVENT
BEGIN:VEVENT
DTSTART;TZID=America/New_York:20300314T100000
DTEND;TZID=America/New_York:20300314T110000
DTSTAMP:20260425T074419
CREATED:20260307T014510Z
LAST-MODIFIED:20260307T014908Z
UID:10023771-1899712800-1899716400@bluewaterparent.com
SUMMARY:Great Start Playgroup - Marysville
DESCRIPTION:
URL:https://bluewaterparent.com/event/great-start-playgroup-marysville-3/2030-03-14/
LOCATION:St. Clair County RESA East Campus\, 1111 Delaware Avenue\, Marysville\, MI
CATEGORIES:Playgroups
END:VEVENT
BEGIN:VEVENT
DTSTART;TZID=America/New_York:20300314T110000
DTEND;TZID=America/New_York:20300314T113000
DTSTAMP:20260425T074419
CREATED:20260101T200511Z
LAST-MODIFIED:20260101T213808Z
UID:10021317-1899716400-1899718200@bluewaterparent.com
SUMMARY:Storytime - Algonac
DESCRIPTION:  \n 
URL:https://bluewaterparent.com/event/storytime-algonac-2/2030-03-14/
LOCATION:Algonac-Clay Library\, 2011 St Clair River Dr\, Algonac\, MI\, 48001\, United States
CATEGORIES:Playgroups
END:VEVENT
BEGIN:VEVENT
DTSTART;TZID=America/New_York:20300314T143000
DTEND;TZID=America/New_York:20300314T160000
DTSTAMP:20260425T074419
CREATED:20260101T200828Z
LAST-MODIFIED:20260101T200854Z
UID:10019811-1899729000-1899734400@bluewaterparent.com
SUMMARY:Teen Time - Yale
DESCRIPTION:
URL:https://bluewaterparent.com/event/teen-time-yale-3/2030-03-14/
LOCATION:Yale Library\, 2 Jones St\, Yale\, MI\, 48097\, United States
CATEGORIES:Teens
END:VEVENT
BEGIN:VEVENT
DTSTART;TZID=America/New_York:20300314T153000
DTEND;TZID=America/New_York:20300314T180000
DTSTAMP:20260425T074419
CREATED:20260101T201514Z
LAST-MODIFIED:20260103T021445Z
UID:10020164-1899732600-1899741600@bluewaterparent.com
SUMMARY:To D&D\, And Beyond!
DESCRIPTION:  \n 
URL:https://bluewaterparent.com/event/to-dd-and-beyond-3/2030-03-14/
LOCATION:Marysville Library\, 1175 Delaware\, Marysville\, MI
CATEGORIES:Teens
END:VEVENT
BEGIN:VEVENT
DTSTART;TZID=America/New_York:20300315T080000
DTEND;TZID=America/New_York:20300315T170000
DTSTAMP:20260425T074419
CREATED:20260419T012510Z
LAST-MODIFIED:20260419T012510Z
UID:10026795-1899792000-1899824400@bluewaterparent.com
SUMMARY:Discovery Lab for Littles
DESCRIPTION:This event is included with admission.
URL:https://bluewaterparent.com/event/discovery-lab-for-littles/2030-03-15/
LOCATION:Discovery City Children’s Museum\, 317 Grand River Avenue\, Port huron\, MI\, 48060
END:VEVENT
BEGIN:VEVENT
DTSTART;TZID=America/New_York:20300315T100000
DTEND;TZID=America/New_York:20300315T104500
DTSTAMP:20260425T074419
CREATED:20260101T202520Z
LAST-MODIFIED:20260131T171318Z
UID:10023458-1899799200-1899801900@bluewaterparent.com
SUMMARY:Family Storytime - Memphis
DESCRIPTION:
URL:https://bluewaterparent.com/event/family-storytime-capac-2-2/2030-03-15/
LOCATION:Memphis Library\, 34830 Potter St\, Memphis\, MI\, 48041\, United States
CATEGORIES:Playgroups
END:VEVENT
BEGIN:VEVENT
DTSTART;TZID=America/New_York:20300315T100000
DTEND;TZID=America/New_York:20300315T110000
DTSTAMP:20260425T074419
CREATED:20260419T003829Z
LAST-MODIFIED:20260419T003829Z
UID:10026327-1899799200-1899802800@bluewaterparent.com
SUMMARY:Storytime - Port Huron
DESCRIPTION:
URL:https://bluewaterparent.com/event/storytime-port-huron-2/2030-03-15/
LOCATION:Main Library\, 210 McMorran Blvd\, Port Huron\, MI\, 48060\, United States
CATEGORIES:Playgroups
END:VEVENT
BEGIN:VEVENT
DTSTART;TZID=America/New_York:20300315T110000
DTEND;TZID=America/New_York:20300315T120000
DTSTAMP:20260425T074419
CREATED:20260101T164906Z
LAST-MODIFIED:20260101T171615Z
UID:10017140-1899802800-1899806400@bluewaterparent.com
SUMMARY:Playgroup Pals
DESCRIPTION:
URL:https://bluewaterparent.com/event/playgroup-pals-2/2030-03-15/
LOCATION:Ira Township Library\, 7013 Meldrum Rd\, Ira Township\, Michigan\, 48023\, United States
CATEGORIES:Playgroups
END:VEVENT
BEGIN:VEVENT
DTSTART;TZID=America/New_York:20300315T150000
DTEND;TZID=America/New_York:20300315T163000
DTSTAMP:20260425T074419
CREATED:20260101T204005Z
LAST-MODIFIED:20260103T023339Z
UID:10021714-1899817200-1899822600@bluewaterparent.com
SUMMARY:Friday Game Zone
DESCRIPTION:
URL:https://bluewaterparent.com/event/friday-game-zone/2030-03-15/
LOCATION:Ira Township Library\, 7013 Meldrum Rd\, Ira Township\, Michigan\, 48023\, United States
CATEGORIES:Free
END:VEVENT
BEGIN:VEVENT
DTSTART;TZID=America/New_York:20300318T100000
DTEND;TZID=America/New_York:20300318T110000
DTSTAMP:20260425T074419
CREATED:20260101T192653Z
LAST-MODIFIED:20260307T025320Z
UID:10024554-1900058400-1900062000@bluewaterparent.com
SUMMARY:Storytime - St. Clair
DESCRIPTION:From SCCLS – Join us for a fun and educational blend of stories\, crafts\, movement activities\, and songs.
URL:https://bluewaterparent.com/event/storytime-st-clair/2030-03-18/
LOCATION:St. Clair Library\, 310 S. 2nd Street\, St. Clair\, MI
CATEGORIES:Free,Playgroups
END:VEVENT
BEGIN:VEVENT
DTSTART;TZID=America/New_York:20300318T100000
DTEND;TZID=America/New_York:20300318T110000
DTSTAMP:20260425T074419
CREATED:20260125T194928Z
LAST-MODIFIED:20260125T194929Z
UID:10017663-1900058400-1900062000@bluewaterparent.com
SUMMARY:Storytime - Marysville
DESCRIPTION:From SCCLS – Preschoolers and their adults: Join us at the library for a happy blend of stories\, rhymes\, music and movement\, followed by a creative activity time.
URL:https://bluewaterparent.com/event/storytime-marysville-3/2030-03-18/
LOCATION:Marysville Library\, 1175 Delaware\, Marysville\, MI
CATEGORIES:Free,Playgroups
END:VEVENT
BEGIN:VEVENT
DTSTART;TZID=America/New_York:20300318T100000
DTEND;TZID=America/New_York:20300318T110000
DTSTAMP:20260425T074419
CREATED:20260307T142323Z
LAST-MODIFIED:20260307T142325Z
UID:10017402-1900058400-1900062000@bluewaterparent.com
SUMMARY:Storytime - Yale
DESCRIPTION:
URL:https://bluewaterparent.com/event/storytime-yale-2-2-2/2030-03-18/
LOCATION:Yale Library\, 2 Jones St\, Yale\, MI\, 48097\, United States
CATEGORIES:Free,Playgroups
END:VEVENT
BEGIN:VEVENT
DTSTART;TZID=America/New_York:20300318T103000
DTEND;TZID=America/New_York:20300318T110000
DTSTAMP:20260425T074419
CREATED:20260401T010404Z
LAST-MODIFIED:20260401T010407Z
UID:10025167-1900060200-1900062000@bluewaterparent.com
SUMMARY:Storytime - Burtchville
DESCRIPTION:
URL:https://bluewaterparent.com/event/storytime-burtchville-3-2/2030-03-18/
LOCATION:Burtchville Library\, 7093 2nd St\, Lakeport\, MI\, 48059\, United States
CATEGORIES:Free,Playgroups
END:VEVENT
END:VCALENDAR