BEGIN:VCALENDAR
VERSION:2.0
PRODID:-//BlueWaterParent.com - ECPv6.15.20//NONSGML v1.0//EN
CALSCALE:GREGORIAN
METHOD:PUBLISH
X-WR-CALNAME:BlueWaterParent.com
X-ORIGINAL-URL:https://bluewaterparent.com
X-WR-CALDESC:Events for BlueWaterParent.com
REFRESH-INTERVAL;VALUE=DURATION:PT1H
X-Robots-Tag:noindex
X-PUBLISHED-TTL:PT1H
BEGIN:VTIMEZONE
TZID:America/New_York
BEGIN:DAYLIGHT
TZOFFSETFROM:-0500
TZOFFSETTO:-0400
TZNAME:EDT
DTSTART:20280312T070000
END:DAYLIGHT
BEGIN:STANDARD
TZOFFSETFROM:-0400
TZOFFSETTO:-0500
TZNAME:EST
DTSTART:20281105T060000
END:STANDARD
BEGIN:DAYLIGHT
TZOFFSETFROM:-0500
TZOFFSETTO:-0400
TZNAME:EDT
DTSTART:20290311T070000
END:DAYLIGHT
BEGIN:STANDARD
TZOFFSETFROM:-0400
TZOFFSETTO:-0500
TZNAME:EST
DTSTART:20291104T060000
END:STANDARD
BEGIN:DAYLIGHT
TZOFFSETFROM:-0500
TZOFFSETTO:-0400
TZNAME:EDT
DTSTART:20300310T070000
END:DAYLIGHT
BEGIN:STANDARD
TZOFFSETFROM:-0400
TZOFFSETTO:-0500
TZNAME:EST
DTSTART:20301103T060000
END:STANDARD
END:VTIMEZONE
BEGIN:VEVENT
DTSTART;TZID=America/New_York:20291015T100000
DTEND;TZID=America/New_York:20291015T110000
DTSTAMP:20260425T081343
CREATED:20260307T142323Z
LAST-MODIFIED:20260307T142325Z
UID:10017380-1886752800-1886756400@bluewaterparent.com
SUMMARY:Storytime - Yale
DESCRIPTION:
URL:https://bluewaterparent.com/event/storytime-yale-2-2-2/2029-10-15/
LOCATION:Yale Library\, 2 Jones St\, Yale\, MI\, 48097\, United States
CATEGORIES:Free,Playgroups
END:VEVENT
BEGIN:VEVENT
DTSTART;TZID=America/New_York:20291015T103000
DTEND;TZID=America/New_York:20291015T110000
DTSTAMP:20260425T081343
CREATED:20260401T010404Z
LAST-MODIFIED:20260401T010407Z
UID:10025145-1886754600-1886756400@bluewaterparent.com
SUMMARY:Storytime - Burtchville
DESCRIPTION:
URL:https://bluewaterparent.com/event/storytime-burtchville-3-2/2029-10-15/
LOCATION:Burtchville Library\, 7093 2nd St\, Lakeport\, MI\, 48059\, United States
CATEGORIES:Free,Playgroups
END:VEVENT
BEGIN:VEVENT
DTSTART;TZID=America/New_York:20291015T103000
DTEND;TZID=America/New_York:20291015T113000
DTSTAMP:20260425T081343
CREATED:20260321T165751Z
LAST-MODIFIED:20260321T165752Z
UID:10017902-1886754600-1886758200@bluewaterparent.com
SUMMARY:Storytime - Marine City
DESCRIPTION:From SCCLS – Preschoolers and their adults join us at the library for a happy blend of stories and activities.
URL:https://bluewaterparent.com/event/storytime-marine-city-2-2/2029-10-15/
LOCATION:Marine City Library\, 300 S Parker St\, Marine City\, MI\, 48039\, United States
CATEGORIES:Free,Playgroups
END:VEVENT
BEGIN:VEVENT
DTSTART;TZID=America/New_York:20291016T100000
DTEND;TZID=America/New_York:20291016T103000
DTSTAMP:20260425T081343
CREATED:20260418T235804Z
LAST-MODIFIED:20260419T000903Z
UID:10025523-1886839200-1886841000@bluewaterparent.com
SUMMARY:Rhythm and Rhyme - Port Huron
DESCRIPTION:For children ages 0-3 and their caregivers.
URL:https://bluewaterparent.com/event/rhythm-and-rhyme-port-huron/2029-10-16/
LOCATION:Main Library\, 210 McMorran Blvd\, Port Huron\, MI\, 48060\, United States
CATEGORIES:Playgroups
END:VEVENT
BEGIN:VEVENT
DTSTART;TZID=America/New_York:20291016T180000
DTEND;TZID=America/New_York:20291016T183000
DTSTAMP:20260425T081343
CREATED:20260419T002148Z
LAST-MODIFIED:20260419T003520Z
UID:10025784-1886868000-1886869800@bluewaterparent.com
SUMMARY:Bedtime Storytime - Port Huron
DESCRIPTION:
URL:https://bluewaterparent.com/event/bedtime-storytime/2029-10-16/
LOCATION:Main Library\, 210 McMorran Blvd\, Port Huron\, MI\, 48060\, United States
CATEGORIES:Playgroups
END:VEVENT
BEGIN:VEVENT
DTSTART;TZID=America/New_York:20291017T080000
DTEND;TZID=America/New_York:20291017T170000
DTSTAMP:20260425T081343
CREATED:20260419T012510Z
LAST-MODIFIED:20260419T012510Z
UID:10026752-1886918400-1886950800@bluewaterparent.com
SUMMARY:Discovery Lab for Littles
DESCRIPTION:This event is included with admission.
URL:https://bluewaterparent.com/event/discovery-lab-for-littles/2029-10-17/
LOCATION:Discovery City Children’s Museum\, 317 Grand River Avenue\, Port huron\, MI\, 48060
END:VEVENT
BEGIN:VEVENT
DTSTART;TZID=America/New_York:20291017T100000
DTEND;TZID=America/New_York:20291017T110000
DTSTAMP:20260425T081343
CREATED:20260419T003159Z
LAST-MODIFIED:20260419T003555Z
UID:10026045-1886925600-1886929200@bluewaterparent.com
SUMMARY:Storytime - Port Huron
DESCRIPTION:
URL:https://bluewaterparent.com/event/storytime-port-huron/2029-10-17/
LOCATION:Main Library\, 210 McMorran Blvd\, Port Huron\, MI\, 48060\, United States
CATEGORIES:Playgroups
END:VEVENT
BEGIN:VEVENT
DTSTART;TZID=America/New_York:20291018T100000
DTEND;TZID=America/New_York:20291018T110000
DTSTAMP:20260425T081343
CREATED:20251201T004011Z
LAST-MODIFIED:20260307T021133Z
UID:10024011-1887012000-1887015600@bluewaterparent.com
SUMMARY:Great Start Playgroup - Avoca
DESCRIPTION:
URL:https://bluewaterparent.com/event/great-start-playgroup-emmett/2029-10-18/
LOCATION:Avoca Elementary\, 8751 Willow St.\, Avoca\, MI\, 48006\, United States
CATEGORIES:Playgroups
END:VEVENT
BEGIN:VEVENT
DTSTART;TZID=America/New_York:20291018T100000
DTEND;TZID=America/New_York:20291018T110000
DTSTAMP:20260425T081343
CREATED:20260307T014510Z
LAST-MODIFIED:20260307T014908Z
UID:10023750-1887012000-1887015600@bluewaterparent.com
SUMMARY:Great Start Playgroup - Marysville
DESCRIPTION:
URL:https://bluewaterparent.com/event/great-start-playgroup-marysville-3/2029-10-18/
LOCATION:St. Clair County RESA East Campus\, 1111 Delaware Avenue\, Marysville\, MI
CATEGORIES:Playgroups
END:VEVENT
BEGIN:VEVENT
DTSTART;TZID=America/New_York:20291018T110000
DTEND;TZID=America/New_York:20291018T113000
DTSTAMP:20260425T081343
CREATED:20260101T200511Z
LAST-MODIFIED:20260101T213808Z
UID:10021296-1887015600-1887017400@bluewaterparent.com
SUMMARY:Storytime - Algonac
DESCRIPTION:  \n 
URL:https://bluewaterparent.com/event/storytime-algonac-2/2029-10-18/
LOCATION:Algonac-Clay Library\, 2011 St Clair River Dr\, Algonac\, MI\, 48001\, United States
CATEGORIES:Playgroups
END:VEVENT
BEGIN:VEVENT
DTSTART;TZID=America/New_York:20291018T143000
DTEND;TZID=America/New_York:20291018T160000
DTSTAMP:20260425T081343
CREATED:20260101T200828Z
LAST-MODIFIED:20260101T200854Z
UID:10019790-1887028200-1887033600@bluewaterparent.com
SUMMARY:Teen Time - Yale
DESCRIPTION:
URL:https://bluewaterparent.com/event/teen-time-yale-3/2029-10-18/
LOCATION:Yale Library\, 2 Jones St\, Yale\, MI\, 48097\, United States
CATEGORIES:Teens
END:VEVENT
BEGIN:VEVENT
DTSTART;TZID=America/New_York:20291018T171500
DTEND;TZID=America/New_York:20291018T174500
DTSTAMP:20260425T081343
CREATED:20260328T183605Z
LAST-MODIFIED:20260328T183607Z
UID:10022951-1887038100-1887039900@bluewaterparent.com
SUMMARY:Little House on the Prairie Book Club for Kids
DESCRIPTION:  \n 
URL:https://bluewaterparent.com/event/little-house-on-the-prairie-book-club-for-kids-2-3/2029-10-18/
LOCATION:Capac Library\, 111 N Main St\, Capac\, MI\, 48014\, United States
CATEGORIES:Free
END:VEVENT
BEGIN:VEVENT
DTSTART;TZID=America/New_York:20291019T080000
DTEND;TZID=America/New_York:20291019T170000
DTSTAMP:20260425T081343
CREATED:20260419T012510Z
LAST-MODIFIED:20260419T012510Z
UID:10026753-1887091200-1887123600@bluewaterparent.com
SUMMARY:Discovery Lab for Littles
DESCRIPTION:This event is included with admission.
URL:https://bluewaterparent.com/event/discovery-lab-for-littles/2029-10-19/
LOCATION:Discovery City Children’s Museum\, 317 Grand River Avenue\, Port huron\, MI\, 48060
END:VEVENT
BEGIN:VEVENT
DTSTART;TZID=America/New_York:20291019T100000
DTEND;TZID=America/New_York:20291019T104500
DTSTAMP:20260425T081343
CREATED:20260101T202520Z
LAST-MODIFIED:20260131T171318Z
UID:10023437-1887098400-1887101100@bluewaterparent.com
SUMMARY:Family Storytime - Memphis
DESCRIPTION:
URL:https://bluewaterparent.com/event/family-storytime-capac-2-2/2029-10-19/
LOCATION:Memphis Library\, 34830 Potter St\, Memphis\, MI\, 48041\, United States
CATEGORIES:Playgroups
END:VEVENT
BEGIN:VEVENT
DTSTART;TZID=America/New_York:20291019T100000
DTEND;TZID=America/New_York:20291019T110000
DTSTAMP:20260425T081343
CREATED:20260419T003829Z
LAST-MODIFIED:20260419T003829Z
UID:10026306-1887098400-1887102000@bluewaterparent.com
SUMMARY:Storytime - Port Huron
DESCRIPTION:
URL:https://bluewaterparent.com/event/storytime-port-huron-2/2029-10-19/
LOCATION:Main Library\, 210 McMorran Blvd\, Port Huron\, MI\, 48060\, United States
CATEGORIES:Playgroups
END:VEVENT
BEGIN:VEVENT
DTSTART;TZID=America/New_York:20291019T110000
DTEND;TZID=America/New_York:20291019T120000
DTSTAMP:20260425T081343
CREATED:20260101T164906Z
LAST-MODIFIED:20260101T171615Z
UID:10017119-1887102000-1887105600@bluewaterparent.com
SUMMARY:Playgroup Pals
DESCRIPTION:
URL:https://bluewaterparent.com/event/playgroup-pals-2/2029-10-19/
LOCATION:Ira Township Library\, 7013 Meldrum Rd\, Ira Township\, Michigan\, 48023\, United States
CATEGORIES:Playgroups
END:VEVENT
BEGIN:VEVENT
DTSTART;TZID=America/New_York:20291022T100000
DTEND;TZID=America/New_York:20291022T110000
DTSTAMP:20260425T081343
CREATED:20260101T192653Z
LAST-MODIFIED:20260307T025320Z
UID:10024533-1887357600-1887361200@bluewaterparent.com
SUMMARY:Storytime - St. Clair
DESCRIPTION:From SCCLS – Join us for a fun and educational blend of stories\, crafts\, movement activities\, and songs.
URL:https://bluewaterparent.com/event/storytime-st-clair/2029-10-22/
LOCATION:St. Clair Library\, 310 S. 2nd Street\, St. Clair\, MI
CATEGORIES:Free,Playgroups
END:VEVENT
BEGIN:VEVENT
DTSTART;TZID=America/New_York:20291022T100000
DTEND;TZID=America/New_York:20291022T110000
DTSTAMP:20260425T081343
CREATED:20260125T194928Z
LAST-MODIFIED:20260125T194929Z
UID:10017642-1887357600-1887361200@bluewaterparent.com
SUMMARY:Storytime - Marysville
DESCRIPTION:From SCCLS – Preschoolers and their adults: Join us at the library for a happy blend of stories\, rhymes\, music and movement\, followed by a creative activity time.
URL:https://bluewaterparent.com/event/storytime-marysville-3/2029-10-22/
LOCATION:Marysville Library\, 1175 Delaware\, Marysville\, MI
CATEGORIES:Free,Playgroups
END:VEVENT
BEGIN:VEVENT
DTSTART;TZID=America/New_York:20291022T100000
DTEND;TZID=America/New_York:20291022T110000
DTSTAMP:20260425T081343
CREATED:20260307T142323Z
LAST-MODIFIED:20260307T142325Z
UID:10017381-1887357600-1887361200@bluewaterparent.com
SUMMARY:Storytime - Yale
DESCRIPTION:
URL:https://bluewaterparent.com/event/storytime-yale-2-2-2/2029-10-22/
LOCATION:Yale Library\, 2 Jones St\, Yale\, MI\, 48097\, United States
CATEGORIES:Free,Playgroups
END:VEVENT
BEGIN:VEVENT
DTSTART;TZID=America/New_York:20291022T103000
DTEND;TZID=America/New_York:20291022T110000
DTSTAMP:20260425T081343
CREATED:20260401T010404Z
LAST-MODIFIED:20260401T010407Z
UID:10025146-1887359400-1887361200@bluewaterparent.com
SUMMARY:Storytime - Burtchville
DESCRIPTION:
URL:https://bluewaterparent.com/event/storytime-burtchville-3-2/2029-10-22/
LOCATION:Burtchville Library\, 7093 2nd St\, Lakeport\, MI\, 48059\, United States
CATEGORIES:Free,Playgroups
END:VEVENT
BEGIN:VEVENT
DTSTART;TZID=America/New_York:20291022T103000
DTEND;TZID=America/New_York:20291022T113000
DTSTAMP:20260425T081343
CREATED:20260321T165751Z
LAST-MODIFIED:20260321T165752Z
UID:10024757-1887359400-1887363000@bluewaterparent.com
SUMMARY:Storytime - Marine City
DESCRIPTION:From SCCLS – Preschoolers and their adults join us at the library for a happy blend of stories and activities.
URL:https://bluewaterparent.com/event/storytime-marine-city-2-2/2029-10-22/
LOCATION:Marine City Library\, 300 S Parker St\, Marine City\, MI\, 48039\, United States
CATEGORIES:Free,Playgroups
END:VEVENT
BEGIN:VEVENT
DTSTART;TZID=America/New_York:20291023T100000
DTEND;TZID=America/New_York:20291023T103000
DTSTAMP:20260425T081343
CREATED:20260418T235804Z
LAST-MODIFIED:20260419T000903Z
UID:10025524-1887444000-1887445800@bluewaterparent.com
SUMMARY:Rhythm and Rhyme - Port Huron
DESCRIPTION:For children ages 0-3 and their caregivers.
URL:https://bluewaterparent.com/event/rhythm-and-rhyme-port-huron/2029-10-23/
LOCATION:Main Library\, 210 McMorran Blvd\, Port Huron\, MI\, 48060\, United States
CATEGORIES:Playgroups
END:VEVENT
BEGIN:VEVENT
DTSTART;TZID=America/New_York:20291023T170000
DTEND;TZID=America/New_York:20291023T193000
DTSTAMP:20260425T081343
CREATED:20260101T190453Z
LAST-MODIFIED:20260103T013002Z
UID:10021469-1887469200-1887478200@bluewaterparent.com
SUMMARY:Teen D&D Group - Algonac-Clay
DESCRIPTION:Registration requested.
URL:https://bluewaterparent.com/event/teen-dd-group-algonac-clay/2029-10-23/
LOCATION:Algonac-Clay Library\, 2011 St Clair River Dr\, Algonac\, MI\, 48001\, United States
CATEGORIES:Teens
END:VEVENT
BEGIN:VEVENT
DTSTART;TZID=America/New_York:20291023T180000
DTEND;TZID=America/New_York:20291023T183000
DTSTAMP:20260425T081343
CREATED:20260419T002148Z
LAST-MODIFIED:20260419T003520Z
UID:10025785-1887472800-1887474600@bluewaterparent.com
SUMMARY:Bedtime Storytime - Port Huron
DESCRIPTION:
URL:https://bluewaterparent.com/event/bedtime-storytime/2029-10-23/
LOCATION:Main Library\, 210 McMorran Blvd\, Port Huron\, MI\, 48060\, United States
CATEGORIES:Playgroups
END:VEVENT
BEGIN:VEVENT
DTSTART;TZID=America/New_York:20291024T080000
DTEND;TZID=America/New_York:20291024T170000
DTSTAMP:20260425T081343
CREATED:20260419T012510Z
LAST-MODIFIED:20260419T012510Z
UID:10026754-1887523200-1887555600@bluewaterparent.com
SUMMARY:Discovery Lab for Littles
DESCRIPTION:This event is included with admission.
URL:https://bluewaterparent.com/event/discovery-lab-for-littles/2029-10-24/
LOCATION:Discovery City Children’s Museum\, 317 Grand River Avenue\, Port huron\, MI\, 48060
END:VEVENT
BEGIN:VEVENT
DTSTART;TZID=America/New_York:20291024T100000
DTEND;TZID=America/New_York:20291024T110000
DTSTAMP:20260425T081343
CREATED:20260419T003159Z
LAST-MODIFIED:20260419T003555Z
UID:10026046-1887530400-1887534000@bluewaterparent.com
SUMMARY:Storytime - Port Huron
DESCRIPTION:
URL:https://bluewaterparent.com/event/storytime-port-huron/2029-10-24/
LOCATION:Main Library\, 210 McMorran Blvd\, Port Huron\, MI\, 48060\, United States
CATEGORIES:Playgroups
END:VEVENT
BEGIN:VEVENT
DTSTART;TZID=America/New_York:20291025T100000
DTEND;TZID=America/New_York:20291025T110000
DTSTAMP:20260425T081343
CREATED:20251201T004011Z
LAST-MODIFIED:20260307T021133Z
UID:10024012-1887616800-1887620400@bluewaterparent.com
SUMMARY:Great Start Playgroup - Avoca
DESCRIPTION:
URL:https://bluewaterparent.com/event/great-start-playgroup-emmett/2029-10-25/
LOCATION:Avoca Elementary\, 8751 Willow St.\, Avoca\, MI\, 48006\, United States
CATEGORIES:Playgroups
END:VEVENT
BEGIN:VEVENT
DTSTART;TZID=America/New_York:20291025T100000
DTEND;TZID=America/New_York:20291025T110000
DTSTAMP:20260425T081343
CREATED:20260307T014510Z
LAST-MODIFIED:20260307T014908Z
UID:10023751-1887616800-1887620400@bluewaterparent.com
SUMMARY:Great Start Playgroup - Marysville
DESCRIPTION:
URL:https://bluewaterparent.com/event/great-start-playgroup-marysville-3/2029-10-25/
LOCATION:St. Clair County RESA East Campus\, 1111 Delaware Avenue\, Marysville\, MI
CATEGORIES:Playgroups
END:VEVENT
BEGIN:VEVENT
DTSTART;TZID=America/New_York:20291025T110000
DTEND;TZID=America/New_York:20291025T113000
DTSTAMP:20260425T081343
CREATED:20260101T200511Z
LAST-MODIFIED:20260101T213808Z
UID:10021297-1887620400-1887622200@bluewaterparent.com
SUMMARY:Storytime - Algonac
DESCRIPTION:  \n 
URL:https://bluewaterparent.com/event/storytime-algonac-2/2029-10-25/
LOCATION:Algonac-Clay Library\, 2011 St Clair River Dr\, Algonac\, MI\, 48001\, United States
CATEGORIES:Playgroups
END:VEVENT
BEGIN:VEVENT
DTSTART;TZID=America/New_York:20291025T143000
DTEND;TZID=America/New_York:20291025T160000
DTSTAMP:20260425T081343
CREATED:20260101T200828Z
LAST-MODIFIED:20260101T200854Z
UID:10019791-1887633000-1887638400@bluewaterparent.com
SUMMARY:Teen Time - Yale
DESCRIPTION:
URL:https://bluewaterparent.com/event/teen-time-yale-3/2029-10-25/
LOCATION:Yale Library\, 2 Jones St\, Yale\, MI\, 48097\, United States
CATEGORIES:Teens
END:VEVENT
END:VCALENDAR