BEGIN:VCALENDAR
VERSION:2.0
PRODID:-//BlueWaterParent.com - ECPv6.15.20//NONSGML v1.0//EN
CALSCALE:GREGORIAN
METHOD:PUBLISH
X-WR-CALNAME:BlueWaterParent.com
X-ORIGINAL-URL:https://bluewaterparent.com
X-WR-CALDESC:Events for BlueWaterParent.com
REFRESH-INTERVAL;VALUE=DURATION:PT1H
X-Robots-Tag:noindex
X-PUBLISHED-TTL:PT1H
BEGIN:VTIMEZONE
TZID:America/New_York
BEGIN:DAYLIGHT
TZOFFSETFROM:-0500
TZOFFSETTO:-0400
TZNAME:EDT
DTSTART:20250309T070000
END:DAYLIGHT
BEGIN:STANDARD
TZOFFSETFROM:-0400
TZOFFSETTO:-0500
TZNAME:EST
DTSTART:20251102T060000
END:STANDARD
BEGIN:DAYLIGHT
TZOFFSETFROM:-0500
TZOFFSETTO:-0400
TZNAME:EDT
DTSTART:20260308T070000
END:DAYLIGHT
BEGIN:STANDARD
TZOFFSETFROM:-0400
TZOFFSETTO:-0500
TZNAME:EST
DTSTART:20261101T060000
END:STANDARD
BEGIN:DAYLIGHT
TZOFFSETFROM:-0500
TZOFFSETTO:-0400
TZNAME:EDT
DTSTART:20270314T070000
END:DAYLIGHT
BEGIN:STANDARD
TZOFFSETFROM:-0400
TZOFFSETTO:-0500
TZNAME:EST
DTSTART:20271107T060000
END:STANDARD
END:VTIMEZONE
BEGIN:VEVENT
DTSTART;TZID=America/New_York:20261120T100000
DTEND;TZID=America/New_York:20261120T110000
DTSTAMP:20260419T170151
CREATED:20260419T003829Z
LAST-MODIFIED:20260419T003829Z
UID:10026154-1795168800-1795172400@bluewaterparent.com
SUMMARY:Storytime - Port Huron
DESCRIPTION:
URL:https://bluewaterparent.com/event/storytime-port-huron-2/2026-11-20/
LOCATION:Main Library\, 210 McMorran Blvd\, Port Huron\, MI\, 48060\, United States
CATEGORIES:Playgroups
END:VEVENT
BEGIN:VEVENT
DTSTART;TZID=America/New_York:20261120T110000
DTEND;TZID=America/New_York:20261120T120000
DTSTAMP:20260419T170151
CREATED:20260101T164906Z
LAST-MODIFIED:20260101T171615Z
UID:10016967-1795172400-1795176000@bluewaterparent.com
SUMMARY:Playgroup Pals
DESCRIPTION:
URL:https://bluewaterparent.com/event/playgroup-pals-2/2026-11-20/
LOCATION:Ira Township Library\, 7013 Meldrum Rd\, Ira Township\, Michigan\, 48023\, United States
CATEGORIES:Playgroups
END:VEVENT
BEGIN:VEVENT
DTSTART;TZID=America/New_York:20261120T140000
DTEND;TZID=America/New_York:20261120T160000
DTSTAMP:20260419T170151
CREATED:20260124T195019Z
LAST-MODIFIED:20260124T195019Z
UID:10022641-1795183200-1795190400@bluewaterparent.com
SUMMARY:SCCLS Bookmobile- Dutton Estates
DESCRIPTION:1st Monday of the month: \n\nLynn Township Hall\, 13995 Yale Rd\, Yale (10 a.m. – noon)\nMiles Apartments\, 2300 Krafft Rd. Fort Gratiot (2 – 4 p.m)\n\n1st Tuesday of the month: \n\nBerlin Township Hall\, 740 Capac Rd. Allenton\, (11 a.m. – 1 p.m)\nChina Township Hall\, 4560 Indian Trail\, China\, MI 48054 (2 – 4 p.m)\n\n1st Wednesday of the month: \n\nIndian Trails Mobile Home Park\, 3650 Metcalf Rd. Burtchville Twp. (2 – 4 p.m)\n\n1st Friday of the month: \n\nPresbyterian Village of Lake Huron Woods\, 5221 Lakeshore Rd. Ft. Gratiot (10 a.m. – 2 p.m)\n\n2nd Wednesday of the month: \n\nCottrellville Township Hall\, 7008 Marsh Rd. Marine City (2 – 4 p.m)\n2nd Thursday of the month:\nPeru Village Senior Housing\, 718 Erie\, Port Huron (10 a.m. – noon)\nDesmond Village Senior Housing\, 919 7th St. Port Huron (1 – 3 p.m)\n\n3rd Wednesday of the month: \n\nBlue Water Lodge\, 2840 Keewahdin Rd. Ft. Gratiot Twp. (10 a.m. – noon)\n\n3rd Friday of the month: \n\nDutton Estates Apartments\, 1970 River Rd. St. Clair ( 2 – 4 p.m)\n\n4th Thursday of the month: \n\nVicksburg Halls\, 1100 New York Ave. Marysville ( 9 – 11 a.m)\nPalmer Park Manor\, 400 S. 3rd St.\, St. Clair (11:30 a.m. – 1:30 p.m) Algonquin Place\, 1205 St. Clair Blvd.\, Algonac (2 – 4 p.m.)
URL:https://bluewaterparent.com/event/sccls-bookmobile-dutton-estates/2026-11-20/
LOCATION:Dutton Estates\, 1970 River Road\, St. Clair\, MI
END:VEVENT
BEGIN:VEVENT
DTSTART;TZID=America/New_York:20261123T100000
DTEND;TZID=America/New_York:20261123T110000
DTSTAMP:20260419T170151
CREATED:20260101T192653Z
LAST-MODIFIED:20260307T025320Z
UID:10024381-1795428000-1795431600@bluewaterparent.com
SUMMARY:Storytime - St. Clair
DESCRIPTION:From SCCLS – Join us for a fun and educational blend of stories\, crafts\, movement activities\, and songs.
URL:https://bluewaterparent.com/event/storytime-st-clair/2026-11-23/
LOCATION:St. Clair Library\, 310 S. 2nd Street\, St. Clair\, MI
CATEGORIES:Free,Playgroups
END:VEVENT
BEGIN:VEVENT
DTSTART;TZID=America/New_York:20261123T100000
DTEND;TZID=America/New_York:20261123T110000
DTSTAMP:20260419T170151
CREATED:20260125T194928Z
LAST-MODIFIED:20260125T194929Z
UID:10017490-1795428000-1795431600@bluewaterparent.com
SUMMARY:Storytime - Marysville
DESCRIPTION:From SCCLS – Preschoolers and their adults: Join us at the library for a happy blend of stories\, rhymes\, music and movement\, followed by a creative activity time.
URL:https://bluewaterparent.com/event/storytime-marysville-3/2026-11-23/
LOCATION:Marysville Library\, 1175 Delaware\, Marysville\, MI
CATEGORIES:Free,Playgroups
END:VEVENT
BEGIN:VEVENT
DTSTART;TZID=America/New_York:20261123T100000
DTEND;TZID=America/New_York:20261123T110000
DTSTAMP:20260419T170151
CREATED:20260307T142323Z
LAST-MODIFIED:20260307T142325Z
UID:10017229-1795428000-1795431600@bluewaterparent.com
SUMMARY:Storytime - Yale
DESCRIPTION:
URL:https://bluewaterparent.com/event/storytime-yale-2-2-2/2026-11-23/
LOCATION:Yale Library\, 2 Jones St\, Yale\, MI\, 48097\, United States
CATEGORIES:Free,Playgroups
END:VEVENT
BEGIN:VEVENT
DTSTART;TZID=America/New_York:20261123T103000
DTEND;TZID=America/New_York:20261123T110000
DTSTAMP:20260419T170151
CREATED:20260401T010404Z
LAST-MODIFIED:20260401T010407Z
UID:10024994-1795429800-1795431600@bluewaterparent.com
SUMMARY:Storytime - Burtchville
DESCRIPTION:
URL:https://bluewaterparent.com/event/storytime-burtchville-3-2/2026-11-23/
LOCATION:Burtchville Library\, 7093 2nd St\, Lakeport\, MI\, 48059\, United States
CATEGORIES:Free,Playgroups
END:VEVENT
BEGIN:VEVENT
DTSTART;TZID=America/New_York:20261123T103000
DTEND;TZID=America/New_York:20261123T113000
DTSTAMP:20260419T170151
CREATED:20260321T165751Z
LAST-MODIFIED:20260321T165752Z
UID:10024681-1795429800-1795433400@bluewaterparent.com
SUMMARY:Storytime - Marine City
DESCRIPTION:From SCCLS – Preschoolers and their adults join us at the library for a happy blend of stories and activities.
URL:https://bluewaterparent.com/event/storytime-marine-city-2-2/2026-11-23/
LOCATION:Marine City Library\, 300 S Parker St\, Marine City\, MI\, 48039\, United States
CATEGORIES:Free,Playgroups
END:VEVENT
BEGIN:VEVENT
DTSTART;TZID=America/New_York:20261124T100000
DTEND;TZID=America/New_York:20261124T103000
DTSTAMP:20260419T170151
CREATED:20260418T235804Z
LAST-MODIFIED:20260419T000903Z
UID:10025372-1795514400-1795516200@bluewaterparent.com
SUMMARY:Rhythm and Rhyme - Port Huron
DESCRIPTION:For children ages 0-3 and their caregivers.
URL:https://bluewaterparent.com/event/rhythm-and-rhyme-port-huron/2026-11-24/
LOCATION:Main Library\, 210 McMorran Blvd\, Port Huron\, MI\, 48060\, United States
CATEGORIES:Playgroups
END:VEVENT
BEGIN:VEVENT
DTSTART;TZID=America/New_York:20261124T170000
DTEND;TZID=America/New_York:20261124T193000
DTSTAMP:20260419T170151
CREATED:20260101T190453Z
LAST-MODIFIED:20260103T013002Z
UID:10021393-1795539600-1795548600@bluewaterparent.com
SUMMARY:Teen D&D Group - Algonac-Clay
DESCRIPTION:Registration requested.
URL:https://bluewaterparent.com/event/teen-dd-group-algonac-clay/2026-11-24/
LOCATION:Algonac-Clay Library\, 2011 St Clair River Dr\, Algonac\, MI\, 48001\, United States
CATEGORIES:Teens
END:VEVENT
BEGIN:VEVENT
DTSTART;TZID=America/New_York:20261124T180000
DTEND;TZID=America/New_York:20261124T183000
DTSTAMP:20260419T170151
CREATED:20260419T002148Z
LAST-MODIFIED:20260419T003520Z
UID:10025633-1795543200-1795545000@bluewaterparent.com
SUMMARY:Bedtime Storytime - Port Huron
DESCRIPTION:
URL:https://bluewaterparent.com/event/bedtime-storytime/2026-11-24/
LOCATION:Main Library\, 210 McMorran Blvd\, Port Huron\, MI\, 48060\, United States
CATEGORIES:Playgroups
END:VEVENT
BEGIN:VEVENT
DTSTART;TZID=America/New_York:20261125T080000
DTEND;TZID=America/New_York:20261125T170000
DTSTAMP:20260419T170151
CREATED:20260419T012510Z
LAST-MODIFIED:20260419T012510Z
UID:10026450-1795593600-1795626000@bluewaterparent.com
SUMMARY:Discovery Lab for Littles
DESCRIPTION:This event is included with admission.
URL:https://bluewaterparent.com/event/discovery-lab-for-littles/2026-11-25/
LOCATION:Discovery City Children’s Museum\, 317 Grand River Avenue\, Port huron\, MI\, 48060
END:VEVENT
BEGIN:VEVENT
DTSTART;TZID=America/New_York:20261125T100000
DTEND;TZID=America/New_York:20261125T110000
DTSTAMP:20260419T170151
CREATED:20260419T003159Z
LAST-MODIFIED:20260419T003555Z
UID:10025894-1795600800-1795604400@bluewaterparent.com
SUMMARY:Storytime - Port Huron
DESCRIPTION:
URL:https://bluewaterparent.com/event/storytime-port-huron/2026-11-25/
LOCATION:Main Library\, 210 McMorran Blvd\, Port Huron\, MI\, 48060\, United States
CATEGORIES:Playgroups
END:VEVENT
BEGIN:VEVENT
DTSTART;TZID=America/New_York:20261126T090000
DTEND;TZID=America/New_York:20261126T110000
DTSTAMP:20260419T170151
CREATED:20260124T195204Z
LAST-MODIFIED:20260124T195204Z
UID:10022664-1795683600-1795690800@bluewaterparent.com
SUMMARY:SCCLS Bookmobile- Vicksburg Hall
DESCRIPTION:1st Monday of the month: \n\nLynn Township Hall\, 13995 Yale Rd\, Yale (10 a.m. – noon)\nMiles Apartments\, 2300 Krafft Rd. Fort Gratiot (2 – 4 p.m)\n\n1st Tuesday of the month: \n\nBerlin Township Hall\, 740 Capac Rd. Allenton\, (11 a.m. – 1 p.m)\nChina Township Hall\, 4560 Indian Trail\, China\, MI 48054 (2 – 4 p.m)\n\n1st Wednesday of the month: \n\nIndian Trails Mobile Home Park\, 3650 Metcalf Rd. Burtchville Twp. (2 – 4 p.m)\n\n1st Friday of the month: \n\nPresbyterian Village of Lake Huron Woods\, 5221 Lakeshore Rd. Ft. Gratiot (10 a.m. – 2 p.m)\n\n2nd Wednesday of the month: \n\nCottrellville Township Hall\, 7008 Marsh Rd. Marine City (2 – 4 p.m)\n2nd Thursday of the month:\nPeru Village Senior Housing\, 718 Erie\, Port Huron (10 a.m. – noon)\nDesmond Village Senior Housing\, 919 7th St. Port Huron (1 – 3 p.m)\n\n3rd Wednesday of the month: \n\nBlue Water Lodge\, 2840 Keewahdin Rd. Ft. Gratiot Twp. (10 a.m. – noon)\n\n3rd Friday of the month: \n\nDutton Estates Apartments\, 1970 River Rd. St. Clair ( 2 – 4 p.m)\n\n4th Thursday of the month: \n\nVicksburg Halls\, 1100 New York Ave. Marysville ( 9 – 11 a.m)\nPalmer Park Manor\, 400 S. 3rd St.\, St. Clair (11:30 a.m. – 1:30 p.m) Algonquin Place\, 1205 St. Clair Blvd.\, Algonac (2 – 4 p.m.)
URL:https://bluewaterparent.com/event/sccls-bookmobile-vicksburg-hall/2026-11-26/
LOCATION:Vicksburg Halls\, 1100 New York Avenue\, Marysville\, MI
END:VEVENT
BEGIN:VEVENT
DTSTART;TZID=America/New_York:20261126T100000
DTEND;TZID=America/New_York:20261126T110000
DTSTAMP:20260419T170151
CREATED:20251201T004011Z
LAST-MODIFIED:20260307T021133Z
UID:10023860-1795687200-1795690800@bluewaterparent.com
SUMMARY:Great Start Playgroup - Avoca
DESCRIPTION:
URL:https://bluewaterparent.com/event/great-start-playgroup-emmett/2026-11-26/
LOCATION:Avoca Elementary\, 8751 Willow St.\, Avoca\, MI\, 48006\, United States
CATEGORIES:Playgroups
END:VEVENT
BEGIN:VEVENT
DTSTART;TZID=America/New_York:20261126T100000
DTEND;TZID=America/New_York:20261126T110000
DTSTAMP:20260419T170151
CREATED:20260307T014510Z
LAST-MODIFIED:20260307T014908Z
UID:10023599-1795687200-1795690800@bluewaterparent.com
SUMMARY:Great Start Playgroup - Marysville
DESCRIPTION:
URL:https://bluewaterparent.com/event/great-start-playgroup-marysville-3/2026-11-26/
LOCATION:St. Clair County RESA East Campus\, 1111 Delaware Avenue\, Marysville\, MI
CATEGORIES:Playgroups
END:VEVENT
BEGIN:VEVENT
DTSTART;TZID=America/New_York:20261126T110000
DTEND;TZID=America/New_York:20261126T113000
DTSTAMP:20260419T170151
CREATED:20260101T200511Z
LAST-MODIFIED:20260101T213808Z
UID:10021145-1795690800-1795692600@bluewaterparent.com
SUMMARY:Storytime - Algonac
DESCRIPTION:  \n 
URL:https://bluewaterparent.com/event/storytime-algonac-2/2026-11-26/
LOCATION:Algonac-Clay Library\, 2011 St Clair River Dr\, Algonac\, MI\, 48001\, United States
CATEGORIES:Playgroups
END:VEVENT
BEGIN:VEVENT
DTSTART;TZID=America/New_York:20261126T140000
DTEND;TZID=America/New_York:20261126T160000
DTSTAMP:20260419T170151
CREATED:20260124T195445Z
LAST-MODIFIED:20260124T195445Z
UID:10022697-1795701600-1795708800@bluewaterparent.com
SUMMARY:SCCLS Bookmobile- Palmer Park Manor Algonac
DESCRIPTION:1st Monday of the month: \n\nLynn Township Hall\, 13995 Yale Rd\, Yale (10 a.m. – noon)\nMiles Apartments\, 2300 Krafft Rd. Fort Gratiot (2 – 4 p.m)\n\n1st Tuesday of the month: \n\nBerlin Township Hall\, 740 Capac Rd. Allenton\, (11 a.m. – 1 p.m)\nChina Township Hall\, 4560 Indian Trail\, China\, MI 48054 (2 – 4 p.m)\n\n1st Wednesday of the month: \n\nIndian Trails Mobile Home Park\, 3650 Metcalf Rd. Burtchville Twp. (2 – 4 p.m)\n\n1st Friday of the month: \n\nPresbyterian Village of Lake Huron Woods\, 5221 Lakeshore Rd. Ft. Gratiot (10 a.m. – 2 p.m)\n\n2nd Wednesday of the month: \n\nCottrellville Township Hall\, 7008 Marsh Rd. Marine City (2 – 4 p.m)\n2nd Thursday of the month:\nPeru Village Senior Housing\, 718 Erie\, Port Huron (10 a.m. – noon)\nDesmond Village Senior Housing\, 919 7th St. Port Huron (1 – 3 p.m)\n\n3rd Wednesday of the month: \n\nBlue Water Lodge\, 2840 Keewahdin Rd. Ft. Gratiot Twp. (10 a.m. – noon)\n\n3rd Friday of the month: \n\nDutton Estates Apartments\, 1970 River Rd. St. Clair ( 2 – 4 p.m)\n\n4th Thursday of the month: \n\nVicksburg Halls\, 1100 New York Ave. Marysville ( 9 – 11 a.m)\nPalmer Park Manor\, 400 S. 3rd St.\, St. Clair (11:30 a.m. – 1:30 p.m) Algonquin Place\, 1205 St. Clair Blvd.\, Algonac (2 – 4 p.m.)
URL:https://bluewaterparent.com/event/sccls-bookmobile-palmer-park-manor-algonac/2026-11-26/
LOCATION:Palmer Park Manor\, 1205 St\, Clair Blvd\, Algonac\, MI
END:VEVENT
BEGIN:VEVENT
DTSTART;TZID=America/New_York:20261126T143000
DTEND;TZID=America/New_York:20261126T160000
DTSTAMP:20260419T170151
CREATED:20260101T200828Z
LAST-MODIFIED:20260101T200854Z
UID:10019639-1795703400-1795708800@bluewaterparent.com
SUMMARY:Teen Time - Yale
DESCRIPTION:
URL:https://bluewaterparent.com/event/teen-time-yale-3/2026-11-26/
LOCATION:Yale Library\, 2 Jones St\, Yale\, MI\, 48097\, United States
CATEGORIES:Teens
END:VEVENT
BEGIN:VEVENT
DTSTART;TZID=America/New_York:20261126T153000
DTEND;TZID=America/New_York:20261126T180000
DTSTAMP:20260419T170151
CREATED:20260101T201514Z
LAST-MODIFIED:20260103T021445Z
UID:10021521-1795707000-1795716000@bluewaterparent.com
SUMMARY:To D&D\, And Beyond!
DESCRIPTION:  \n 
URL:https://bluewaterparent.com/event/to-dd-and-beyond-3/2026-11-26/
LOCATION:Marysville Library\, 1175 Delaware\, Marysville\, MI
CATEGORIES:Teens
END:VEVENT
BEGIN:VEVENT
DTSTART;TZID=America/New_York:20261127T080000
DTEND;TZID=America/New_York:20261127T170000
DTSTAMP:20260419T170151
CREATED:20260419T012510Z
LAST-MODIFIED:20260419T012510Z
UID:10026451-1795766400-1795798800@bluewaterparent.com
SUMMARY:Discovery Lab for Littles
DESCRIPTION:This event is included with admission.
URL:https://bluewaterparent.com/event/discovery-lab-for-littles/2026-11-27/
LOCATION:Discovery City Children’s Museum\, 317 Grand River Avenue\, Port huron\, MI\, 48060
END:VEVENT
BEGIN:VEVENT
DTSTART;TZID=America/New_York:20261127T090000
DTEND;TZID=America/New_York:20261127T160000
DTSTAMP:20260419T170151
CREATED:20260120T182826Z
LAST-MODIFIED:20260120T182826Z
UID:10022294-1795770000-1795795200@bluewaterparent.com
SUMMARY:Beatrice Thornton Student Art Exhibit
DESCRIPTION:Local Student Art on Display at SC4’s Beatrice Thornton Exhibition
URL:https://bluewaterparent.com/event/beatrice-thornton-student-art-exhibit/2026-11-27/
LOCATION:SC4 Fine Arts Gallery\, 323 Erie\, Port Huron\, MI
CATEGORIES:Fairs and Festivals
END:VEVENT
BEGIN:VEVENT
DTSTART;TZID=America/New_York:20261127T100000
DTEND;TZID=America/New_York:20261127T104500
DTSTAMP:20260419T170151
CREATED:20260101T202520Z
LAST-MODIFIED:20260131T171318Z
UID:10023286-1795773600-1795776300@bluewaterparent.com
SUMMARY:Family Storytime - Memphis
DESCRIPTION:
URL:https://bluewaterparent.com/event/family-storytime-capac-2-2/2026-11-27/
LOCATION:Memphis Library\, 34830 Potter St\, Memphis\, MI\, 48041\, United States
CATEGORIES:Playgroups
END:VEVENT
BEGIN:VEVENT
DTSTART;TZID=America/New_York:20261127T100000
DTEND;TZID=America/New_York:20261127T110000
DTSTAMP:20260419T170151
CREATED:20260419T003829Z
LAST-MODIFIED:20260419T003829Z
UID:10026155-1795773600-1795777200@bluewaterparent.com
SUMMARY:Storytime - Port Huron
DESCRIPTION:
URL:https://bluewaterparent.com/event/storytime-port-huron-2/2026-11-27/
LOCATION:Main Library\, 210 McMorran Blvd\, Port Huron\, MI\, 48060\, United States
CATEGORIES:Playgroups
END:VEVENT
BEGIN:VEVENT
DTSTART;TZID=America/New_York:20261127T110000
DTEND;TZID=America/New_York:20261127T120000
DTSTAMP:20260419T170151
CREATED:20260101T164906Z
LAST-MODIFIED:20260101T171615Z
UID:10016968-1795777200-1795780800@bluewaterparent.com
SUMMARY:Playgroup Pals
DESCRIPTION:
URL:https://bluewaterparent.com/event/playgroup-pals-2/2026-11-27/
LOCATION:Ira Township Library\, 7013 Meldrum Rd\, Ira Township\, Michigan\, 48023\, United States
CATEGORIES:Playgroups
END:VEVENT
BEGIN:VEVENT
DTSTART;TZID=America/New_York:20261127T150000
DTEND;TZID=America/New_York:20261127T163000
DTSTAMP:20260419T170151
CREATED:20260101T204005Z
LAST-MODIFIED:20260103T023339Z
UID:10021628-1795791600-1795797000@bluewaterparent.com
SUMMARY:Friday Game Zone
DESCRIPTION:
URL:https://bluewaterparent.com/event/friday-game-zone/2026-11-27/
LOCATION:Ira Township Library\, 7013 Meldrum Rd\, Ira Township\, Michigan\, 48023\, United States
CATEGORIES:Free
END:VEVENT
BEGIN:VEVENT
DTSTART;TZID=America/New_York:20261130T100000
DTEND;TZID=America/New_York:20261130T110000
DTSTAMP:20260419T170152
CREATED:20260101T192653Z
LAST-MODIFIED:20260307T025320Z
UID:10024382-1796032800-1796036400@bluewaterparent.com
SUMMARY:Storytime - St. Clair
DESCRIPTION:From SCCLS – Join us for a fun and educational blend of stories\, crafts\, movement activities\, and songs.
URL:https://bluewaterparent.com/event/storytime-st-clair/2026-11-30/
LOCATION:St. Clair Library\, 310 S. 2nd Street\, St. Clair\, MI
CATEGORIES:Free,Playgroups
END:VEVENT
BEGIN:VEVENT
DTSTART;TZID=America/New_York:20261130T100000
DTEND;TZID=America/New_York:20261130T110000
DTSTAMP:20260419T170152
CREATED:20260125T194928Z
LAST-MODIFIED:20260125T194929Z
UID:10017491-1796032800-1796036400@bluewaterparent.com
SUMMARY:Storytime - Marysville
DESCRIPTION:From SCCLS – Preschoolers and their adults: Join us at the library for a happy blend of stories\, rhymes\, music and movement\, followed by a creative activity time.
URL:https://bluewaterparent.com/event/storytime-marysville-3/2026-11-30/
LOCATION:Marysville Library\, 1175 Delaware\, Marysville\, MI
CATEGORIES:Free,Playgroups
END:VEVENT
BEGIN:VEVENT
DTSTART;TZID=America/New_York:20261130T100000
DTEND;TZID=America/New_York:20261130T110000
DTSTAMP:20260419T170152
CREATED:20260307T142323Z
LAST-MODIFIED:20260307T142325Z
UID:10017230-1796032800-1796036400@bluewaterparent.com
SUMMARY:Storytime - Yale
DESCRIPTION:
URL:https://bluewaterparent.com/event/storytime-yale-2-2-2/2026-11-30/
LOCATION:Yale Library\, 2 Jones St\, Yale\, MI\, 48097\, United States
CATEGORIES:Free,Playgroups
END:VEVENT
BEGIN:VEVENT
DTSTART;TZID=America/New_York:20261130T103000
DTEND;TZID=America/New_York:20261130T110000
DTSTAMP:20260419T170152
CREATED:20260401T010404Z
LAST-MODIFIED:20260401T010407Z
UID:10024995-1796034600-1796036400@bluewaterparent.com
SUMMARY:Storytime - Burtchville
DESCRIPTION:
URL:https://bluewaterparent.com/event/storytime-burtchville-3-2/2026-11-30/
LOCATION:Burtchville Library\, 7093 2nd St\, Lakeport\, MI\, 48059\, United States
CATEGORIES:Free,Playgroups
END:VEVENT
END:VCALENDAR