BEGIN:VCALENDAR
VERSION:2.0
PRODID:-//BlueWaterParent.com - ECPv6.15.20//NONSGML v1.0//EN
CALSCALE:GREGORIAN
METHOD:PUBLISH
X-WR-CALNAME:BlueWaterParent.com
X-ORIGINAL-URL:https://bluewaterparent.com
X-WR-CALDESC:Events for BlueWaterParent.com
REFRESH-INTERVAL;VALUE=DURATION:PT1H
X-Robots-Tag:noindex
X-PUBLISHED-TTL:PT1H
BEGIN:VTIMEZONE
TZID:America/New_York
BEGIN:DAYLIGHT
TZOFFSETFROM:-0500
TZOFFSETTO:-0400
TZNAME:EDT
DTSTART:20270314T070000
END:DAYLIGHT
BEGIN:STANDARD
TZOFFSETFROM:-0400
TZOFFSETTO:-0500
TZNAME:EST
DTSTART:20271107T060000
END:STANDARD
BEGIN:DAYLIGHT
TZOFFSETFROM:-0500
TZOFFSETTO:-0400
TZNAME:EDT
DTSTART:20280312T070000
END:DAYLIGHT
BEGIN:STANDARD
TZOFFSETFROM:-0400
TZOFFSETTO:-0500
TZNAME:EST
DTSTART:20281105T060000
END:STANDARD
BEGIN:DAYLIGHT
TZOFFSETFROM:-0500
TZOFFSETTO:-0400
TZNAME:EDT
DTSTART:20290311T070000
END:DAYLIGHT
BEGIN:STANDARD
TZOFFSETFROM:-0400
TZOFFSETTO:-0500
TZNAME:EST
DTSTART:20291104T060000
END:STANDARD
END:VTIMEZONE
BEGIN:VEVENT
DTSTART;TZID=America/New_York:20281016T100000
DTEND;TZID=America/New_York:20281016T110000
DTSTAMP:20260423T053927
CREATED:20260101T192653Z
LAST-MODIFIED:20260307T025320Z
UID:10024480-1855303200-1855306800@bluewaterparent.com
SUMMARY:Storytime - St. Clair
DESCRIPTION:From SCCLS – Join us for a fun and educational blend of stories\, crafts\, movement activities\, and songs.
URL:https://bluewaterparent.com/event/storytime-st-clair/2028-10-16/
LOCATION:St. Clair Library\, 310 S. 2nd Street\, St. Clair\, MI
CATEGORIES:Free,Playgroups
END:VEVENT
BEGIN:VEVENT
DTSTART;TZID=America/New_York:20281016T100000
DTEND;TZID=America/New_York:20281016T110000
DTSTAMP:20260423T053927
CREATED:20260125T194928Z
LAST-MODIFIED:20260125T194929Z
UID:10017589-1855303200-1855306800@bluewaterparent.com
SUMMARY:Storytime - Marysville
DESCRIPTION:From SCCLS – Preschoolers and their adults: Join us at the library for a happy blend of stories\, rhymes\, music and movement\, followed by a creative activity time.
URL:https://bluewaterparent.com/event/storytime-marysville-3/2028-10-16/
LOCATION:Marysville Library\, 1175 Delaware\, Marysville\, MI
CATEGORIES:Free,Playgroups
END:VEVENT
BEGIN:VEVENT
DTSTART;TZID=America/New_York:20281016T100000
DTEND;TZID=America/New_York:20281016T110000
DTSTAMP:20260423T053927
CREATED:20260307T142323Z
LAST-MODIFIED:20260307T142325Z
UID:10017328-1855303200-1855306800@bluewaterparent.com
SUMMARY:Storytime - Yale
DESCRIPTION:
URL:https://bluewaterparent.com/event/storytime-yale-2-2-2/2028-10-16/
LOCATION:Yale Library\, 2 Jones St\, Yale\, MI\, 48097\, United States
CATEGORIES:Free,Playgroups
END:VEVENT
BEGIN:VEVENT
DTSTART;TZID=America/New_York:20281016T103000
DTEND;TZID=America/New_York:20281016T110000
DTSTAMP:20260423T053927
CREATED:20260401T010404Z
LAST-MODIFIED:20260401T010407Z
UID:10025093-1855305000-1855306800@bluewaterparent.com
SUMMARY:Storytime - Burtchville
DESCRIPTION:
URL:https://bluewaterparent.com/event/storytime-burtchville-3-2/2028-10-16/
LOCATION:Burtchville Library\, 7093 2nd St\, Lakeport\, MI\, 48059\, United States
CATEGORIES:Free,Playgroups
END:VEVENT
BEGIN:VEVENT
DTSTART;TZID=America/New_York:20281016T103000
DTEND;TZID=America/New_York:20281016T113000
DTSTAMP:20260423T053927
CREATED:20260321T165751Z
LAST-MODIFIED:20260321T165752Z
UID:10017850-1855305000-1855308600@bluewaterparent.com
SUMMARY:Storytime - Marine City
DESCRIPTION:From SCCLS – Preschoolers and their adults join us at the library for a happy blend of stories and activities.
URL:https://bluewaterparent.com/event/storytime-marine-city-2-2/2028-10-16/
LOCATION:Marine City Library\, 300 S Parker St\, Marine City\, MI\, 48039\, United States
CATEGORIES:Free,Playgroups
END:VEVENT
BEGIN:VEVENT
DTSTART;TZID=America/New_York:20281017T100000
DTEND;TZID=America/New_York:20281017T103000
DTSTAMP:20260423T053927
CREATED:20260418T235804Z
LAST-MODIFIED:20260419T000903Z
UID:10025471-1855389600-1855391400@bluewaterparent.com
SUMMARY:Rhythm and Rhyme - Port Huron
DESCRIPTION:For children ages 0-3 and their caregivers.
URL:https://bluewaterparent.com/event/rhythm-and-rhyme-port-huron/2028-10-17/
LOCATION:Main Library\, 210 McMorran Blvd\, Port Huron\, MI\, 48060\, United States
CATEGORIES:Playgroups
END:VEVENT
BEGIN:VEVENT
DTSTART;TZID=America/New_York:20281017T180000
DTEND;TZID=America/New_York:20281017T183000
DTSTAMP:20260423T053927
CREATED:20260419T002148Z
LAST-MODIFIED:20260419T003520Z
UID:10025732-1855418400-1855420200@bluewaterparent.com
SUMMARY:Bedtime Storytime - Port Huron
DESCRIPTION:
URL:https://bluewaterparent.com/event/bedtime-storytime/2028-10-17/
LOCATION:Main Library\, 210 McMorran Blvd\, Port Huron\, MI\, 48060\, United States
CATEGORIES:Playgroups
END:VEVENT
BEGIN:VEVENT
DTSTART;TZID=America/New_York:20281018T080000
DTEND;TZID=America/New_York:20281018T170000
DTSTAMP:20260423T053927
CREATED:20260419T012510Z
LAST-MODIFIED:20260419T012510Z
UID:10026648-1855468800-1855501200@bluewaterparent.com
SUMMARY:Discovery Lab for Littles
DESCRIPTION:This event is included with admission.
URL:https://bluewaterparent.com/event/discovery-lab-for-littles/2028-10-18/
LOCATION:Discovery City Children’s Museum\, 317 Grand River Avenue\, Port huron\, MI\, 48060
END:VEVENT
BEGIN:VEVENT
DTSTART;TZID=America/New_York:20281018T100000
DTEND;TZID=America/New_York:20281018T110000
DTSTAMP:20260423T053927
CREATED:20260419T003159Z
LAST-MODIFIED:20260419T003555Z
UID:10025993-1855476000-1855479600@bluewaterparent.com
SUMMARY:Storytime - Port Huron
DESCRIPTION:
URL:https://bluewaterparent.com/event/storytime-port-huron/2028-10-18/
LOCATION:Main Library\, 210 McMorran Blvd\, Port Huron\, MI\, 48060\, United States
CATEGORIES:Playgroups
END:VEVENT
BEGIN:VEVENT
DTSTART;TZID=America/New_York:20281019T100000
DTEND;TZID=America/New_York:20281019T110000
DTSTAMP:20260423T053927
CREATED:20251201T004011Z
LAST-MODIFIED:20260307T021133Z
UID:10023959-1855562400-1855566000@bluewaterparent.com
SUMMARY:Great Start Playgroup - Avoca
DESCRIPTION:
URL:https://bluewaterparent.com/event/great-start-playgroup-emmett/2028-10-19/
LOCATION:Avoca Elementary\, 8751 Willow St.\, Avoca\, MI\, 48006\, United States
CATEGORIES:Playgroups
END:VEVENT
BEGIN:VEVENT
DTSTART;TZID=America/New_York:20281019T100000
DTEND;TZID=America/New_York:20281019T110000
DTSTAMP:20260423T053927
CREATED:20260307T014510Z
LAST-MODIFIED:20260307T014908Z
UID:10023698-1855562400-1855566000@bluewaterparent.com
SUMMARY:Great Start Playgroup - Marysville
DESCRIPTION:
URL:https://bluewaterparent.com/event/great-start-playgroup-marysville-3/2028-10-19/
LOCATION:St. Clair County RESA East Campus\, 1111 Delaware Avenue\, Marysville\, MI
CATEGORIES:Playgroups
END:VEVENT
BEGIN:VEVENT
DTSTART;TZID=America/New_York:20281019T110000
DTEND;TZID=America/New_York:20281019T113000
DTSTAMP:20260423T053927
CREATED:20260101T200511Z
LAST-MODIFIED:20260101T213808Z
UID:10021244-1855566000-1855567800@bluewaterparent.com
SUMMARY:Storytime - Algonac
DESCRIPTION:  \n 
URL:https://bluewaterparent.com/event/storytime-algonac-2/2028-10-19/
LOCATION:Algonac-Clay Library\, 2011 St Clair River Dr\, Algonac\, MI\, 48001\, United States
CATEGORIES:Playgroups
END:VEVENT
BEGIN:VEVENT
DTSTART;TZID=America/New_York:20281019T143000
DTEND;TZID=America/New_York:20281019T160000
DTSTAMP:20260423T053927
CREATED:20260101T200828Z
LAST-MODIFIED:20260101T200854Z
UID:10019738-1855578600-1855584000@bluewaterparent.com
SUMMARY:Teen Time - Yale
DESCRIPTION:
URL:https://bluewaterparent.com/event/teen-time-yale-3/2028-10-19/
LOCATION:Yale Library\, 2 Jones St\, Yale\, MI\, 48097\, United States
CATEGORIES:Teens
END:VEVENT
BEGIN:VEVENT
DTSTART;TZID=America/New_York:20281019T171500
DTEND;TZID=America/New_York:20281019T174500
DTSTAMP:20260423T053927
CREATED:20260328T183605Z
LAST-MODIFIED:20260328T183607Z
UID:10024847-1855588500-1855590300@bluewaterparent.com
SUMMARY:Little House on the Prairie Book Club for Kids
DESCRIPTION:  \n 
URL:https://bluewaterparent.com/event/little-house-on-the-prairie-book-club-for-kids-2-3/2028-10-19/
LOCATION:Capac Library\, 111 N Main St\, Capac\, MI\, 48014\, United States
CATEGORIES:Free
END:VEVENT
BEGIN:VEVENT
DTSTART;TZID=America/New_York:20281020T080000
DTEND;TZID=America/New_York:20281020T170000
DTSTAMP:20260423T053927
CREATED:20260419T012510Z
LAST-MODIFIED:20260419T012510Z
UID:10026649-1855641600-1855674000@bluewaterparent.com
SUMMARY:Discovery Lab for Littles
DESCRIPTION:This event is included with admission.
URL:https://bluewaterparent.com/event/discovery-lab-for-littles/2028-10-20/
LOCATION:Discovery City Children’s Museum\, 317 Grand River Avenue\, Port huron\, MI\, 48060
END:VEVENT
BEGIN:VEVENT
DTSTART;TZID=America/New_York:20281020T100000
DTEND;TZID=America/New_York:20281020T104500
DTSTAMP:20260423T053927
CREATED:20260101T202520Z
LAST-MODIFIED:20260131T171318Z
UID:10023385-1855648800-1855651500@bluewaterparent.com
SUMMARY:Family Storytime - Memphis
DESCRIPTION:
URL:https://bluewaterparent.com/event/family-storytime-capac-2-2/2028-10-20/
LOCATION:Memphis Library\, 34830 Potter St\, Memphis\, MI\, 48041\, United States
CATEGORIES:Playgroups
END:VEVENT
BEGIN:VEVENT
DTSTART;TZID=America/New_York:20281020T100000
DTEND;TZID=America/New_York:20281020T110000
DTSTAMP:20260423T053927
CREATED:20260419T003829Z
LAST-MODIFIED:20260419T003829Z
UID:10026254-1855648800-1855652400@bluewaterparent.com
SUMMARY:Storytime - Port Huron
DESCRIPTION:
URL:https://bluewaterparent.com/event/storytime-port-huron-2/2028-10-20/
LOCATION:Main Library\, 210 McMorran Blvd\, Port Huron\, MI\, 48060\, United States
CATEGORIES:Playgroups
END:VEVENT
BEGIN:VEVENT
DTSTART;TZID=America/New_York:20281020T110000
DTEND;TZID=America/New_York:20281020T120000
DTSTAMP:20260423T053927
CREATED:20260101T164906Z
LAST-MODIFIED:20260101T171615Z
UID:10017067-1855652400-1855656000@bluewaterparent.com
SUMMARY:Playgroup Pals
DESCRIPTION:
URL:https://bluewaterparent.com/event/playgroup-pals-2/2028-10-20/
LOCATION:Ira Township Library\, 7013 Meldrum Rd\, Ira Township\, Michigan\, 48023\, United States
CATEGORIES:Playgroups
END:VEVENT
BEGIN:VEVENT
DTSTART;TZID=America/New_York:20281023T100000
DTEND;TZID=America/New_York:20281023T110000
DTSTAMP:20260423T053927
CREATED:20260101T192653Z
LAST-MODIFIED:20260307T025320Z
UID:10024481-1855908000-1855911600@bluewaterparent.com
SUMMARY:Storytime - St. Clair
DESCRIPTION:From SCCLS – Join us for a fun and educational blend of stories\, crafts\, movement activities\, and songs.
URL:https://bluewaterparent.com/event/storytime-st-clair/2028-10-23/
LOCATION:St. Clair Library\, 310 S. 2nd Street\, St. Clair\, MI
CATEGORIES:Free,Playgroups
END:VEVENT
BEGIN:VEVENT
DTSTART;TZID=America/New_York:20281023T100000
DTEND;TZID=America/New_York:20281023T110000
DTSTAMP:20260423T053927
CREATED:20260125T194928Z
LAST-MODIFIED:20260125T194929Z
UID:10017590-1855908000-1855911600@bluewaterparent.com
SUMMARY:Storytime - Marysville
DESCRIPTION:From SCCLS – Preschoolers and their adults: Join us at the library for a happy blend of stories\, rhymes\, music and movement\, followed by a creative activity time.
URL:https://bluewaterparent.com/event/storytime-marysville-3/2028-10-23/
LOCATION:Marysville Library\, 1175 Delaware\, Marysville\, MI
CATEGORIES:Free,Playgroups
END:VEVENT
BEGIN:VEVENT
DTSTART;TZID=America/New_York:20281023T100000
DTEND;TZID=America/New_York:20281023T110000
DTSTAMP:20260423T053927
CREATED:20260307T142323Z
LAST-MODIFIED:20260307T142325Z
UID:10017329-1855908000-1855911600@bluewaterparent.com
SUMMARY:Storytime - Yale
DESCRIPTION:
URL:https://bluewaterparent.com/event/storytime-yale-2-2-2/2028-10-23/
LOCATION:Yale Library\, 2 Jones St\, Yale\, MI\, 48097\, United States
CATEGORIES:Free,Playgroups
END:VEVENT
BEGIN:VEVENT
DTSTART;TZID=America/New_York:20281023T103000
DTEND;TZID=America/New_York:20281023T110000
DTSTAMP:20260423T053927
CREATED:20260401T010404Z
LAST-MODIFIED:20260401T010407Z
UID:10025094-1855909800-1855911600@bluewaterparent.com
SUMMARY:Storytime - Burtchville
DESCRIPTION:
URL:https://bluewaterparent.com/event/storytime-burtchville-3-2/2028-10-23/
LOCATION:Burtchville Library\, 7093 2nd St\, Lakeport\, MI\, 48059\, United States
CATEGORIES:Free,Playgroups
END:VEVENT
BEGIN:VEVENT
DTSTART;TZID=America/New_York:20281023T103000
DTEND;TZID=America/New_York:20281023T113000
DTSTAMP:20260423T053927
CREATED:20260321T165751Z
LAST-MODIFIED:20260321T165752Z
UID:10024731-1855909800-1855913400@bluewaterparent.com
SUMMARY:Storytime - Marine City
DESCRIPTION:From SCCLS – Preschoolers and their adults join us at the library for a happy blend of stories and activities.
URL:https://bluewaterparent.com/event/storytime-marine-city-2-2/2028-10-23/
LOCATION:Marine City Library\, 300 S Parker St\, Marine City\, MI\, 48039\, United States
CATEGORIES:Free,Playgroups
END:VEVENT
BEGIN:VEVENT
DTSTART;TZID=America/New_York:20281024T100000
DTEND;TZID=America/New_York:20281024T103000
DTSTAMP:20260423T053927
CREATED:20260418T235804Z
LAST-MODIFIED:20260419T000903Z
UID:10025472-1855994400-1855996200@bluewaterparent.com
SUMMARY:Rhythm and Rhyme - Port Huron
DESCRIPTION:For children ages 0-3 and their caregivers.
URL:https://bluewaterparent.com/event/rhythm-and-rhyme-port-huron/2028-10-24/
LOCATION:Main Library\, 210 McMorran Blvd\, Port Huron\, MI\, 48060\, United States
CATEGORIES:Playgroups
END:VEVENT
BEGIN:VEVENT
DTSTART;TZID=America/New_York:20281024T170000
DTEND;TZID=America/New_York:20281024T193000
DTSTAMP:20260423T053927
CREATED:20260101T190453Z
LAST-MODIFIED:20260103T013002Z
UID:10021443-1856019600-1856028600@bluewaterparent.com
SUMMARY:Teen D&D Group - Algonac-Clay
DESCRIPTION:Registration requested.
URL:https://bluewaterparent.com/event/teen-dd-group-algonac-clay/2028-10-24/
LOCATION:Algonac-Clay Library\, 2011 St Clair River Dr\, Algonac\, MI\, 48001\, United States
CATEGORIES:Teens
END:VEVENT
BEGIN:VEVENT
DTSTART;TZID=America/New_York:20281024T180000
DTEND;TZID=America/New_York:20281024T183000
DTSTAMP:20260423T053927
CREATED:20260419T002148Z
LAST-MODIFIED:20260419T003520Z
UID:10025733-1856023200-1856025000@bluewaterparent.com
SUMMARY:Bedtime Storytime - Port Huron
DESCRIPTION:
URL:https://bluewaterparent.com/event/bedtime-storytime/2028-10-24/
LOCATION:Main Library\, 210 McMorran Blvd\, Port Huron\, MI\, 48060\, United States
CATEGORIES:Playgroups
END:VEVENT
BEGIN:VEVENT
DTSTART;TZID=America/New_York:20281025T080000
DTEND;TZID=America/New_York:20281025T170000
DTSTAMP:20260423T053927
CREATED:20260419T012510Z
LAST-MODIFIED:20260419T012510Z
UID:10026650-1856073600-1856106000@bluewaterparent.com
SUMMARY:Discovery Lab for Littles
DESCRIPTION:This event is included with admission.
URL:https://bluewaterparent.com/event/discovery-lab-for-littles/2028-10-25/
LOCATION:Discovery City Children’s Museum\, 317 Grand River Avenue\, Port huron\, MI\, 48060
END:VEVENT
BEGIN:VEVENT
DTSTART;TZID=America/New_York:20281025T100000
DTEND;TZID=America/New_York:20281025T110000
DTSTAMP:20260423T053927
CREATED:20260419T003159Z
LAST-MODIFIED:20260419T003555Z
UID:10025994-1856080800-1856084400@bluewaterparent.com
SUMMARY:Storytime - Port Huron
DESCRIPTION:
URL:https://bluewaterparent.com/event/storytime-port-huron/2028-10-25/
LOCATION:Main Library\, 210 McMorran Blvd\, Port Huron\, MI\, 48060\, United States
CATEGORIES:Playgroups
END:VEVENT
BEGIN:VEVENT
DTSTART;TZID=America/New_York:20281026T100000
DTEND;TZID=America/New_York:20281026T110000
DTSTAMP:20260423T053927
CREATED:20251201T004011Z
LAST-MODIFIED:20260307T021133Z
UID:10023960-1856167200-1856170800@bluewaterparent.com
SUMMARY:Great Start Playgroup - Avoca
DESCRIPTION:
URL:https://bluewaterparent.com/event/great-start-playgroup-emmett/2028-10-26/
LOCATION:Avoca Elementary\, 8751 Willow St.\, Avoca\, MI\, 48006\, United States
CATEGORIES:Playgroups
END:VEVENT
BEGIN:VEVENT
DTSTART;TZID=America/New_York:20281026T100000
DTEND;TZID=America/New_York:20281026T110000
DTSTAMP:20260423T053927
CREATED:20260307T014510Z
LAST-MODIFIED:20260307T014908Z
UID:10023699-1856167200-1856170800@bluewaterparent.com
SUMMARY:Great Start Playgroup - Marysville
DESCRIPTION:
URL:https://bluewaterparent.com/event/great-start-playgroup-marysville-3/2028-10-26/
LOCATION:St. Clair County RESA East Campus\, 1111 Delaware Avenue\, Marysville\, MI
CATEGORIES:Playgroups
END:VEVENT
END:VCALENDAR