BEGIN:VCALENDAR
VERSION:2.0
PRODID:-//BlueWaterParent.com - ECPv6.15.20//NONSGML v1.0//EN
CALSCALE:GREGORIAN
METHOD:PUBLISH
X-ORIGINAL-URL:https://bluewaterparent.com
X-WR-CALDESC:Events for BlueWaterParent.com
REFRESH-INTERVAL;VALUE=DURATION:PT1H
X-Robots-Tag:noindex
X-PUBLISHED-TTL:PT1H
BEGIN:VTIMEZONE
TZID:America/New_York
BEGIN:DAYLIGHT
TZOFFSETFROM:-0500
TZOFFSETTO:-0400
TZNAME:EDT
DTSTART:20270314T070000
END:DAYLIGHT
BEGIN:STANDARD
TZOFFSETFROM:-0400
TZOFFSETTO:-0500
TZNAME:EST
DTSTART:20271107T060000
END:STANDARD
BEGIN:DAYLIGHT
TZOFFSETFROM:-0500
TZOFFSETTO:-0400
TZNAME:EDT
DTSTART:20280312T070000
END:DAYLIGHT
BEGIN:STANDARD
TZOFFSETFROM:-0400
TZOFFSETTO:-0500
TZNAME:EST
DTSTART:20281105T060000
END:STANDARD
BEGIN:DAYLIGHT
TZOFFSETFROM:-0500
TZOFFSETTO:-0400
TZNAME:EDT
DTSTART:20290311T070000
END:DAYLIGHT
BEGIN:STANDARD
TZOFFSETFROM:-0400
TZOFFSETTO:-0500
TZNAME:EST
DTSTART:20291104T060000
END:STANDARD
END:VTIMEZONE
BEGIN:VEVENT
DTSTART;TZID=America/New_York:20280203T100000
DTEND;TZID=America/New_York:20280203T110000
DTSTAMP:20260420T002324
CREATED:20251201T004011Z
LAST-MODIFIED:20260307T021133Z
UID:10023922-1833184800-1833188400@bluewaterparent.com
SUMMARY:Great Start Playgroup - Avoca
DESCRIPTION:
URL:https://bluewaterparent.com/event/great-start-playgroup-emmett/2028-02-03/
LOCATION:Avoca Elementary\, 8751 Willow St.\, Avoca\, MI\, 48006\, United States
CATEGORIES:Playgroups
END:VEVENT
BEGIN:VEVENT
DTSTART;TZID=America/New_York:20280203T100000
DTEND;TZID=America/New_York:20280203T110000
DTSTAMP:20260420T002324
CREATED:20260307T014510Z
LAST-MODIFIED:20260307T014908Z
UID:10023661-1833184800-1833188400@bluewaterparent.com
SUMMARY:Great Start Playgroup - Marysville
DESCRIPTION:
URL:https://bluewaterparent.com/event/great-start-playgroup-marysville-3/2028-02-03/
LOCATION:St. Clair County RESA East Campus\, 1111 Delaware Avenue\, Marysville\, MI
CATEGORIES:Playgroups
END:VEVENT
BEGIN:VEVENT
DTSTART;TZID=America/New_York:20280203T110000
DTEND;TZID=America/New_York:20280203T113000
DTSTAMP:20260420T002324
CREATED:20260101T200511Z
LAST-MODIFIED:20260101T213808Z
UID:10021207-1833188400-1833190200@bluewaterparent.com
SUMMARY:Storytime - Algonac
DESCRIPTION:  \n 
URL:https://bluewaterparent.com/event/storytime-algonac-2/2028-02-03/
LOCATION:Algonac-Clay Library\, 2011 St Clair River Dr\, Algonac\, MI\, 48001\, United States
CATEGORIES:Playgroups
END:VEVENT
BEGIN:VEVENT
DTSTART;TZID=America/New_York:20280203T143000
DTEND;TZID=America/New_York:20280203T160000
DTSTAMP:20260420T002324
CREATED:20260101T200828Z
LAST-MODIFIED:20260101T200854Z
UID:10019701-1833201000-1833206400@bluewaterparent.com
SUMMARY:Teen Time - Yale
DESCRIPTION:
URL:https://bluewaterparent.com/event/teen-time-yale-3/2028-02-03/
LOCATION:Yale Library\, 2 Jones St\, Yale\, MI\, 48097\, United States
CATEGORIES:Teens
END:VEVENT
BEGIN:VEVENT
DTSTART;TZID=America/New_York:20280203T153000
DTEND;TZID=America/New_York:20280203T180000
DTSTAMP:20260420T002324
CREATED:20260101T201514Z
LAST-MODIFIED:20260103T021445Z
UID:10021545-1833204600-1833213600@bluewaterparent.com
SUMMARY:To D&D\, And Beyond!
DESCRIPTION:  \n 
URL:https://bluewaterparent.com/event/to-dd-and-beyond-3/2028-02-03/
LOCATION:Marysville Library\, 1175 Delaware\, Marysville\, MI
CATEGORIES:Teens
END:VEVENT
BEGIN:VEVENT
DTSTART;TZID=America/New_York:20280204T080000
DTEND;TZID=America/New_York:20280204T170000
DTSTAMP:20260420T002324
CREATED:20260419T012510Z
LAST-MODIFIED:20260419T012510Z
UID:10026575-1833264000-1833296400@bluewaterparent.com
SUMMARY:Discovery Lab for Littles
DESCRIPTION:This event is included with admission.
URL:https://bluewaterparent.com/event/discovery-lab-for-littles/2028-02-04/
LOCATION:Discovery City Children’s Museum\, 317 Grand River Avenue\, Port huron\, MI\, 48060
END:VEVENT
BEGIN:VEVENT
DTSTART;TZID=America/New_York:20280204T100000
DTEND;TZID=America/New_York:20280204T104500
DTSTAMP:20260420T002324
CREATED:20260101T202520Z
LAST-MODIFIED:20260131T171318Z
UID:10023348-1833271200-1833273900@bluewaterparent.com
SUMMARY:Family Storytime - Memphis
DESCRIPTION:
URL:https://bluewaterparent.com/event/family-storytime-capac-2-2/2028-02-04/
LOCATION:Memphis Library\, 34830 Potter St\, Memphis\, MI\, 48041\, United States
CATEGORIES:Playgroups
END:VEVENT
BEGIN:VEVENT
DTSTART;TZID=America/New_York:20280204T100000
DTEND;TZID=America/New_York:20280204T110000
DTSTAMP:20260420T002324
CREATED:20260419T003829Z
LAST-MODIFIED:20260419T003829Z
UID:10026217-1833271200-1833274800@bluewaterparent.com
SUMMARY:Storytime - Port Huron
DESCRIPTION:
URL:https://bluewaterparent.com/event/storytime-port-huron-2/2028-02-04/
LOCATION:Main Library\, 210 McMorran Blvd\, Port Huron\, MI\, 48060\, United States
CATEGORIES:Playgroups
END:VEVENT
BEGIN:VEVENT
DTSTART;TZID=America/New_York:20280204T110000
DTEND;TZID=America/New_York:20280204T120000
DTSTAMP:20260420T002324
CREATED:20260101T164906Z
LAST-MODIFIED:20260101T171615Z
UID:10017030-1833274800-1833278400@bluewaterparent.com
SUMMARY:Playgroup Pals
DESCRIPTION:
URL:https://bluewaterparent.com/event/playgroup-pals-2/2028-02-04/
LOCATION:Ira Township Library\, 7013 Meldrum Rd\, Ira Township\, Michigan\, 48023\, United States
CATEGORIES:Playgroups
END:VEVENT
BEGIN:VEVENT
DTSTART;TZID=America/New_York:20280204T150000
DTEND;TZID=America/New_York:20280204T163000
DTSTAMP:20260420T002324
CREATED:20260101T204005Z
LAST-MODIFIED:20260103T023339Z
UID:10021659-1833289200-1833294600@bluewaterparent.com
SUMMARY:Friday Game Zone
DESCRIPTION:
URL:https://bluewaterparent.com/event/friday-game-zone/2028-02-04/
LOCATION:Ira Township Library\, 7013 Meldrum Rd\, Ira Township\, Michigan\, 48023\, United States
CATEGORIES:Free
END:VEVENT
BEGIN:VEVENT
DTSTART;TZID=America/New_York:20280205T130000
DTEND;TZID=America/New_York:20280205T150000
DTSTAMP:20260420T002324
CREATED:20260125T184518Z
LAST-MODIFIED:20260328T185717Z
UID:10022741-1833368400-1833375600@bluewaterparent.com
SUMMARY:LEGO Club
DESCRIPTION:
URL:https://bluewaterparent.com/event/lego-club-2-2/
LOCATION:Ira Township Library\, 7013 Meldrum Rd\, Ira Township\, Michigan\, 48023\, United States
CATEGORIES:Free
END:VEVENT
BEGIN:VEVENT
DTSTART;TZID=America/New_York:20280206T130000
DTEND;TZID=America/New_York:20280206T170000
DTSTAMP:20260420T002324
CREATED:20250807T170824Z
LAST-MODIFIED:20250807T170824Z
UID:10015233-1833454800-1833469200@bluewaterparent.com
SUMMARY:Port Huron Township Heritage Museum
DESCRIPTION:
URL:https://bluewaterparent.com/event/port-huron-township-heritage-museum/2028-02-06/
LOCATION:Port Huron Township Heritage Museum\, 3800 Lapeer Rd.\, Port Huron Township\, MI
END:VEVENT
BEGIN:VEVENT
DTSTART;TZID=America/New_York:20280207T100000
DTEND;TZID=America/New_York:20280207T110000
DTSTAMP:20260420T002324
CREATED:20260101T192653Z
LAST-MODIFIED:20260307T025320Z
UID:10024444-1833530400-1833534000@bluewaterparent.com
SUMMARY:Storytime - St. Clair
DESCRIPTION:From SCCLS – Join us for a fun and educational blend of stories\, crafts\, movement activities\, and songs.
URL:https://bluewaterparent.com/event/storytime-st-clair/2028-02-07/
LOCATION:St. Clair Library\, 310 S. 2nd Street\, St. Clair\, MI
CATEGORIES:Free,Playgroups
END:VEVENT
BEGIN:VEVENT
DTSTART;TZID=America/New_York:20280207T100000
DTEND;TZID=America/New_York:20280207T110000
DTSTAMP:20260420T002324
CREATED:20260125T194928Z
LAST-MODIFIED:20260125T194929Z
UID:10017553-1833530400-1833534000@bluewaterparent.com
SUMMARY:Storytime - Marysville
DESCRIPTION:From SCCLS – Preschoolers and their adults: Join us at the library for a happy blend of stories\, rhymes\, music and movement\, followed by a creative activity time.
URL:https://bluewaterparent.com/event/storytime-marysville-3/2028-02-07/
LOCATION:Marysville Library\, 1175 Delaware\, Marysville\, MI
CATEGORIES:Free,Playgroups
END:VEVENT
BEGIN:VEVENT
DTSTART;TZID=America/New_York:20280207T100000
DTEND;TZID=America/New_York:20280207T110000
DTSTAMP:20260420T002324
CREATED:20260307T142323Z
LAST-MODIFIED:20260307T142325Z
UID:10017292-1833530400-1833534000@bluewaterparent.com
SUMMARY:Storytime - Yale
DESCRIPTION:
URL:https://bluewaterparent.com/event/storytime-yale-2-2-2/2028-02-07/
LOCATION:Yale Library\, 2 Jones St\, Yale\, MI\, 48097\, United States
CATEGORIES:Free,Playgroups
END:VEVENT
BEGIN:VEVENT
DTSTART;TZID=America/New_York:20280207T103000
DTEND;TZID=America/New_York:20280207T110000
DTSTAMP:20260420T002324
CREATED:20260401T010404Z
LAST-MODIFIED:20260401T010407Z
UID:10025057-1833532200-1833534000@bluewaterparent.com
SUMMARY:Storytime - Burtchville
DESCRIPTION:
URL:https://bluewaterparent.com/event/storytime-burtchville-3-2/2028-02-07/
LOCATION:Burtchville Library\, 7093 2nd St\, Lakeport\, MI\, 48059\, United States
CATEGORIES:Free,Playgroups
END:VEVENT
BEGIN:VEVENT
DTSTART;TZID=America/New_York:20280207T103000
DTEND;TZID=America/New_York:20280207T113000
DTSTAMP:20260420T002324
CREATED:20260321T165751Z
LAST-MODIFIED:20260321T165752Z
UID:10017814-1833532200-1833535800@bluewaterparent.com
SUMMARY:Storytime - Marine City
DESCRIPTION:From SCCLS – Preschoolers and their adults join us at the library for a happy blend of stories and activities.
URL:https://bluewaterparent.com/event/storytime-marine-city-2-2/2028-02-07/
LOCATION:Marine City Library\, 300 S Parker St\, Marine City\, MI\, 48039\, United States
CATEGORIES:Free,Playgroups
END:VEVENT
BEGIN:VEVENT
DTSTART;TZID=America/New_York:20280208T100000
DTEND;TZID=America/New_York:20280208T103000
DTSTAMP:20260420T002324
CREATED:20260418T235804Z
LAST-MODIFIED:20260419T000903Z
UID:10025435-1833616800-1833618600@bluewaterparent.com
SUMMARY:Rhythm and Rhyme - Port Huron
DESCRIPTION:For children ages 0-3 and their caregivers.
URL:https://bluewaterparent.com/event/rhythm-and-rhyme-port-huron/2028-02-08/
LOCATION:Main Library\, 210 McMorran Blvd\, Port Huron\, MI\, 48060\, United States
CATEGORIES:Playgroups
END:VEVENT
BEGIN:VEVENT
DTSTART;TZID=America/New_York:20280208T180000
DTEND;TZID=America/New_York:20280208T183000
DTSTAMP:20260420T002324
CREATED:20260419T002148Z
LAST-MODIFIED:20260419T003520Z
UID:10025696-1833645600-1833647400@bluewaterparent.com
SUMMARY:Bedtime Storytime - Port Huron
DESCRIPTION:
URL:https://bluewaterparent.com/event/bedtime-storytime/2028-02-08/
LOCATION:Main Library\, 210 McMorran Blvd\, Port Huron\, MI\, 48060\, United States
CATEGORIES:Playgroups
END:VEVENT
BEGIN:VEVENT
DTSTART;TZID=America/New_York:20280209T080000
DTEND;TZID=America/New_York:20280209T170000
DTSTAMP:20260420T002324
CREATED:20260419T012510Z
LAST-MODIFIED:20260419T012510Z
UID:10026576-1833696000-1833728400@bluewaterparent.com
SUMMARY:Discovery Lab for Littles
DESCRIPTION:This event is included with admission.
URL:https://bluewaterparent.com/event/discovery-lab-for-littles/2028-02-09/
LOCATION:Discovery City Children’s Museum\, 317 Grand River Avenue\, Port huron\, MI\, 48060
END:VEVENT
BEGIN:VEVENT
DTSTART;TZID=America/New_York:20280209T100000
DTEND;TZID=America/New_York:20280209T110000
DTSTAMP:20260420T002324
CREATED:20260419T003159Z
LAST-MODIFIED:20260419T003555Z
UID:10025957-1833703200-1833706800@bluewaterparent.com
SUMMARY:Storytime - Port Huron
DESCRIPTION:
URL:https://bluewaterparent.com/event/storytime-port-huron/2028-02-09/
LOCATION:Main Library\, 210 McMorran Blvd\, Port Huron\, MI\, 48060\, United States
CATEGORIES:Playgroups
END:VEVENT
BEGIN:VEVENT
DTSTART;TZID=America/New_York:20280210T100000
DTEND;TZID=America/New_York:20280210T110000
DTSTAMP:20260420T002324
CREATED:20251201T004011Z
LAST-MODIFIED:20260307T021133Z
UID:10023923-1833789600-1833793200@bluewaterparent.com
SUMMARY:Great Start Playgroup - Avoca
DESCRIPTION:
URL:https://bluewaterparent.com/event/great-start-playgroup-emmett/2028-02-10/
LOCATION:Avoca Elementary\, 8751 Willow St.\, Avoca\, MI\, 48006\, United States
CATEGORIES:Playgroups
END:VEVENT
BEGIN:VEVENT
DTSTART;TZID=America/New_York:20280210T100000
DTEND;TZID=America/New_York:20280210T110000
DTSTAMP:20260420T002324
CREATED:20260307T014510Z
LAST-MODIFIED:20260307T014908Z
UID:10023662-1833789600-1833793200@bluewaterparent.com
SUMMARY:Great Start Playgroup - Marysville
DESCRIPTION:
URL:https://bluewaterparent.com/event/great-start-playgroup-marysville-3/2028-02-10/
LOCATION:St. Clair County RESA East Campus\, 1111 Delaware Avenue\, Marysville\, MI
CATEGORIES:Playgroups
END:VEVENT
BEGIN:VEVENT
DTSTART;TZID=America/New_York:20280210T110000
DTEND;TZID=America/New_York:20280210T113000
DTSTAMP:20260420T002324
CREATED:20260101T200511Z
LAST-MODIFIED:20260101T213808Z
UID:10021208-1833793200-1833795000@bluewaterparent.com
SUMMARY:Storytime - Algonac
DESCRIPTION:  \n 
URL:https://bluewaterparent.com/event/storytime-algonac-2/2028-02-10/
LOCATION:Algonac-Clay Library\, 2011 St Clair River Dr\, Algonac\, MI\, 48001\, United States
CATEGORIES:Playgroups
END:VEVENT
BEGIN:VEVENT
DTSTART;TZID=America/New_York:20280210T143000
DTEND;TZID=America/New_York:20280210T160000
DTSTAMP:20260420T002324
CREATED:20260101T200828Z
LAST-MODIFIED:20260101T200854Z
UID:10019702-1833805800-1833811200@bluewaterparent.com
SUMMARY:Teen Time - Yale
DESCRIPTION:
URL:https://bluewaterparent.com/event/teen-time-yale-3/2028-02-10/
LOCATION:Yale Library\, 2 Jones St\, Yale\, MI\, 48097\, United States
CATEGORIES:Teens
END:VEVENT
BEGIN:VEVENT
DTSTART;TZID=America/New_York:20280210T171500
DTEND;TZID=America/New_York:20280210T174500
DTSTAMP:20260420T002324
CREATED:20260328T183605Z
LAST-MODIFIED:20260328T183607Z
UID:10024835-1833815700-1833817500@bluewaterparent.com
SUMMARY:Little House on the Prairie Book Club for Kids
DESCRIPTION:  \n 
URL:https://bluewaterparent.com/event/little-house-on-the-prairie-book-club-for-kids-2-3/2028-02-10/
LOCATION:Capac Library\, 111 N Main St\, Capac\, MI\, 48014\, United States
CATEGORIES:Free
END:VEVENT
BEGIN:VEVENT
DTSTART;TZID=America/New_York:20280211T080000
DTEND;TZID=America/New_York:20280211T170000
DTSTAMP:20260420T002324
CREATED:20260419T012510Z
LAST-MODIFIED:20260419T012510Z
UID:10026577-1833868800-1833901200@bluewaterparent.com
SUMMARY:Discovery Lab for Littles
DESCRIPTION:This event is included with admission.
URL:https://bluewaterparent.com/event/discovery-lab-for-littles/2028-02-11/
LOCATION:Discovery City Children’s Museum\, 317 Grand River Avenue\, Port huron\, MI\, 48060
END:VEVENT
BEGIN:VEVENT
DTSTART;TZID=America/New_York:20280211T100000
DTEND;TZID=America/New_York:20280211T104500
DTSTAMP:20260420T002324
CREATED:20260101T202520Z
LAST-MODIFIED:20260131T171318Z
UID:10023349-1833876000-1833878700@bluewaterparent.com
SUMMARY:Family Storytime - Memphis
DESCRIPTION:
URL:https://bluewaterparent.com/event/family-storytime-capac-2-2/2028-02-11/
LOCATION:Memphis Library\, 34830 Potter St\, Memphis\, MI\, 48041\, United States
CATEGORIES:Playgroups
END:VEVENT
BEGIN:VEVENT
DTSTART;TZID=America/New_York:20280211T100000
DTEND;TZID=America/New_York:20280211T110000
DTSTAMP:20260420T002324
CREATED:20260419T003829Z
LAST-MODIFIED:20260419T003829Z
UID:10026218-1833876000-1833879600@bluewaterparent.com
SUMMARY:Storytime - Port Huron
DESCRIPTION:
URL:https://bluewaterparent.com/event/storytime-port-huron-2/2028-02-11/
LOCATION:Main Library\, 210 McMorran Blvd\, Port Huron\, MI\, 48060\, United States
CATEGORIES:Playgroups
END:VEVENT
BEGIN:VEVENT
DTSTART;TZID=America/New_York:20280211T110000
DTEND;TZID=America/New_York:20280211T120000
DTSTAMP:20260420T002324
CREATED:20260101T164906Z
LAST-MODIFIED:20260101T171615Z
UID:10017031-1833879600-1833883200@bluewaterparent.com
SUMMARY:Playgroup Pals
DESCRIPTION:
URL:https://bluewaterparent.com/event/playgroup-pals-2/2028-02-11/
LOCATION:Ira Township Library\, 7013 Meldrum Rd\, Ira Township\, Michigan\, 48023\, United States
CATEGORIES:Playgroups
END:VEVENT
END:VCALENDAR