BEGIN:VCALENDAR
VERSION:2.0
PRODID:-//BlueWaterParent.com - ECPv6.15.20//NONSGML v1.0//EN
CALSCALE:GREGORIAN
METHOD:PUBLISH
X-ORIGINAL-URL:https://bluewaterparent.com
X-WR-CALDESC:Events for BlueWaterParent.com
REFRESH-INTERVAL;VALUE=DURATION:PT1H
X-Robots-Tag:noindex
X-PUBLISHED-TTL:PT1H
BEGIN:VTIMEZONE
TZID:America/New_York
BEGIN:DAYLIGHT
TZOFFSETFROM:-0500
TZOFFSETTO:-0400
TZNAME:EDT
DTSTART:20280312T070000
END:DAYLIGHT
BEGIN:STANDARD
TZOFFSETFROM:-0400
TZOFFSETTO:-0500
TZNAME:EST
DTSTART:20281105T060000
END:STANDARD
BEGIN:DAYLIGHT
TZOFFSETFROM:-0500
TZOFFSETTO:-0400
TZNAME:EDT
DTSTART:20290311T070000
END:DAYLIGHT
BEGIN:STANDARD
TZOFFSETFROM:-0400
TZOFFSETTO:-0500
TZNAME:EST
DTSTART:20291104T060000
END:STANDARD
BEGIN:DAYLIGHT
TZOFFSETFROM:-0500
TZOFFSETTO:-0400
TZNAME:EDT
DTSTART:20300310T070000
END:DAYLIGHT
BEGIN:STANDARD
TZOFFSETFROM:-0400
TZOFFSETTO:-0500
TZNAME:EST
DTSTART:20301103T060000
END:STANDARD
END:VTIMEZONE
BEGIN:VEVENT
DTSTART;TZID=America/New_York:20290212T100000
DTEND;TZID=America/New_York:20290212T110000
DTSTAMP:20260423T190141
CREATED:20260101T192653Z
LAST-MODIFIED:20260307T025320Z
UID:10024497-1865584800-1865588400@bluewaterparent.com
SUMMARY:Storytime - St. Clair
DESCRIPTION:From SCCLS – Join us for a fun and educational blend of stories\, crafts\, movement activities\, and songs.
URL:https://bluewaterparent.com/event/storytime-st-clair/2029-02-12/
LOCATION:St. Clair Library\, 310 S. 2nd Street\, St. Clair\, MI
CATEGORIES:Free,Playgroups
END:VEVENT
BEGIN:VEVENT
DTSTART;TZID=America/New_York:20290212T100000
DTEND;TZID=America/New_York:20290212T110000
DTSTAMP:20260423T190141
CREATED:20260125T194928Z
LAST-MODIFIED:20260125T194929Z
UID:10017606-1865584800-1865588400@bluewaterparent.com
SUMMARY:Storytime - Marysville
DESCRIPTION:From SCCLS – Preschoolers and their adults: Join us at the library for a happy blend of stories\, rhymes\, music and movement\, followed by a creative activity time.
URL:https://bluewaterparent.com/event/storytime-marysville-3/2029-02-12/
LOCATION:Marysville Library\, 1175 Delaware\, Marysville\, MI
CATEGORIES:Free,Playgroups
END:VEVENT
BEGIN:VEVENT
DTSTART;TZID=America/New_York:20290212T100000
DTEND;TZID=America/New_York:20290212T110000
DTSTAMP:20260423T190141
CREATED:20260307T142323Z
LAST-MODIFIED:20260307T142325Z
UID:10017345-1865584800-1865588400@bluewaterparent.com
SUMMARY:Storytime - Yale
DESCRIPTION:
URL:https://bluewaterparent.com/event/storytime-yale-2-2-2/2029-02-12/
LOCATION:Yale Library\, 2 Jones St\, Yale\, MI\, 48097\, United States
CATEGORIES:Free,Playgroups
END:VEVENT
BEGIN:VEVENT
DTSTART;TZID=America/New_York:20290212T103000
DTEND;TZID=America/New_York:20290212T110000
DTSTAMP:20260423T190141
CREATED:20260401T010404Z
LAST-MODIFIED:20260401T010407Z
UID:10025110-1865586600-1865588400@bluewaterparent.com
SUMMARY:Storytime - Burtchville
DESCRIPTION:
URL:https://bluewaterparent.com/event/storytime-burtchville-3-2/2029-02-12/
LOCATION:Burtchville Library\, 7093 2nd St\, Lakeport\, MI\, 48059\, United States
CATEGORIES:Free,Playgroups
END:VEVENT
BEGIN:VEVENT
DTSTART;TZID=America/New_York:20290212T103000
DTEND;TZID=America/New_York:20290212T113000
DTSTAMP:20260423T190141
CREATED:20260321T165751Z
LAST-MODIFIED:20260321T165752Z
UID:10024739-1865586600-1865590200@bluewaterparent.com
SUMMARY:Storytime - Marine City
DESCRIPTION:From SCCLS – Preschoolers and their adults join us at the library for a happy blend of stories and activities.
URL:https://bluewaterparent.com/event/storytime-marine-city-2-2/2029-02-12/
LOCATION:Marine City Library\, 300 S Parker St\, Marine City\, MI\, 48039\, United States
CATEGORIES:Free,Playgroups
END:VEVENT
BEGIN:VEVENT
DTSTART;TZID=America/New_York:20290212T160000
DTEND;TZID=America/New_York:20290212T180000
DTSTAMP:20260423T190141
CREATED:20260101T211427Z
LAST-MODIFIED:20260101T211427Z
UID:10021069-1865606400-1865613600@bluewaterparent.com
SUMMARY:Teen Scene
DESCRIPTION:Ages 13-18.
URL:https://bluewaterparent.com/event/teen-scene/2029-02-12/
LOCATION:Capac Library\, 111 N Main St\, Capac\, MI\, 48014\, United States
CATEGORIES:Teens
END:VEVENT
BEGIN:VEVENT
DTSTART;TZID=America/New_York:20290213T100000
DTEND;TZID=America/New_York:20290213T103000
DTSTAMP:20260423T190141
CREATED:20260418T235804Z
LAST-MODIFIED:20260419T000903Z
UID:10025488-1865671200-1865673000@bluewaterparent.com
SUMMARY:Rhythm and Rhyme - Port Huron
DESCRIPTION:For children ages 0-3 and their caregivers.
URL:https://bluewaterparent.com/event/rhythm-and-rhyme-port-huron/2029-02-13/
LOCATION:Main Library\, 210 McMorran Blvd\, Port Huron\, MI\, 48060\, United States
CATEGORIES:Playgroups
END:VEVENT
BEGIN:VEVENT
DTSTART;TZID=America/New_York:20290213T170000
DTEND;TZID=America/New_York:20290213T193000
DTSTAMP:20260423T190141
CREATED:20260101T190453Z
LAST-MODIFIED:20260103T013002Z
UID:10021451-1865696400-1865705400@bluewaterparent.com
SUMMARY:Teen D&D Group - Algonac-Clay
DESCRIPTION:Registration requested.
URL:https://bluewaterparent.com/event/teen-dd-group-algonac-clay/2029-02-13/
LOCATION:Algonac-Clay Library\, 2011 St Clair River Dr\, Algonac\, MI\, 48001\, United States
CATEGORIES:Teens
END:VEVENT
BEGIN:VEVENT
DTSTART;TZID=America/New_York:20290213T180000
DTEND;TZID=America/New_York:20290213T183000
DTSTAMP:20260423T190141
CREATED:20260419T002148Z
LAST-MODIFIED:20260419T003520Z
UID:10025749-1865700000-1865701800@bluewaterparent.com
SUMMARY:Bedtime Storytime - Port Huron
DESCRIPTION:
URL:https://bluewaterparent.com/event/bedtime-storytime/2029-02-13/
LOCATION:Main Library\, 210 McMorran Blvd\, Port Huron\, MI\, 48060\, United States
CATEGORIES:Playgroups
END:VEVENT
BEGIN:VEVENT
DTSTART;TZID=America/New_York:20290214T080000
DTEND;TZID=America/New_York:20290214T170000
DTSTAMP:20260423T190141
CREATED:20260419T012510Z
LAST-MODIFIED:20260419T012510Z
UID:10026682-1865750400-1865782800@bluewaterparent.com
SUMMARY:Discovery Lab for Littles
DESCRIPTION:This event is included with admission.
URL:https://bluewaterparent.com/event/discovery-lab-for-littles/2029-02-14/
LOCATION:Discovery City Children’s Museum\, 317 Grand River Avenue\, Port huron\, MI\, 48060
END:VEVENT
BEGIN:VEVENT
DTSTART;TZID=America/New_York:20290214T100000
DTEND;TZID=America/New_York:20290214T110000
DTSTAMP:20260423T190141
CREATED:20260419T003159Z
LAST-MODIFIED:20260419T003555Z
UID:10026010-1865757600-1865761200@bluewaterparent.com
SUMMARY:Storytime - Port Huron
DESCRIPTION:
URL:https://bluewaterparent.com/event/storytime-port-huron/2029-02-14/
LOCATION:Main Library\, 210 McMorran Blvd\, Port Huron\, MI\, 48060\, United States
CATEGORIES:Playgroups
END:VEVENT
BEGIN:VEVENT
DTSTART;TZID=America/New_York:20290215T100000
DTEND;TZID=America/New_York:20290215T110000
DTSTAMP:20260423T190141
CREATED:20251201T004011Z
LAST-MODIFIED:20260307T021133Z
UID:10023976-1865844000-1865847600@bluewaterparent.com
SUMMARY:Great Start Playgroup - Avoca
DESCRIPTION:
URL:https://bluewaterparent.com/event/great-start-playgroup-emmett/2029-02-15/
LOCATION:Avoca Elementary\, 8751 Willow St.\, Avoca\, MI\, 48006\, United States
CATEGORIES:Playgroups
END:VEVENT
BEGIN:VEVENT
DTSTART;TZID=America/New_York:20290215T100000
DTEND;TZID=America/New_York:20290215T110000
DTSTAMP:20260423T190141
CREATED:20260307T014510Z
LAST-MODIFIED:20260307T014908Z
UID:10023715-1865844000-1865847600@bluewaterparent.com
SUMMARY:Great Start Playgroup - Marysville
DESCRIPTION:
URL:https://bluewaterparent.com/event/great-start-playgroup-marysville-3/2029-02-15/
LOCATION:St. Clair County RESA East Campus\, 1111 Delaware Avenue\, Marysville\, MI
CATEGORIES:Playgroups
END:VEVENT
BEGIN:VEVENT
DTSTART;TZID=America/New_York:20290215T110000
DTEND;TZID=America/New_York:20290215T113000
DTSTAMP:20260423T190141
CREATED:20260101T200511Z
LAST-MODIFIED:20260101T213808Z
UID:10021261-1865847600-1865849400@bluewaterparent.com
SUMMARY:Storytime - Algonac
DESCRIPTION:  \n 
URL:https://bluewaterparent.com/event/storytime-algonac-2/2029-02-15/
LOCATION:Algonac-Clay Library\, 2011 St Clair River Dr\, Algonac\, MI\, 48001\, United States
CATEGORIES:Playgroups
END:VEVENT
BEGIN:VEVENT
DTSTART;TZID=America/New_York:20290215T143000
DTEND;TZID=America/New_York:20290215T160000
DTSTAMP:20260423T190141
CREATED:20260101T200828Z
LAST-MODIFIED:20260101T200854Z
UID:10019755-1865860200-1865865600@bluewaterparent.com
SUMMARY:Teen Time - Yale
DESCRIPTION:
URL:https://bluewaterparent.com/event/teen-time-yale-3/2029-02-15/
LOCATION:Yale Library\, 2 Jones St\, Yale\, MI\, 48097\, United States
CATEGORIES:Teens
END:VEVENT
BEGIN:VEVENT
DTSTART;TZID=America/New_York:20290215T153000
DTEND;TZID=America/New_York:20290215T180000
DTSTAMP:20260423T190141
CREATED:20260101T201514Z
LAST-MODIFIED:20260103T021445Z
UID:10021566-1865863800-1865872800@bluewaterparent.com
SUMMARY:To D&D\, And Beyond!
DESCRIPTION:  \n 
URL:https://bluewaterparent.com/event/to-dd-and-beyond-3/2029-02-15/
LOCATION:Marysville Library\, 1175 Delaware\, Marysville\, MI
CATEGORIES:Teens
END:VEVENT
BEGIN:VEVENT
DTSTART;TZID=America/New_York:20290216T080000
DTEND;TZID=America/New_York:20290216T170000
DTSTAMP:20260423T190141
CREATED:20260419T012510Z
LAST-MODIFIED:20260419T012510Z
UID:10026683-1865923200-1865955600@bluewaterparent.com
SUMMARY:Discovery Lab for Littles
DESCRIPTION:This event is included with admission.
URL:https://bluewaterparent.com/event/discovery-lab-for-littles/2029-02-16/
LOCATION:Discovery City Children’s Museum\, 317 Grand River Avenue\, Port huron\, MI\, 48060
END:VEVENT
BEGIN:VEVENT
DTSTART;TZID=America/New_York:20290216T100000
DTEND;TZID=America/New_York:20290216T104500
DTSTAMP:20260423T190141
CREATED:20260101T202520Z
LAST-MODIFIED:20260131T171318Z
UID:10023402-1865930400-1865933100@bluewaterparent.com
SUMMARY:Family Storytime - Memphis
DESCRIPTION:
URL:https://bluewaterparent.com/event/family-storytime-capac-2-2/2029-02-16/
LOCATION:Memphis Library\, 34830 Potter St\, Memphis\, MI\, 48041\, United States
CATEGORIES:Playgroups
END:VEVENT
BEGIN:VEVENT
DTSTART;TZID=America/New_York:20290216T100000
DTEND;TZID=America/New_York:20290216T110000
DTSTAMP:20260423T190141
CREATED:20260419T003829Z
LAST-MODIFIED:20260419T003829Z
UID:10026271-1865930400-1865934000@bluewaterparent.com
SUMMARY:Storytime - Port Huron
DESCRIPTION:
URL:https://bluewaterparent.com/event/storytime-port-huron-2/2029-02-16/
LOCATION:Main Library\, 210 McMorran Blvd\, Port Huron\, MI\, 48060\, United States
CATEGORIES:Playgroups
END:VEVENT
BEGIN:VEVENT
DTSTART;TZID=America/New_York:20290216T110000
DTEND;TZID=America/New_York:20290216T120000
DTSTAMP:20260423T190141
CREATED:20260101T164906Z
LAST-MODIFIED:20260101T171615Z
UID:10017084-1865934000-1865937600@bluewaterparent.com
SUMMARY:Playgroup Pals
DESCRIPTION:
URL:https://bluewaterparent.com/event/playgroup-pals-2/2029-02-16/
LOCATION:Ira Township Library\, 7013 Meldrum Rd\, Ira Township\, Michigan\, 48023\, United States
CATEGORIES:Playgroups
END:VEVENT
BEGIN:VEVENT
DTSTART;TZID=America/New_York:20290216T150000
DTEND;TZID=America/New_York:20290216T163000
DTSTAMP:20260423T190141
CREATED:20260101T204005Z
LAST-MODIFIED:20260103T023339Z
UID:10021686-1865948400-1865953800@bluewaterparent.com
SUMMARY:Friday Game Zone
DESCRIPTION:
URL:https://bluewaterparent.com/event/friday-game-zone/2029-02-16/
LOCATION:Ira Township Library\, 7013 Meldrum Rd\, Ira Township\, Michigan\, 48023\, United States
CATEGORIES:Free
END:VEVENT
BEGIN:VEVENT
DTSTART;TZID=America/New_York:20290219T100000
DTEND;TZID=America/New_York:20290219T110000
DTSTAMP:20260423T190141
CREATED:20260101T192653Z
LAST-MODIFIED:20260307T025320Z
UID:10024498-1866189600-1866193200@bluewaterparent.com
SUMMARY:Storytime - St. Clair
DESCRIPTION:From SCCLS – Join us for a fun and educational blend of stories\, crafts\, movement activities\, and songs.
URL:https://bluewaterparent.com/event/storytime-st-clair/2029-02-19/
LOCATION:St. Clair Library\, 310 S. 2nd Street\, St. Clair\, MI
CATEGORIES:Free,Playgroups
END:VEVENT
BEGIN:VEVENT
DTSTART;TZID=America/New_York:20290219T100000
DTEND;TZID=America/New_York:20290219T110000
DTSTAMP:20260423T190141
CREATED:20260125T194928Z
LAST-MODIFIED:20260125T194929Z
UID:10017607-1866189600-1866193200@bluewaterparent.com
SUMMARY:Storytime - Marysville
DESCRIPTION:From SCCLS – Preschoolers and their adults: Join us at the library for a happy blend of stories\, rhymes\, music and movement\, followed by a creative activity time.
URL:https://bluewaterparent.com/event/storytime-marysville-3/2029-02-19/
LOCATION:Marysville Library\, 1175 Delaware\, Marysville\, MI
CATEGORIES:Free,Playgroups
END:VEVENT
BEGIN:VEVENT
DTSTART;TZID=America/New_York:20290219T100000
DTEND;TZID=America/New_York:20290219T110000
DTSTAMP:20260423T190141
CREATED:20260307T142323Z
LAST-MODIFIED:20260307T142325Z
UID:10017346-1866189600-1866193200@bluewaterparent.com
SUMMARY:Storytime - Yale
DESCRIPTION:
URL:https://bluewaterparent.com/event/storytime-yale-2-2-2/2029-02-19/
LOCATION:Yale Library\, 2 Jones St\, Yale\, MI\, 48097\, United States
CATEGORIES:Free,Playgroups
END:VEVENT
BEGIN:VEVENT
DTSTART;TZID=America/New_York:20290219T103000
DTEND;TZID=America/New_York:20290219T110000
DTSTAMP:20260423T190141
CREATED:20260401T010404Z
LAST-MODIFIED:20260401T010407Z
UID:10025111-1866191400-1866193200@bluewaterparent.com
SUMMARY:Storytime - Burtchville
DESCRIPTION:
URL:https://bluewaterparent.com/event/storytime-burtchville-3-2/2029-02-19/
LOCATION:Burtchville Library\, 7093 2nd St\, Lakeport\, MI\, 48059\, United States
CATEGORIES:Free,Playgroups
END:VEVENT
BEGIN:VEVENT
DTSTART;TZID=America/New_York:20290219T103000
DTEND;TZID=America/New_York:20290219T113000
DTSTAMP:20260423T190141
CREATED:20260321T165751Z
LAST-MODIFIED:20260321T165752Z
UID:10017868-1866191400-1866195000@bluewaterparent.com
SUMMARY:Storytime - Marine City
DESCRIPTION:From SCCLS – Preschoolers and their adults join us at the library for a happy blend of stories and activities.
URL:https://bluewaterparent.com/event/storytime-marine-city-2-2/2029-02-19/
LOCATION:Marine City Library\, 300 S Parker St\, Marine City\, MI\, 48039\, United States
CATEGORIES:Free,Playgroups
END:VEVENT
BEGIN:VEVENT
DTSTART;TZID=America/New_York:20290220T100000
DTEND;TZID=America/New_York:20290220T103000
DTSTAMP:20260423T190141
CREATED:20260418T235804Z
LAST-MODIFIED:20260419T000903Z
UID:10025489-1866276000-1866277800@bluewaterparent.com
SUMMARY:Rhythm and Rhyme - Port Huron
DESCRIPTION:For children ages 0-3 and their caregivers.
URL:https://bluewaterparent.com/event/rhythm-and-rhyme-port-huron/2029-02-20/
LOCATION:Main Library\, 210 McMorran Blvd\, Port Huron\, MI\, 48060\, United States
CATEGORIES:Playgroups
END:VEVENT
BEGIN:VEVENT
DTSTART;TZID=America/New_York:20290220T180000
DTEND;TZID=America/New_York:20290220T183000
DTSTAMP:20260423T190141
CREATED:20260419T002148Z
LAST-MODIFIED:20260419T003520Z
UID:10025750-1866304800-1866306600@bluewaterparent.com
SUMMARY:Bedtime Storytime - Port Huron
DESCRIPTION:
URL:https://bluewaterparent.com/event/bedtime-storytime/2029-02-20/
LOCATION:Main Library\, 210 McMorran Blvd\, Port Huron\, MI\, 48060\, United States
CATEGORIES:Playgroups
END:VEVENT
BEGIN:VEVENT
DTSTART;TZID=America/New_York:20290221T080000
DTEND;TZID=America/New_York:20290221T170000
DTSTAMP:20260423T190141
CREATED:20260419T012510Z
LAST-MODIFIED:20260419T012510Z
UID:10026684-1866355200-1866387600@bluewaterparent.com
SUMMARY:Discovery Lab for Littles
DESCRIPTION:This event is included with admission.
URL:https://bluewaterparent.com/event/discovery-lab-for-littles/2029-02-21/
LOCATION:Discovery City Children’s Museum\, 317 Grand River Avenue\, Port huron\, MI\, 48060
END:VEVENT
BEGIN:VEVENT
DTSTART;TZID=America/New_York:20290221T100000
DTEND;TZID=America/New_York:20290221T110000
DTSTAMP:20260423T190141
CREATED:20260419T003159Z
LAST-MODIFIED:20260419T003555Z
UID:10026011-1866362400-1866366000@bluewaterparent.com
SUMMARY:Storytime - Port Huron
DESCRIPTION:
URL:https://bluewaterparent.com/event/storytime-port-huron/2029-02-21/
LOCATION:Main Library\, 210 McMorran Blvd\, Port Huron\, MI\, 48060\, United States
CATEGORIES:Playgroups
END:VEVENT
END:VCALENDAR