BEGIN:VCALENDAR
VERSION:2.0
PRODID:-//BlueWaterParent.com - ECPv6.15.20//NONSGML v1.0//EN
CALSCALE:GREGORIAN
METHOD:PUBLISH
X-WR-CALNAME:BlueWaterParent.com
X-ORIGINAL-URL:https://bluewaterparent.com
X-WR-CALDESC:Events for BlueWaterParent.com
REFRESH-INTERVAL;VALUE=DURATION:PT1H
X-Robots-Tag:noindex
X-PUBLISHED-TTL:PT1H
BEGIN:VTIMEZONE
TZID:America/New_York
BEGIN:DAYLIGHT
TZOFFSETFROM:-0500
TZOFFSETTO:-0400
TZNAME:EDT
DTSTART:20280312T070000
END:DAYLIGHT
BEGIN:STANDARD
TZOFFSETFROM:-0400
TZOFFSETTO:-0500
TZNAME:EST
DTSTART:20281105T060000
END:STANDARD
BEGIN:DAYLIGHT
TZOFFSETFROM:-0500
TZOFFSETTO:-0400
TZNAME:EDT
DTSTART:20290311T070000
END:DAYLIGHT
BEGIN:STANDARD
TZOFFSETFROM:-0400
TZOFFSETTO:-0500
TZNAME:EST
DTSTART:20291104T060000
END:STANDARD
BEGIN:DAYLIGHT
TZOFFSETFROM:-0500
TZOFFSETTO:-0400
TZNAME:EDT
DTSTART:20300310T070000
END:DAYLIGHT
BEGIN:STANDARD
TZOFFSETFROM:-0400
TZOFFSETTO:-0500
TZNAME:EST
DTSTART:20301103T060000
END:STANDARD
END:VTIMEZONE
BEGIN:VEVENT
DTSTART;TZID=America/New_York:20290313T180000
DTEND;TZID=America/New_York:20290313T183000
DTSTAMP:20260425T155729
CREATED:20260419T002148Z
LAST-MODIFIED:20260419T003520Z
UID:10025753-1868119200-1868121000@bluewaterparent.com
SUMMARY:Bedtime Storytime - Port Huron
DESCRIPTION:
URL:https://bluewaterparent.com/event/bedtime-storytime/2029-03-13/
LOCATION:Main Library\, 210 McMorran Blvd\, Port Huron\, MI\, 48060\, United States
CATEGORIES:Playgroups
END:VEVENT
BEGIN:VEVENT
DTSTART;TZID=America/New_York:20290320T180000
DTEND;TZID=America/New_York:20290320T183000
DTSTAMP:20260425T155729
CREATED:20260419T002148Z
LAST-MODIFIED:20260419T003520Z
UID:10025754-1868724000-1868725800@bluewaterparent.com
SUMMARY:Bedtime Storytime - Port Huron
DESCRIPTION:
URL:https://bluewaterparent.com/event/bedtime-storytime/2029-03-20/
LOCATION:Main Library\, 210 McMorran Blvd\, Port Huron\, MI\, 48060\, United States
CATEGORIES:Playgroups
END:VEVENT
BEGIN:VEVENT
DTSTART;TZID=America/New_York:20290327T180000
DTEND;TZID=America/New_York:20290327T183000
DTSTAMP:20260425T155729
CREATED:20260419T002148Z
LAST-MODIFIED:20260419T003520Z
UID:10025755-1869328800-1869330600@bluewaterparent.com
SUMMARY:Bedtime Storytime - Port Huron
DESCRIPTION:
URL:https://bluewaterparent.com/event/bedtime-storytime/2029-03-27/
LOCATION:Main Library\, 210 McMorran Blvd\, Port Huron\, MI\, 48060\, United States
CATEGORIES:Playgroups
END:VEVENT
BEGIN:VEVENT
DTSTART;TZID=America/New_York:20290403T180000
DTEND;TZID=America/New_York:20290403T183000
DTSTAMP:20260425T155729
CREATED:20260419T002148Z
LAST-MODIFIED:20260419T003520Z
UID:10025756-1869933600-1869935400@bluewaterparent.com
SUMMARY:Bedtime Storytime - Port Huron
DESCRIPTION:
URL:https://bluewaterparent.com/event/bedtime-storytime/2029-04-03/
LOCATION:Main Library\, 210 McMorran Blvd\, Port Huron\, MI\, 48060\, United States
CATEGORIES:Playgroups
END:VEVENT
BEGIN:VEVENT
DTSTART;TZID=America/New_York:20290410T180000
DTEND;TZID=America/New_York:20290410T183000
DTSTAMP:20260425T155729
CREATED:20260419T002148Z
LAST-MODIFIED:20260419T003520Z
UID:10025757-1870538400-1870540200@bluewaterparent.com
SUMMARY:Bedtime Storytime - Port Huron
DESCRIPTION:
URL:https://bluewaterparent.com/event/bedtime-storytime/2029-04-10/
LOCATION:Main Library\, 210 McMorran Blvd\, Port Huron\, MI\, 48060\, United States
CATEGORIES:Playgroups
END:VEVENT
BEGIN:VEVENT
DTSTART;TZID=America/New_York:20290417T180000
DTEND;TZID=America/New_York:20290417T183000
DTSTAMP:20260425T155729
CREATED:20260419T002148Z
LAST-MODIFIED:20260419T003520Z
UID:10025758-1871143200-1871145000@bluewaterparent.com
SUMMARY:Bedtime Storytime - Port Huron
DESCRIPTION:
URL:https://bluewaterparent.com/event/bedtime-storytime/2029-04-17/
LOCATION:Main Library\, 210 McMorran Blvd\, Port Huron\, MI\, 48060\, United States
CATEGORIES:Playgroups
END:VEVENT
BEGIN:VEVENT
DTSTART;TZID=America/New_York:20290424T180000
DTEND;TZID=America/New_York:20290424T183000
DTSTAMP:20260425T155729
CREATED:20260419T002148Z
LAST-MODIFIED:20260419T003520Z
UID:10025759-1871748000-1871749800@bluewaterparent.com
SUMMARY:Bedtime Storytime - Port Huron
DESCRIPTION:
URL:https://bluewaterparent.com/event/bedtime-storytime/2029-04-24/
LOCATION:Main Library\, 210 McMorran Blvd\, Port Huron\, MI\, 48060\, United States
CATEGORIES:Playgroups
END:VEVENT
BEGIN:VEVENT
DTSTART;TZID=America/New_York:20290501T180000
DTEND;TZID=America/New_York:20290501T183000
DTSTAMP:20260425T155729
CREATED:20260419T002148Z
LAST-MODIFIED:20260419T003520Z
UID:10025760-1872352800-1872354600@bluewaterparent.com
SUMMARY:Bedtime Storytime - Port Huron
DESCRIPTION:
URL:https://bluewaterparent.com/event/bedtime-storytime/2029-05-01/
LOCATION:Main Library\, 210 McMorran Blvd\, Port Huron\, MI\, 48060\, United States
CATEGORIES:Playgroups
END:VEVENT
BEGIN:VEVENT
DTSTART;TZID=America/New_York:20290508T180000
DTEND;TZID=America/New_York:20290508T183000
DTSTAMP:20260425T155729
CREATED:20260419T002148Z
LAST-MODIFIED:20260419T003520Z
UID:10025761-1872957600-1872959400@bluewaterparent.com
SUMMARY:Bedtime Storytime - Port Huron
DESCRIPTION:
URL:https://bluewaterparent.com/event/bedtime-storytime/2029-05-08/
LOCATION:Main Library\, 210 McMorran Blvd\, Port Huron\, MI\, 48060\, United States
CATEGORIES:Playgroups
END:VEVENT
BEGIN:VEVENT
DTSTART;TZID=America/New_York:20290515T180000
DTEND;TZID=America/New_York:20290515T183000
DTSTAMP:20260425T155729
CREATED:20260419T002148Z
LAST-MODIFIED:20260419T003520Z
UID:10025762-1873562400-1873564200@bluewaterparent.com
SUMMARY:Bedtime Storytime - Port Huron
DESCRIPTION:
URL:https://bluewaterparent.com/event/bedtime-storytime/2029-05-15/
LOCATION:Main Library\, 210 McMorran Blvd\, Port Huron\, MI\, 48060\, United States
CATEGORIES:Playgroups
END:VEVENT
BEGIN:VEVENT
DTSTART;TZID=America/New_York:20290522T180000
DTEND;TZID=America/New_York:20290522T183000
DTSTAMP:20260425T155729
CREATED:20260419T002148Z
LAST-MODIFIED:20260419T003520Z
UID:10025763-1874167200-1874169000@bluewaterparent.com
SUMMARY:Bedtime Storytime - Port Huron
DESCRIPTION:
URL:https://bluewaterparent.com/event/bedtime-storytime/2029-05-22/
LOCATION:Main Library\, 210 McMorran Blvd\, Port Huron\, MI\, 48060\, United States
CATEGORIES:Playgroups
END:VEVENT
BEGIN:VEVENT
DTSTART;TZID=America/New_York:20290529T180000
DTEND;TZID=America/New_York:20290529T183000
DTSTAMP:20260425T155729
CREATED:20260419T002148Z
LAST-MODIFIED:20260419T003520Z
UID:10025764-1874772000-1874773800@bluewaterparent.com
SUMMARY:Bedtime Storytime - Port Huron
DESCRIPTION:
URL:https://bluewaterparent.com/event/bedtime-storytime/2029-05-29/
LOCATION:Main Library\, 210 McMorran Blvd\, Port Huron\, MI\, 48060\, United States
CATEGORIES:Playgroups
END:VEVENT
BEGIN:VEVENT
DTSTART;TZID=America/New_York:20290605T180000
DTEND;TZID=America/New_York:20290605T183000
DTSTAMP:20260425T155729
CREATED:20260419T002148Z
LAST-MODIFIED:20260419T003520Z
UID:10025765-1875376800-1875378600@bluewaterparent.com
SUMMARY:Bedtime Storytime - Port Huron
DESCRIPTION:
URL:https://bluewaterparent.com/event/bedtime-storytime/2029-06-05/
LOCATION:Main Library\, 210 McMorran Blvd\, Port Huron\, MI\, 48060\, United States
CATEGORIES:Playgroups
END:VEVENT
BEGIN:VEVENT
DTSTART;TZID=America/New_York:20290612T180000
DTEND;TZID=America/New_York:20290612T183000
DTSTAMP:20260425T155729
CREATED:20260419T002148Z
LAST-MODIFIED:20260419T003520Z
UID:10025766-1875981600-1875983400@bluewaterparent.com
SUMMARY:Bedtime Storytime - Port Huron
DESCRIPTION:
URL:https://bluewaterparent.com/event/bedtime-storytime/2029-06-12/
LOCATION:Main Library\, 210 McMorran Blvd\, Port Huron\, MI\, 48060\, United States
CATEGORIES:Playgroups
END:VEVENT
BEGIN:VEVENT
DTSTART;TZID=America/New_York:20290619T180000
DTEND;TZID=America/New_York:20290619T183000
DTSTAMP:20260425T155729
CREATED:20260419T002148Z
LAST-MODIFIED:20260419T003520Z
UID:10025767-1876586400-1876588200@bluewaterparent.com
SUMMARY:Bedtime Storytime - Port Huron
DESCRIPTION:
URL:https://bluewaterparent.com/event/bedtime-storytime/2029-06-19/
LOCATION:Main Library\, 210 McMorran Blvd\, Port Huron\, MI\, 48060\, United States
CATEGORIES:Playgroups
END:VEVENT
BEGIN:VEVENT
DTSTART;TZID=America/New_York:20290626T180000
DTEND;TZID=America/New_York:20290626T183000
DTSTAMP:20260425T155729
CREATED:20260419T002148Z
LAST-MODIFIED:20260419T003520Z
UID:10025768-1877191200-1877193000@bluewaterparent.com
SUMMARY:Bedtime Storytime - Port Huron
DESCRIPTION:
URL:https://bluewaterparent.com/event/bedtime-storytime/2029-06-26/
LOCATION:Main Library\, 210 McMorran Blvd\, Port Huron\, MI\, 48060\, United States
CATEGORIES:Playgroups
END:VEVENT
BEGIN:VEVENT
DTSTART;TZID=America/New_York:20290703T180000
DTEND;TZID=America/New_York:20290703T183000
DTSTAMP:20260425T155729
CREATED:20260419T002148Z
LAST-MODIFIED:20260419T003520Z
UID:10025769-1877796000-1877797800@bluewaterparent.com
SUMMARY:Bedtime Storytime - Port Huron
DESCRIPTION:
URL:https://bluewaterparent.com/event/bedtime-storytime/2029-07-03/
LOCATION:Main Library\, 210 McMorran Blvd\, Port Huron\, MI\, 48060\, United States
CATEGORIES:Playgroups
END:VEVENT
BEGIN:VEVENT
DTSTART;TZID=America/New_York:20290710T180000
DTEND;TZID=America/New_York:20290710T183000
DTSTAMP:20260425T155729
CREATED:20260419T002148Z
LAST-MODIFIED:20260419T003520Z
UID:10025770-1878400800-1878402600@bluewaterparent.com
SUMMARY:Bedtime Storytime - Port Huron
DESCRIPTION:
URL:https://bluewaterparent.com/event/bedtime-storytime/2029-07-10/
LOCATION:Main Library\, 210 McMorran Blvd\, Port Huron\, MI\, 48060\, United States
CATEGORIES:Playgroups
END:VEVENT
BEGIN:VEVENT
DTSTART;TZID=America/New_York:20290717T180000
DTEND;TZID=America/New_York:20290717T183000
DTSTAMP:20260425T155729
CREATED:20260419T002148Z
LAST-MODIFIED:20260419T003520Z
UID:10025771-1879005600-1879007400@bluewaterparent.com
SUMMARY:Bedtime Storytime - Port Huron
DESCRIPTION:
URL:https://bluewaterparent.com/event/bedtime-storytime/2029-07-17/
LOCATION:Main Library\, 210 McMorran Blvd\, Port Huron\, MI\, 48060\, United States
CATEGORIES:Playgroups
END:VEVENT
BEGIN:VEVENT
DTSTART;TZID=America/New_York:20290724T180000
DTEND;TZID=America/New_York:20290724T183000
DTSTAMP:20260425T155729
CREATED:20260419T002148Z
LAST-MODIFIED:20260419T003520Z
UID:10025772-1879610400-1879612200@bluewaterparent.com
SUMMARY:Bedtime Storytime - Port Huron
DESCRIPTION:
URL:https://bluewaterparent.com/event/bedtime-storytime/2029-07-24/
LOCATION:Main Library\, 210 McMorran Blvd\, Port Huron\, MI\, 48060\, United States
CATEGORIES:Playgroups
END:VEVENT
BEGIN:VEVENT
DTSTART;TZID=America/New_York:20290731T180000
DTEND;TZID=America/New_York:20290731T183000
DTSTAMP:20260425T155729
CREATED:20260419T002148Z
LAST-MODIFIED:20260419T003520Z
UID:10025773-1880215200-1880217000@bluewaterparent.com
SUMMARY:Bedtime Storytime - Port Huron
DESCRIPTION:
URL:https://bluewaterparent.com/event/bedtime-storytime/2029-07-31/
LOCATION:Main Library\, 210 McMorran Blvd\, Port Huron\, MI\, 48060\, United States
CATEGORIES:Playgroups
END:VEVENT
BEGIN:VEVENT
DTSTART;TZID=America/New_York:20290807T180000
DTEND;TZID=America/New_York:20290807T183000
DTSTAMP:20260425T155729
CREATED:20260419T002148Z
LAST-MODIFIED:20260419T003520Z
UID:10025774-1880820000-1880821800@bluewaterparent.com
SUMMARY:Bedtime Storytime - Port Huron
DESCRIPTION:
URL:https://bluewaterparent.com/event/bedtime-storytime/2029-08-07/
LOCATION:Main Library\, 210 McMorran Blvd\, Port Huron\, MI\, 48060\, United States
CATEGORIES:Playgroups
END:VEVENT
BEGIN:VEVENT
DTSTART;TZID=America/New_York:20290814T180000
DTEND;TZID=America/New_York:20290814T183000
DTSTAMP:20260425T155729
CREATED:20260419T002148Z
LAST-MODIFIED:20260419T003520Z
UID:10025775-1881424800-1881426600@bluewaterparent.com
SUMMARY:Bedtime Storytime - Port Huron
DESCRIPTION:
URL:https://bluewaterparent.com/event/bedtime-storytime/2029-08-14/
LOCATION:Main Library\, 210 McMorran Blvd\, Port Huron\, MI\, 48060\, United States
CATEGORIES:Playgroups
END:VEVENT
BEGIN:VEVENT
DTSTART;TZID=America/New_York:20290821T180000
DTEND;TZID=America/New_York:20290821T183000
DTSTAMP:20260425T155729
CREATED:20260419T002148Z
LAST-MODIFIED:20260419T003520Z
UID:10025776-1882029600-1882031400@bluewaterparent.com
SUMMARY:Bedtime Storytime - Port Huron
DESCRIPTION:
URL:https://bluewaterparent.com/event/bedtime-storytime/2029-08-21/
LOCATION:Main Library\, 210 McMorran Blvd\, Port Huron\, MI\, 48060\, United States
CATEGORIES:Playgroups
END:VEVENT
BEGIN:VEVENT
DTSTART;TZID=America/New_York:20290828T180000
DTEND;TZID=America/New_York:20290828T183000
DTSTAMP:20260425T155729
CREATED:20260419T002148Z
LAST-MODIFIED:20260419T003520Z
UID:10025777-1882634400-1882636200@bluewaterparent.com
SUMMARY:Bedtime Storytime - Port Huron
DESCRIPTION:
URL:https://bluewaterparent.com/event/bedtime-storytime/2029-08-28/
LOCATION:Main Library\, 210 McMorran Blvd\, Port Huron\, MI\, 48060\, United States
CATEGORIES:Playgroups
END:VEVENT
BEGIN:VEVENT
DTSTART;TZID=America/New_York:20290904T180000
DTEND;TZID=America/New_York:20290904T183000
DTSTAMP:20260425T155729
CREATED:20260419T002148Z
LAST-MODIFIED:20260419T003520Z
UID:10025778-1883239200-1883241000@bluewaterparent.com
SUMMARY:Bedtime Storytime - Port Huron
DESCRIPTION:
URL:https://bluewaterparent.com/event/bedtime-storytime/2029-09-04/
LOCATION:Main Library\, 210 McMorran Blvd\, Port Huron\, MI\, 48060\, United States
CATEGORIES:Playgroups
END:VEVENT
BEGIN:VEVENT
DTSTART;TZID=America/New_York:20290911T180000
DTEND;TZID=America/New_York:20290911T183000
DTSTAMP:20260425T155729
CREATED:20260419T002148Z
LAST-MODIFIED:20260419T003520Z
UID:10025779-1883844000-1883845800@bluewaterparent.com
SUMMARY:Bedtime Storytime - Port Huron
DESCRIPTION:
URL:https://bluewaterparent.com/event/bedtime-storytime/2029-09-11/
LOCATION:Main Library\, 210 McMorran Blvd\, Port Huron\, MI\, 48060\, United States
CATEGORIES:Playgroups
END:VEVENT
BEGIN:VEVENT
DTSTART;TZID=America/New_York:20290918T180000
DTEND;TZID=America/New_York:20290918T183000
DTSTAMP:20260425T155729
CREATED:20260419T002148Z
LAST-MODIFIED:20260419T003520Z
UID:10025780-1884448800-1884450600@bluewaterparent.com
SUMMARY:Bedtime Storytime - Port Huron
DESCRIPTION:
URL:https://bluewaterparent.com/event/bedtime-storytime/2029-09-18/
LOCATION:Main Library\, 210 McMorran Blvd\, Port Huron\, MI\, 48060\, United States
CATEGORIES:Playgroups
END:VEVENT
BEGIN:VEVENT
DTSTART;TZID=America/New_York:20290925T180000
DTEND;TZID=America/New_York:20290925T183000
DTSTAMP:20260425T155729
CREATED:20260419T002148Z
LAST-MODIFIED:20260419T003520Z
UID:10025781-1885053600-1885055400@bluewaterparent.com
SUMMARY:Bedtime Storytime - Port Huron
DESCRIPTION:
URL:https://bluewaterparent.com/event/bedtime-storytime/2029-09-25/
LOCATION:Main Library\, 210 McMorran Blvd\, Port Huron\, MI\, 48060\, United States
CATEGORIES:Playgroups
END:VEVENT
BEGIN:VEVENT
DTSTART;TZID=America/New_York:20291002T180000
DTEND;TZID=America/New_York:20291002T183000
DTSTAMP:20260425T155729
CREATED:20260419T002148Z
LAST-MODIFIED:20260419T003520Z
UID:10025782-1885658400-1885660200@bluewaterparent.com
SUMMARY:Bedtime Storytime - Port Huron
DESCRIPTION:
URL:https://bluewaterparent.com/event/bedtime-storytime/2029-10-02/
LOCATION:Main Library\, 210 McMorran Blvd\, Port Huron\, MI\, 48060\, United States
CATEGORIES:Playgroups
END:VEVENT
END:VCALENDAR