BEGIN:VCALENDAR
VERSION:2.0
PRODID:-//BlueWaterParent.com - ECPv6.15.20//NONSGML v1.0//EN
CALSCALE:GREGORIAN
METHOD:PUBLISH
X-ORIGINAL-URL:https://bluewaterparent.com
X-WR-CALDESC:Events for BlueWaterParent.com
REFRESH-INTERVAL;VALUE=DURATION:PT1H
X-Robots-Tag:noindex
X-PUBLISHED-TTL:PT1H
BEGIN:VTIMEZONE
TZID:America/New_York
BEGIN:DAYLIGHT
TZOFFSETFROM:-0500
TZOFFSETTO:-0400
TZNAME:EDT
DTSTART:20280312T070000
END:DAYLIGHT
BEGIN:STANDARD
TZOFFSETFROM:-0400
TZOFFSETTO:-0500
TZNAME:EST
DTSTART:20281105T060000
END:STANDARD
BEGIN:DAYLIGHT
TZOFFSETFROM:-0500
TZOFFSETTO:-0400
TZNAME:EDT
DTSTART:20290311T070000
END:DAYLIGHT
BEGIN:STANDARD
TZOFFSETFROM:-0400
TZOFFSETTO:-0500
TZNAME:EST
DTSTART:20291104T060000
END:STANDARD
BEGIN:DAYLIGHT
TZOFFSETFROM:-0500
TZOFFSETTO:-0400
TZNAME:EDT
DTSTART:20300310T070000
END:DAYLIGHT
BEGIN:STANDARD
TZOFFSETFROM:-0400
TZOFFSETTO:-0500
TZNAME:EST
DTSTART:20301103T060000
END:STANDARD
END:VTIMEZONE
BEGIN:VEVENT
DTSTART;TZID=America/New_York:20290314T100000
DTEND;TZID=America/New_York:20290314T110000
DTSTAMP:20260425T171113
CREATED:20260419T003159Z
LAST-MODIFIED:20260419T003555Z
UID:10026014-1868176800-1868180400@bluewaterparent.com
SUMMARY:Storytime - Port Huron
DESCRIPTION:
URL:https://bluewaterparent.com/event/storytime-port-huron/2029-03-14/
LOCATION:Main Library\, 210 McMorran Blvd\, Port Huron\, MI\, 48060\, United States
CATEGORIES:Playgroups
END:VEVENT
BEGIN:VEVENT
DTSTART;TZID=America/New_York:20290321T100000
DTEND;TZID=America/New_York:20290321T110000
DTSTAMP:20260425T171113
CREATED:20260419T003159Z
LAST-MODIFIED:20260419T003555Z
UID:10026015-1868781600-1868785200@bluewaterparent.com
SUMMARY:Storytime - Port Huron
DESCRIPTION:
URL:https://bluewaterparent.com/event/storytime-port-huron/2029-03-21/
LOCATION:Main Library\, 210 McMorran Blvd\, Port Huron\, MI\, 48060\, United States
CATEGORIES:Playgroups
END:VEVENT
BEGIN:VEVENT
DTSTART;TZID=America/New_York:20290328T100000
DTEND;TZID=America/New_York:20290328T110000
DTSTAMP:20260425T171113
CREATED:20260419T003159Z
LAST-MODIFIED:20260419T003555Z
UID:10026016-1869386400-1869390000@bluewaterparent.com
SUMMARY:Storytime - Port Huron
DESCRIPTION:
URL:https://bluewaterparent.com/event/storytime-port-huron/2029-03-28/
LOCATION:Main Library\, 210 McMorran Blvd\, Port Huron\, MI\, 48060\, United States
CATEGORIES:Playgroups
END:VEVENT
BEGIN:VEVENT
DTSTART;TZID=America/New_York:20290404T100000
DTEND;TZID=America/New_York:20290404T110000
DTSTAMP:20260425T171113
CREATED:20260419T003159Z
LAST-MODIFIED:20260419T003555Z
UID:10026017-1869991200-1869994800@bluewaterparent.com
SUMMARY:Storytime - Port Huron
DESCRIPTION:
URL:https://bluewaterparent.com/event/storytime-port-huron/2029-04-04/
LOCATION:Main Library\, 210 McMorran Blvd\, Port Huron\, MI\, 48060\, United States
CATEGORIES:Playgroups
END:VEVENT
BEGIN:VEVENT
DTSTART;TZID=America/New_York:20290411T100000
DTEND;TZID=America/New_York:20290411T110000
DTSTAMP:20260425T171113
CREATED:20260419T003159Z
LAST-MODIFIED:20260419T003555Z
UID:10026018-1870596000-1870599600@bluewaterparent.com
SUMMARY:Storytime - Port Huron
DESCRIPTION:
URL:https://bluewaterparent.com/event/storytime-port-huron/2029-04-11/
LOCATION:Main Library\, 210 McMorran Blvd\, Port Huron\, MI\, 48060\, United States
CATEGORIES:Playgroups
END:VEVENT
BEGIN:VEVENT
DTSTART;TZID=America/New_York:20290418T100000
DTEND;TZID=America/New_York:20290418T110000
DTSTAMP:20260425T171113
CREATED:20260419T003159Z
LAST-MODIFIED:20260419T003555Z
UID:10026019-1871200800-1871204400@bluewaterparent.com
SUMMARY:Storytime - Port Huron
DESCRIPTION:
URL:https://bluewaterparent.com/event/storytime-port-huron/2029-04-18/
LOCATION:Main Library\, 210 McMorran Blvd\, Port Huron\, MI\, 48060\, United States
CATEGORIES:Playgroups
END:VEVENT
BEGIN:VEVENT
DTSTART;TZID=America/New_York:20290425T100000
DTEND;TZID=America/New_York:20290425T110000
DTSTAMP:20260425T171113
CREATED:20260419T003159Z
LAST-MODIFIED:20260419T003555Z
UID:10026020-1871805600-1871809200@bluewaterparent.com
SUMMARY:Storytime - Port Huron
DESCRIPTION:
URL:https://bluewaterparent.com/event/storytime-port-huron/2029-04-25/
LOCATION:Main Library\, 210 McMorran Blvd\, Port Huron\, MI\, 48060\, United States
CATEGORIES:Playgroups
END:VEVENT
BEGIN:VEVENT
DTSTART;TZID=America/New_York:20290502T100000
DTEND;TZID=America/New_York:20290502T110000
DTSTAMP:20260425T171113
CREATED:20260419T003159Z
LAST-MODIFIED:20260419T003555Z
UID:10026021-1872410400-1872414000@bluewaterparent.com
SUMMARY:Storytime - Port Huron
DESCRIPTION:
URL:https://bluewaterparent.com/event/storytime-port-huron/2029-05-02/
LOCATION:Main Library\, 210 McMorran Blvd\, Port Huron\, MI\, 48060\, United States
CATEGORIES:Playgroups
END:VEVENT
BEGIN:VEVENT
DTSTART;TZID=America/New_York:20290509T100000
DTEND;TZID=America/New_York:20290509T110000
DTSTAMP:20260425T171113
CREATED:20260419T003159Z
LAST-MODIFIED:20260419T003555Z
UID:10026022-1873015200-1873018800@bluewaterparent.com
SUMMARY:Storytime - Port Huron
DESCRIPTION:
URL:https://bluewaterparent.com/event/storytime-port-huron/2029-05-09/
LOCATION:Main Library\, 210 McMorran Blvd\, Port Huron\, MI\, 48060\, United States
CATEGORIES:Playgroups
END:VEVENT
BEGIN:VEVENT
DTSTART;TZID=America/New_York:20290516T100000
DTEND;TZID=America/New_York:20290516T110000
DTSTAMP:20260425T171113
CREATED:20260419T003159Z
LAST-MODIFIED:20260419T003555Z
UID:10026023-1873620000-1873623600@bluewaterparent.com
SUMMARY:Storytime - Port Huron
DESCRIPTION:
URL:https://bluewaterparent.com/event/storytime-port-huron/2029-05-16/
LOCATION:Main Library\, 210 McMorran Blvd\, Port Huron\, MI\, 48060\, United States
CATEGORIES:Playgroups
END:VEVENT
BEGIN:VEVENT
DTSTART;TZID=America/New_York:20290523T100000
DTEND;TZID=America/New_York:20290523T110000
DTSTAMP:20260425T171113
CREATED:20260419T003159Z
LAST-MODIFIED:20260419T003555Z
UID:10026024-1874224800-1874228400@bluewaterparent.com
SUMMARY:Storytime - Port Huron
DESCRIPTION:
URL:https://bluewaterparent.com/event/storytime-port-huron/2029-05-23/
LOCATION:Main Library\, 210 McMorran Blvd\, Port Huron\, MI\, 48060\, United States
CATEGORIES:Playgroups
END:VEVENT
BEGIN:VEVENT
DTSTART;TZID=America/New_York:20290530T100000
DTEND;TZID=America/New_York:20290530T110000
DTSTAMP:20260425T171113
CREATED:20260419T003159Z
LAST-MODIFIED:20260419T003555Z
UID:10026025-1874829600-1874833200@bluewaterparent.com
SUMMARY:Storytime - Port Huron
DESCRIPTION:
URL:https://bluewaterparent.com/event/storytime-port-huron/2029-05-30/
LOCATION:Main Library\, 210 McMorran Blvd\, Port Huron\, MI\, 48060\, United States
CATEGORIES:Playgroups
END:VEVENT
BEGIN:VEVENT
DTSTART;TZID=America/New_York:20290606T100000
DTEND;TZID=America/New_York:20290606T110000
DTSTAMP:20260425T171113
CREATED:20260419T003159Z
LAST-MODIFIED:20260419T003555Z
UID:10026026-1875434400-1875438000@bluewaterparent.com
SUMMARY:Storytime - Port Huron
DESCRIPTION:
URL:https://bluewaterparent.com/event/storytime-port-huron/2029-06-06/
LOCATION:Main Library\, 210 McMorran Blvd\, Port Huron\, MI\, 48060\, United States
CATEGORIES:Playgroups
END:VEVENT
BEGIN:VEVENT
DTSTART;TZID=America/New_York:20290613T100000
DTEND;TZID=America/New_York:20290613T110000
DTSTAMP:20260425T171113
CREATED:20260419T003159Z
LAST-MODIFIED:20260419T003555Z
UID:10026027-1876039200-1876042800@bluewaterparent.com
SUMMARY:Storytime - Port Huron
DESCRIPTION:
URL:https://bluewaterparent.com/event/storytime-port-huron/2029-06-13/
LOCATION:Main Library\, 210 McMorran Blvd\, Port Huron\, MI\, 48060\, United States
CATEGORIES:Playgroups
END:VEVENT
BEGIN:VEVENT
DTSTART;TZID=America/New_York:20290620T100000
DTEND;TZID=America/New_York:20290620T110000
DTSTAMP:20260425T171113
CREATED:20260419T003159Z
LAST-MODIFIED:20260419T003555Z
UID:10026028-1876644000-1876647600@bluewaterparent.com
SUMMARY:Storytime - Port Huron
DESCRIPTION:
URL:https://bluewaterparent.com/event/storytime-port-huron/2029-06-20/
LOCATION:Main Library\, 210 McMorran Blvd\, Port Huron\, MI\, 48060\, United States
CATEGORIES:Playgroups
END:VEVENT
BEGIN:VEVENT
DTSTART;TZID=America/New_York:20290627T100000
DTEND;TZID=America/New_York:20290627T110000
DTSTAMP:20260425T171113
CREATED:20260419T003159Z
LAST-MODIFIED:20260419T003555Z
UID:10026029-1877248800-1877252400@bluewaterparent.com
SUMMARY:Storytime - Port Huron
DESCRIPTION:
URL:https://bluewaterparent.com/event/storytime-port-huron/2029-06-27/
LOCATION:Main Library\, 210 McMorran Blvd\, Port Huron\, MI\, 48060\, United States
CATEGORIES:Playgroups
END:VEVENT
BEGIN:VEVENT
DTSTART;TZID=America/New_York:20290704T100000
DTEND;TZID=America/New_York:20290704T110000
DTSTAMP:20260425T171113
CREATED:20260419T003159Z
LAST-MODIFIED:20260419T003555Z
UID:10026030-1877853600-1877857200@bluewaterparent.com
SUMMARY:Storytime - Port Huron
DESCRIPTION:
URL:https://bluewaterparent.com/event/storytime-port-huron/2029-07-04/
LOCATION:Main Library\, 210 McMorran Blvd\, Port Huron\, MI\, 48060\, United States
CATEGORIES:Playgroups
END:VEVENT
BEGIN:VEVENT
DTSTART;TZID=America/New_York:20290711T100000
DTEND;TZID=America/New_York:20290711T110000
DTSTAMP:20260425T171113
CREATED:20260419T003159Z
LAST-MODIFIED:20260419T003555Z
UID:10026031-1878458400-1878462000@bluewaterparent.com
SUMMARY:Storytime - Port Huron
DESCRIPTION:
URL:https://bluewaterparent.com/event/storytime-port-huron/2029-07-11/
LOCATION:Main Library\, 210 McMorran Blvd\, Port Huron\, MI\, 48060\, United States
CATEGORIES:Playgroups
END:VEVENT
BEGIN:VEVENT
DTSTART;TZID=America/New_York:20290718T100000
DTEND;TZID=America/New_York:20290718T110000
DTSTAMP:20260425T171113
CREATED:20260419T003159Z
LAST-MODIFIED:20260419T003555Z
UID:10026032-1879063200-1879066800@bluewaterparent.com
SUMMARY:Storytime - Port Huron
DESCRIPTION:
URL:https://bluewaterparent.com/event/storytime-port-huron/2029-07-18/
LOCATION:Main Library\, 210 McMorran Blvd\, Port Huron\, MI\, 48060\, United States
CATEGORIES:Playgroups
END:VEVENT
BEGIN:VEVENT
DTSTART;TZID=America/New_York:20290725T100000
DTEND;TZID=America/New_York:20290725T110000
DTSTAMP:20260425T171113
CREATED:20260419T003159Z
LAST-MODIFIED:20260419T003555Z
UID:10026033-1879668000-1879671600@bluewaterparent.com
SUMMARY:Storytime - Port Huron
DESCRIPTION:
URL:https://bluewaterparent.com/event/storytime-port-huron/2029-07-25/
LOCATION:Main Library\, 210 McMorran Blvd\, Port Huron\, MI\, 48060\, United States
CATEGORIES:Playgroups
END:VEVENT
BEGIN:VEVENT
DTSTART;TZID=America/New_York:20290801T100000
DTEND;TZID=America/New_York:20290801T110000
DTSTAMP:20260425T171113
CREATED:20260419T003159Z
LAST-MODIFIED:20260419T003555Z
UID:10026034-1880272800-1880276400@bluewaterparent.com
SUMMARY:Storytime - Port Huron
DESCRIPTION:
URL:https://bluewaterparent.com/event/storytime-port-huron/2029-08-01/
LOCATION:Main Library\, 210 McMorran Blvd\, Port Huron\, MI\, 48060\, United States
CATEGORIES:Playgroups
END:VEVENT
BEGIN:VEVENT
DTSTART;TZID=America/New_York:20290808T100000
DTEND;TZID=America/New_York:20290808T110000
DTSTAMP:20260425T171113
CREATED:20260419T003159Z
LAST-MODIFIED:20260419T003555Z
UID:10026035-1880877600-1880881200@bluewaterparent.com
SUMMARY:Storytime - Port Huron
DESCRIPTION:
URL:https://bluewaterparent.com/event/storytime-port-huron/2029-08-08/
LOCATION:Main Library\, 210 McMorran Blvd\, Port Huron\, MI\, 48060\, United States
CATEGORIES:Playgroups
END:VEVENT
BEGIN:VEVENT
DTSTART;TZID=America/New_York:20290815T100000
DTEND;TZID=America/New_York:20290815T110000
DTSTAMP:20260425T171113
CREATED:20260419T003159Z
LAST-MODIFIED:20260419T003555Z
UID:10026036-1881482400-1881486000@bluewaterparent.com
SUMMARY:Storytime - Port Huron
DESCRIPTION:
URL:https://bluewaterparent.com/event/storytime-port-huron/2029-08-15/
LOCATION:Main Library\, 210 McMorran Blvd\, Port Huron\, MI\, 48060\, United States
CATEGORIES:Playgroups
END:VEVENT
BEGIN:VEVENT
DTSTART;TZID=America/New_York:20290822T100000
DTEND;TZID=America/New_York:20290822T110000
DTSTAMP:20260425T171113
CREATED:20260419T003159Z
LAST-MODIFIED:20260419T003555Z
UID:10026037-1882087200-1882090800@bluewaterparent.com
SUMMARY:Storytime - Port Huron
DESCRIPTION:
URL:https://bluewaterparent.com/event/storytime-port-huron/2029-08-22/
LOCATION:Main Library\, 210 McMorran Blvd\, Port Huron\, MI\, 48060\, United States
CATEGORIES:Playgroups
END:VEVENT
BEGIN:VEVENT
DTSTART;TZID=America/New_York:20290829T100000
DTEND;TZID=America/New_York:20290829T110000
DTSTAMP:20260425T171113
CREATED:20260419T003159Z
LAST-MODIFIED:20260419T003555Z
UID:10026038-1882692000-1882695600@bluewaterparent.com
SUMMARY:Storytime - Port Huron
DESCRIPTION:
URL:https://bluewaterparent.com/event/storytime-port-huron/2029-08-29/
LOCATION:Main Library\, 210 McMorran Blvd\, Port Huron\, MI\, 48060\, United States
CATEGORIES:Playgroups
END:VEVENT
BEGIN:VEVENT
DTSTART;TZID=America/New_York:20290905T100000
DTEND;TZID=America/New_York:20290905T110000
DTSTAMP:20260425T171113
CREATED:20260419T003159Z
LAST-MODIFIED:20260419T003555Z
UID:10026039-1883296800-1883300400@bluewaterparent.com
SUMMARY:Storytime - Port Huron
DESCRIPTION:
URL:https://bluewaterparent.com/event/storytime-port-huron/2029-09-05/
LOCATION:Main Library\, 210 McMorran Blvd\, Port Huron\, MI\, 48060\, United States
CATEGORIES:Playgroups
END:VEVENT
BEGIN:VEVENT
DTSTART;TZID=America/New_York:20290912T100000
DTEND;TZID=America/New_York:20290912T110000
DTSTAMP:20260425T171113
CREATED:20260419T003159Z
LAST-MODIFIED:20260419T003555Z
UID:10026040-1883901600-1883905200@bluewaterparent.com
SUMMARY:Storytime - Port Huron
DESCRIPTION:
URL:https://bluewaterparent.com/event/storytime-port-huron/2029-09-12/
LOCATION:Main Library\, 210 McMorran Blvd\, Port Huron\, MI\, 48060\, United States
CATEGORIES:Playgroups
END:VEVENT
BEGIN:VEVENT
DTSTART;TZID=America/New_York:20290919T100000
DTEND;TZID=America/New_York:20290919T110000
DTSTAMP:20260425T171113
CREATED:20260419T003159Z
LAST-MODIFIED:20260419T003555Z
UID:10026041-1884506400-1884510000@bluewaterparent.com
SUMMARY:Storytime - Port Huron
DESCRIPTION:
URL:https://bluewaterparent.com/event/storytime-port-huron/2029-09-19/
LOCATION:Main Library\, 210 McMorran Blvd\, Port Huron\, MI\, 48060\, United States
CATEGORIES:Playgroups
END:VEVENT
BEGIN:VEVENT
DTSTART;TZID=America/New_York:20290926T100000
DTEND;TZID=America/New_York:20290926T110000
DTSTAMP:20260425T171113
CREATED:20260419T003159Z
LAST-MODIFIED:20260419T003555Z
UID:10026042-1885111200-1885114800@bluewaterparent.com
SUMMARY:Storytime - Port Huron
DESCRIPTION:
URL:https://bluewaterparent.com/event/storytime-port-huron/2029-09-26/
LOCATION:Main Library\, 210 McMorran Blvd\, Port Huron\, MI\, 48060\, United States
CATEGORIES:Playgroups
END:VEVENT
BEGIN:VEVENT
DTSTART;TZID=America/New_York:20291003T100000
DTEND;TZID=America/New_York:20291003T110000
DTSTAMP:20260425T171113
CREATED:20260419T003159Z
LAST-MODIFIED:20260419T003555Z
UID:10026043-1885716000-1885719600@bluewaterparent.com
SUMMARY:Storytime - Port Huron
DESCRIPTION:
URL:https://bluewaterparent.com/event/storytime-port-huron/2029-10-03/
LOCATION:Main Library\, 210 McMorran Blvd\, Port Huron\, MI\, 48060\, United States
CATEGORIES:Playgroups
END:VEVENT
END:VCALENDAR