BEGIN:VCALENDAR
VERSION:2.0
PRODID:-//BlueWaterParent.com - ECPv6.15.20//NONSGML v1.0//EN
CALSCALE:GREGORIAN
METHOD:PUBLISH
X-WR-CALNAME:BlueWaterParent.com
X-ORIGINAL-URL:https://bluewaterparent.com
X-WR-CALDESC:Events for BlueWaterParent.com
REFRESH-INTERVAL;VALUE=DURATION:PT1H
X-Robots-Tag:noindex
X-PUBLISHED-TTL:PT1H
BEGIN:VTIMEZONE
TZID:America/New_York
BEGIN:DAYLIGHT
TZOFFSETFROM:-0500
TZOFFSETTO:-0400
TZNAME:EDT
DTSTART:20250309T070000
END:DAYLIGHT
BEGIN:STANDARD
TZOFFSETFROM:-0400
TZOFFSETTO:-0500
TZNAME:EST
DTSTART:20251102T060000
END:STANDARD
BEGIN:DAYLIGHT
TZOFFSETFROM:-0500
TZOFFSETTO:-0400
TZNAME:EDT
DTSTART:20260308T070000
END:DAYLIGHT
BEGIN:STANDARD
TZOFFSETFROM:-0400
TZOFFSETTO:-0500
TZNAME:EST
DTSTART:20261101T060000
END:STANDARD
BEGIN:DAYLIGHT
TZOFFSETFROM:-0500
TZOFFSETTO:-0400
TZNAME:EDT
DTSTART:20270314T070000
END:DAYLIGHT
BEGIN:STANDARD
TZOFFSETFROM:-0400
TZOFFSETTO:-0500
TZNAME:EST
DTSTART:20271107T060000
END:STANDARD
END:VTIMEZONE
BEGIN:VEVENT
DTSTART;TZID=America/New_York:20260120T140000
DTEND;TZID=America/New_York:20260120T150000
DTSTAMP:20260420T011409
CREATED:20260107T212202Z
LAST-MODIFIED:20260107T222615Z
UID:10021744-1768917600-1768921200@bluewaterparent.com
SUMMARY:Discovery City Craft Lab
DESCRIPTION:
URL:https://bluewaterparent.com/event/discovery-city-craft-lab/2026-01-20/
LOCATION:Discovery City Children’s Museum\, 317 Grand River Avenue\, Port huron\, MI\, 48060
CATEGORIES:Playgroups
END:VEVENT
BEGIN:VEVENT
DTSTART;TZID=America/New_York:20260120T130000
DTEND;TZID=America/New_York:20260120T140000
DTSTAMP:20260420T011409
CREATED:20260103T005235Z
LAST-MODIFIED:20260131T163322Z
UID:10021364-1768914000-1768917600@bluewaterparent.com
SUMMARY:Teen Craft Time Early Edition
DESCRIPTION:For ages 12-18. \n 
URL:https://bluewaterparent.com/event/teen-craft-time-early-edition/2026-01-20/
LOCATION:Marysville Library\, 1175 Delaware\, Marysville\, MI
END:VEVENT
BEGIN:VEVENT
DTSTART;TZID=America/New_York:20260120T103000
DTEND;TZID=America/New_York:20260120T113000
DTSTAMP:20260420T011409
CREATED:20251124T172439Z
LAST-MODIFIED:20251124T172439Z
UID:10016769-1768905000-1768908600@bluewaterparent.com
SUMMARY:Storytime- Capac
DESCRIPTION:
URL:https://bluewaterparent.com/event/storytime-capac-3/2026-01-20/
LOCATION:Capac Library\, 111 N Main St\, Capac\, MI\, 48014\, United States
CATEGORIES:Playgroups
END:VEVENT
BEGIN:VEVENT
DTSTART;TZID=America/New_York:20260120T100000
DTEND;TZID=America/New_York:20260120T110000
DTSTAMP:20260420T011409
CREATED:20250923T162306Z
LAST-MODIFIED:20250923T163433Z
UID:10016008-1768903200-1768906800@bluewaterparent.com
SUMMARY:Great Start Playgroup- Algonac
DESCRIPTION:
URL:https://bluewaterparent.com/event/st-clair-county-great-start-playgroups/2026-01-20/
LOCATION:Pointe Tremble Early Childhood Center\, 9541 Phelps Rd\, Clay Township
CATEGORIES:Playgroups
END:VEVENT
BEGIN:VEVENT
DTSTART;TZID=America/New_York:20260120T100000
DTEND;TZID=America/New_York:20260120T103000
DTSTAMP:20260420T011409
CREATED:20260101T182222Z
LAST-MODIFIED:20260101T182536Z
UID:10018492-1768903200-1768905000@bluewaterparent.com
SUMMARY:Rhythm and Rhyme - Port Huron
DESCRIPTION:
URL:https://bluewaterparent.com/event/rhythm-and-rhyme-port-huron-2/2026-01-20/
LOCATION:Main Library\, 210 McMorran Blvd\, Port Huron\, MI\, 48060\, United States
CATEGORIES:Playgroups
END:VEVENT
END:VCALENDAR