BEGIN:VCALENDAR
VERSION:2.0
PRODID:-//BlueWaterParent.com - ECPv6.15.20//NONSGML v1.0//EN
CALSCALE:GREGORIAN
METHOD:PUBLISH
X-ORIGINAL-URL:https://bluewaterparent.com
X-WR-CALDESC:Events for BlueWaterParent.com
REFRESH-INTERVAL;VALUE=DURATION:PT1H
X-Robots-Tag:noindex
X-PUBLISHED-TTL:PT1H
BEGIN:VTIMEZONE
TZID:America/New_York
BEGIN:DAYLIGHT
TZOFFSETFROM:-0500
TZOFFSETTO:-0400
TZNAME:EDT
DTSTART:20250309T070000
END:DAYLIGHT
BEGIN:STANDARD
TZOFFSETFROM:-0400
TZOFFSETTO:-0500
TZNAME:EST
DTSTART:20251102T060000
END:STANDARD
BEGIN:DAYLIGHT
TZOFFSETFROM:-0500
TZOFFSETTO:-0400
TZNAME:EDT
DTSTART:20260308T070000
END:DAYLIGHT
BEGIN:STANDARD
TZOFFSETFROM:-0400
TZOFFSETTO:-0500
TZNAME:EST
DTSTART:20261101T060000
END:STANDARD
BEGIN:DAYLIGHT
TZOFFSETFROM:-0500
TZOFFSETTO:-0400
TZNAME:EDT
DTSTART:20270314T070000
END:DAYLIGHT
BEGIN:STANDARD
TZOFFSETFROM:-0400
TZOFFSETTO:-0500
TZNAME:EST
DTSTART:20271107T060000
END:STANDARD
END:VTIMEZONE
BEGIN:VEVENT
DTSTART;TZID=America/New_York:20260418T090000
DTEND;TZID=America/New_York:20260418T150000
DTSTAMP:20260423T190420
CREATED:20260119T193313Z
LAST-MODIFIED:20260119T193313Z
UID:10021802-1776502800-1776524400@bluewaterparent.com
SUMMARY:Marysville Lego Competition
DESCRIPTION:
URL:https://bluewaterparent.com/event/marysville-lego-competition/
LOCATION:MI
END:VEVENT
BEGIN:VEVENT
DTSTART;TZID=America/New_York:20260418T100000
DTEND;TZID=America/New_York:20260418T160000
DTSTAMP:20260423T190420
CREATED:20260414T004534Z
LAST-MODIFIED:20260414T004534Z
UID:10025331-1776506400-1776528000@bluewaterparent.com
SUMMARY:Healthy Kids Day 
DESCRIPTION:Vendors and department stations will run from 10:00 AM to 2:00 PM.\nPool party will be offered 12:30-4:00PM.\nFree to the public\, but registration is required.
URL:https://bluewaterparent.com/event/healthy-kids-day/
LOCATION:YMCA of the Blue Water Area\, 1525 3rd Street\, Port Huron\, MI\, 48060
CATEGORIES:Free,sports
END:VEVENT
BEGIN:VEVENT
DTSTART;TZID=America/New_York:20260418T110000
DTEND;TZID=America/New_York:20260418T120000
DTSTAMP:20260423T190420
CREATED:20260328T185635Z
LAST-MODIFIED:20260401T013451Z
UID:10024892-1776510000-1776513600@bluewaterparent.com
SUMMARY:Spring Craft
DESCRIPTION:Registation requested.
URL:https://bluewaterparent.com/event/spring-craft/
LOCATION:Algonac-Clay Library\, 2011 St Clair River Dr\, Algonac\, MI\, 48001\, United States
CATEGORIES:Free
END:VEVENT
BEGIN:VEVENT
DTSTART;TZID=America/New_York:20260418T110000
DTEND;TZID=America/New_York:20260418T123000
DTSTAMP:20260423T190420
CREATED:20260328T185806Z
LAST-MODIFIED:20260401T013639Z
UID:10024922-1776510000-1776515400@bluewaterparent.com
SUMMARY:STEM for Kids: Creeping Colors
DESCRIPTION:Registation requested.
URL:https://bluewaterparent.com/event/stem-for-kids-creeping-colors/
LOCATION:Marysville Library\, 1175 Delaware\, Marysville\, MI
CATEGORIES:Free
END:VEVENT
BEGIN:VEVENT
DTSTART;TZID=America/New_York:20260418T130000
DTEND;TZID=America/New_York:20260418T150000
DTSTAMP:20260423T190420
CREATED:20260328T185734Z
LAST-MODIFIED:20260328T185734Z
UID:10024911-1776517200-1776524400@bluewaterparent.com
SUMMARY:Saturday Crafternoons
DESCRIPTION:
URL:https://bluewaterparent.com/event/saturday-crafternoons/
LOCATION:Main Library\, 210 McMorran Blvd\, Port Huron\, MI\, 48060\, United States
CATEGORIES:Free
END:VEVENT
BEGIN:VEVENT
DTSTART;TZID=America/New_York:20260418T130000
DTEND;TZID=America/New_York:20260418T150000
DTSTAMP:20260423T190420
CREATED:20260328T185837Z
LAST-MODIFIED:20260401T013727Z
UID:10024933-1776517200-1776524400@bluewaterparent.com
SUMMARY:Finger-Knitting Bookmarks
DESCRIPTION:
URL:https://bluewaterparent.com/event/finger-knitting-bookmarks/
LOCATION:Yale Library\, 2 Jones St\, Yale\, MI\, 48097\, United States
CATEGORIES:Free
END:VEVENT
BEGIN:VEVENT
DTSTART;TZID=America/New_York:20260418T140000
DTEND;TZID=America/New_York:20260418T160000
DTSTAMP:20260423T190420
CREATED:20260328T185718Z
LAST-MODIFIED:20260401T013604Z
UID:10024906-1776520800-1776528000@bluewaterparent.com
SUMMARY:CRAFT: Pet Cactus Rocks
DESCRIPTION:Registation Required.
URL:https://bluewaterparent.com/event/craft-pet-cactus-rocks/
LOCATION:Ira Township Library\, 7013 Meldrum Rd\, Ira Township\, Michigan\, 48023\, United States
CATEGORIES:Free
END:VEVENT
BEGIN:VEVENT
DTSTART;TZID=America/New_York:20260420T100000
DTEND;TZID=America/New_York:20260420T110000
DTSTAMP:20260423T190420
CREATED:20260101T192653Z
LAST-MODIFIED:20260307T025320Z
UID:10024350-1776679200-1776682800@bluewaterparent.com
SUMMARY:Storytime - St. Clair
DESCRIPTION:From SCCLS – Join us for a fun and educational blend of stories\, crafts\, movement activities\, and songs.
URL:https://bluewaterparent.com/event/storytime-st-clair/2026-04-20/
LOCATION:St. Clair Library\, 310 S. 2nd Street\, St. Clair\, MI
CATEGORIES:Free,Playgroups
END:VEVENT
BEGIN:VEVENT
DTSTART;TZID=America/New_York:20260420T100000
DTEND;TZID=America/New_York:20260420T110000
DTSTAMP:20260423T190420
CREATED:20260125T194928Z
LAST-MODIFIED:20260125T194929Z
UID:10017459-1776679200-1776682800@bluewaterparent.com
SUMMARY:Storytime - Marysville
DESCRIPTION:From SCCLS – Preschoolers and their adults: Join us at the library for a happy blend of stories\, rhymes\, music and movement\, followed by a creative activity time.
URL:https://bluewaterparent.com/event/storytime-marysville-3/2026-04-20/
LOCATION:Marysville Library\, 1175 Delaware\, Marysville\, MI
CATEGORIES:Free,Playgroups
END:VEVENT
BEGIN:VEVENT
DTSTART;TZID=America/New_York:20260420T100000
DTEND;TZID=America/New_York:20260420T110000
DTSTAMP:20260423T190420
CREATED:20260307T142323Z
LAST-MODIFIED:20260307T142325Z
UID:10017198-1776679200-1776682800@bluewaterparent.com
SUMMARY:Storytime - Yale
DESCRIPTION:
URL:https://bluewaterparent.com/event/storytime-yale-2-2-2/2026-04-20/
LOCATION:Yale Library\, 2 Jones St\, Yale\, MI\, 48097\, United States
CATEGORIES:Free,Playgroups
END:VEVENT
BEGIN:VEVENT
DTSTART;TZID=America/New_York:20260420T100000
DTEND;TZID=America/New_York:20260420T110000
DTSTAMP:20260423T190420
CREATED:20260419T005948Z
LAST-MODIFIED:20260419T005948Z
UID:10026385-1776679200-1776682800@bluewaterparent.com
SUMMARY:Toddler Time
DESCRIPTION:Registration required.
URL:https://bluewaterparent.com/event/toddler-time/
LOCATION:Discovery City Children’s Museum\, 317 Grand River Avenue\, Port huron\, MI\, 48060
CATEGORIES:Playgroups
END:VEVENT
BEGIN:VEVENT
DTSTART;TZID=America/New_York:20260420T103000
DTEND;TZID=America/New_York:20260420T110000
DTSTAMP:20260423T190420
CREATED:20260401T010404Z
LAST-MODIFIED:20260401T010407Z
UID:10024963-1776681000-1776682800@bluewaterparent.com
SUMMARY:Storytime - Burtchville
DESCRIPTION:
URL:https://bluewaterparent.com/event/storytime-burtchville-3-2/2026-04-20/
LOCATION:Burtchville Library\, 7093 2nd St\, Lakeport\, MI\, 48059\, United States
CATEGORIES:Free,Playgroups
END:VEVENT
BEGIN:VEVENT
DTSTART;TZID=America/New_York:20260420T103000
DTEND;TZID=America/New_York:20260420T113000
DTSTAMP:20260423T190420
CREATED:20260321T165751Z
LAST-MODIFIED:20260321T165752Z
UID:10017720-1776681000-1776684600@bluewaterparent.com
SUMMARY:Storytime - Marine City
DESCRIPTION:From SCCLS – Preschoolers and their adults join us at the library for a happy blend of stories and activities.
URL:https://bluewaterparent.com/event/storytime-marine-city-2-2/2026-04-20/
LOCATION:Marine City Library\, 300 S Parker St\, Marine City\, MI\, 48039\, United States
CATEGORIES:Free,Playgroups
END:VEVENT
BEGIN:VEVENT
DTSTART;TZID=America/New_York:20260420T160000
DTEND;TZID=America/New_York:20260420T170000
DTSTAMP:20260423T190420
CREATED:20260328T185735Z
LAST-MODIFIED:20260328T185735Z
UID:10024912-1776700800-1776704400@bluewaterparent.com
SUMMARY:Phonics Fun
DESCRIPTION:Registation requested.
URL:https://bluewaterparent.com/event/phonics-fun-3/
LOCATION:Main Library\, 210 McMorran Blvd\, Port Huron\, MI\, 48060\, United States
CATEGORIES:Free
END:VEVENT
BEGIN:VEVENT
DTSTART;TZID=America/New_York:20260421T080000
DTEND;TZID=America/New_York:20260421T170000
DTSTAMP:20260423T190420
CREATED:20260418T235804Z
LAST-MODIFIED:20260419T000903Z
UID:10025341-1776758400-1776790800@bluewaterparent.com
SUMMARY:Rhythm and Rhyme - Port Huron
DESCRIPTION:For children ages 0-3 and their caregivers.
URL:https://bluewaterparent.com/event/rhythm-and-rhyme-port-huron/2026-04-21/1/
LOCATION:Main Library\, 210 McMorran Blvd\, Port Huron\, MI\, 48060\, United States
CATEGORIES:Playgroups
END:VEVENT
BEGIN:VEVENT
DTSTART;TZID=America/New_York:20260421T100000
DTEND;TZID=America/New_York:20260421T103000
DTSTAMP:20260423T190420
CREATED:20260418T235804Z
LAST-MODIFIED:20260419T000903Z
UID:10025340-1776765600-1776767400@bluewaterparent.com
SUMMARY:Rhythm and Rhyme - Port Huron
DESCRIPTION:For children ages 0-3 and their caregivers.
URL:https://bluewaterparent.com/event/rhythm-and-rhyme-port-huron/2026-04-21/2/
LOCATION:Main Library\, 210 McMorran Blvd\, Port Huron\, MI\, 48060\, United States
CATEGORIES:Playgroups
END:VEVENT
BEGIN:VEVENT
DTSTART;TZID=America/New_York:20260421T100000
DTEND;TZID=America/New_York:20260421T110000
DTSTAMP:20260423T190420
CREATED:20260307T013740Z
LAST-MODIFIED:20260307T013741Z
UID:10016021-1776765600-1776769200@bluewaterparent.com
SUMMARY:Great Start Playgroup - Algonac
DESCRIPTION:
URL:https://bluewaterparent.com/event/st-clair-county-great-start-playgroups-2/2026-04-21/
LOCATION:Pointe Tremble Early Childhood Center\, 9541 Phelps Rd\, Clay Township
CATEGORIES:Playgroups
END:VEVENT
BEGIN:VEVENT
DTSTART;TZID=America/New_York:20260421T103000
DTEND;TZID=America/New_York:20260421T113000
DTSTAMP:20260423T190420
CREATED:20260307T144224Z
LAST-MODIFIED:20260307T144226Z
UID:10016782-1776767400-1776771000@bluewaterparent.com
SUMMARY:Storytime - Capac
DESCRIPTION:
URL:https://bluewaterparent.com/event/storytime-capac-3-2/2026-04-21/
LOCATION:Capac Library\, 111 N Main St\, Capac\, MI\, 48014\, United States
CATEGORIES:Playgroups
END:VEVENT
BEGIN:VEVENT
DTSTART;TZID=America/New_York:20260421T130000
DTEND;TZID=America/New_York:20260421T140000
DTSTAMP:20260423T190420
CREATED:20260103T005235Z
LAST-MODIFIED:20260131T163322Z
UID:10026911-1776776400-1776780000@bluewaterparent.com
SUMMARY:Teen Craft Time Early Edition
DESCRIPTION:For ages 12-18. \n 
URL:https://bluewaterparent.com/event/teen-craft-time-early-edition/2026-04-21/
LOCATION:Marysville Library\, 1175 Delaware\, Marysville\, MI
END:VEVENT
BEGIN:VEVENT
DTSTART;TZID=America/New_York:20260421T130000
DTEND;TZID=America/New_York:20260421T140000
DTSTAMP:20260423T190420
CREATED:20260328T185819Z
LAST-MODIFIED:20260401T014035Z
UID:10024926-1776776400-1776780000@bluewaterparent.com
SUMMARY:Teen Craft Club--Early Edition
DESCRIPTION:Registation requested.
URL:https://bluewaterparent.com/event/teen-craft-club-early-edition/
LOCATION:Marysville Library\, 1175 Delaware\, Marysville\, MI
CATEGORIES:Free,Teens
END:VEVENT
BEGIN:VEVENT
DTSTART;TZID=America/New_York:20260421T153000
DTEND;TZID=America/New_York:20260421T163000
DTSTAMP:20260423T190420
CREATED:20260103T011416Z
LAST-MODIFIED:20260103T011510Z
UID:10026912-1776785400-1776789000@bluewaterparent.com
SUMMARY:Teen Craft Time
DESCRIPTION:For ages 12-18. \n 
URL:https://bluewaterparent.com/event/teen-craft-time/2026-04-21/
LOCATION:Marysville Library\, 1175 Delaware\, Marysville\, MI
CATEGORIES:Free,Teens
END:VEVENT
BEGIN:VEVENT
DTSTART;TZID=America/New_York:20260421T153000
DTEND;TZID=America/New_York:20260421T163000
DTSTAMP:20260423T190420
CREATED:20260328T185820Z
LAST-MODIFIED:20260401T013952Z
UID:10024927-1776785400-1776789000@bluewaterparent.com
SUMMARY:Teen Craft Club
DESCRIPTION:Registation requested.
URL:https://bluewaterparent.com/event/teen-craft-club/
LOCATION:Marysville Library\, 1175 Delaware\, Marysville\, MI
CATEGORIES:Free,Teens
END:VEVENT
BEGIN:VEVENT
DTSTART;TZID=America/New_York:20260421T153000
DTEND;TZID=America/New_York:20260421T173000
DTSTAMP:20260423T190420
CREATED:20260328T185849Z
LAST-MODIFIED:20260401T014156Z
UID:10024936-1776785400-1776792600@bluewaterparent.com
SUMMARY:Teen Movie Fam Jam: Jumanji
DESCRIPTION:
URL:https://bluewaterparent.com/event/teen-movie-fam-jam-jumanji/
LOCATION:Yale Library\, 2 Jones St\, Yale\, MI\, 48097\, United States
CATEGORIES:Free,Teens
END:VEVENT
BEGIN:VEVENT
DTSTART;TZID=America/New_York:20260421T153000
DTEND;TZID=America/New_York:20260421T183000
DTSTAMP:20260423T190420
CREATED:20260120T142131Z
LAST-MODIFIED:20260120T142131Z
UID:10021813-1776785400-1776796200@bluewaterparent.com
SUMMARY:Open Gaming Night- The Athletic Factory
DESCRIPTION:
URL:https://bluewaterparent.com/event/open-gaming-night-the-athletic-factory/2026-04-21/
LOCATION:The Athletic Factory\, Inc.\, 1517 10th Street\, Port Huron\, MI
CATEGORIES:sports,Teens
END:VEVENT
BEGIN:VEVENT
DTSTART;TZID=America/New_York:20260421T173000
DTEND;TZID=America/New_York:20260421T190000
DTSTAMP:20260423T190420
CREATED:20260328T185706Z
LAST-MODIFIED:20260401T013913Z
UID:10024903-1776792600-1776798000@bluewaterparent.com
SUMMARY:CRAFT: Paint your own 3D printed baby dragon
DESCRIPTION:Registation requested.
URL:https://bluewaterparent.com/event/craft-paint-your-own-3d-printed-baby-dragon/
LOCATION:G. Lynn Campbell Library\, 1955 Allen Rd\, Kimball\, MI\, 48074\, United States
CATEGORIES:Free
END:VEVENT
BEGIN:VEVENT
DTSTART;TZID=America/New_York:20260421T180000
DTEND;TZID=America/New_York:20260421T183000
DTSTAMP:20260423T190420
CREATED:20260419T002148Z
LAST-MODIFIED:20260419T003520Z
UID:10025602-1776794400-1776796200@bluewaterparent.com
SUMMARY:Bedtime Storytime - Port Huron
DESCRIPTION:
URL:https://bluewaterparent.com/event/bedtime-storytime/2026-04-21/
LOCATION:Main Library\, 210 McMorran Blvd\, Port Huron\, MI\, 48060\, United States
CATEGORIES:Playgroups
END:VEVENT
BEGIN:VEVENT
DTSTART;TZID=America/New_York:20260421T183000
DTEND;TZID=America/New_York:20260421T193000
DTSTAMP:20260423T190420
CREATED:20260328T185823Z
LAST-MODIFIED:20260401T014118Z
UID:10024929-1776796200-1776799800@bluewaterparent.com
SUMMARY:Splat the Cat Takes the Cake
DESCRIPTION:Teaches personal finance for children. Registation requested.
URL:https://bluewaterparent.com/event/splat-the-cat-takes-the-cake/
LOCATION:Memphis Library\, 34830 Potter St\, Memphis\, MI\, 48041\, United States
CATEGORIES:Free
END:VEVENT
BEGIN:VEVENT
DTSTART;TZID=America/New_York:20260422T080000
DTEND;TZID=America/New_York:20260422T170000
DTSTAMP:20260423T190420
CREATED:20260419T012510Z
LAST-MODIFIED:20260419T012510Z
UID:10026388-1776844800-1776877200@bluewaterparent.com
SUMMARY:Discovery Lab for Littles
DESCRIPTION:This event is included with admission.
URL:https://bluewaterparent.com/event/discovery-lab-for-littles/2026-04-22/
LOCATION:Discovery City Children’s Museum\, 317 Grand River Avenue\, Port huron\, MI\, 48060
END:VEVENT
BEGIN:VEVENT
DTSTART;TZID=America/New_York:20260422T100000
DTEND;TZID=America/New_York:20260422T110000
DTSTAMP:20260423T190420
CREATED:20260307T013956Z
LAST-MODIFIED:20260307T013958Z
UID:10016044-1776852000-1776855600@bluewaterparent.com
SUMMARY:Great Start Playgroup - Marysville
DESCRIPTION:
URL:https://bluewaterparent.com/event/great-start-playgroup-marysville-2/2026-04-22/
LOCATION:St. Clair County RESA East Campus\, 1111 Delaware Avenue\, Marysville\, MI
CATEGORIES:Playgroups
END:VEVENT
BEGIN:VEVENT
DTSTART;TZID=America/New_York:20260422T100000
DTEND;TZID=America/New_York:20260422T110000
DTSTAMP:20260423T190420
CREATED:20260419T003159Z
LAST-MODIFIED:20260419T003555Z
UID:10025863-1776852000-1776855600@bluewaterparent.com
SUMMARY:Storytime - Port Huron
DESCRIPTION:
URL:https://bluewaterparent.com/event/storytime-port-huron/2026-04-22/
LOCATION:Main Library\, 210 McMorran Blvd\, Port Huron\, MI\, 48060\, United States
CATEGORIES:Playgroups
END:VEVENT
END:VCALENDAR