BEGIN:VCALENDAR
VERSION:2.0
PRODID:-//BlueWaterParent.com - ECPv6.15.20//NONSGML v1.0//EN
CALSCALE:GREGORIAN
METHOD:PUBLISH
X-ORIGINAL-URL:https://bluewaterparent.com
X-WR-CALDESC:Events for BlueWaterParent.com
REFRESH-INTERVAL;VALUE=DURATION:PT1H
X-Robots-Tag:noindex
X-PUBLISHED-TTL:PT1H
BEGIN:VTIMEZONE
TZID:America/New_York
BEGIN:DAYLIGHT
TZOFFSETFROM:-0500
TZOFFSETTO:-0400
TZNAME:EDT
DTSTART:20280312T070000
END:DAYLIGHT
BEGIN:STANDARD
TZOFFSETFROM:-0400
TZOFFSETTO:-0500
TZNAME:EST
DTSTART:20281105T060000
END:STANDARD
BEGIN:DAYLIGHT
TZOFFSETFROM:-0500
TZOFFSETTO:-0400
TZNAME:EDT
DTSTART:20290311T070000
END:DAYLIGHT
BEGIN:STANDARD
TZOFFSETFROM:-0400
TZOFFSETTO:-0500
TZNAME:EST
DTSTART:20291104T060000
END:STANDARD
BEGIN:DAYLIGHT
TZOFFSETFROM:-0500
TZOFFSETTO:-0400
TZNAME:EDT
DTSTART:20300310T070000
END:DAYLIGHT
BEGIN:STANDARD
TZOFFSETFROM:-0400
TZOFFSETTO:-0500
TZNAME:EST
DTSTART:20301103T060000
END:STANDARD
END:VTIMEZONE
BEGIN:VEVENT
DTSTART;TZID=America/New_York:20290509T100000
DTEND;TZID=America/New_York:20290509T110000
DTSTAMP:20260425T124007
CREATED:20260419T003159Z
LAST-MODIFIED:20260419T003555Z
UID:10026022-1873015200-1873018800@bluewaterparent.com
SUMMARY:Storytime - Port Huron
DESCRIPTION:
URL:https://bluewaterparent.com/event/storytime-port-huron/2029-05-09/
LOCATION:Main Library\, 210 McMorran Blvd\, Port Huron\, MI\, 48060\, United States
CATEGORIES:Playgroups
END:VEVENT
BEGIN:VEVENT
DTSTART;TZID=America/New_York:20290510T100000
DTEND;TZID=America/New_York:20290510T110000
DTSTAMP:20260425T124007
CREATED:20251201T004011Z
LAST-MODIFIED:20260307T021133Z
UID:10023988-1873101600-1873105200@bluewaterparent.com
SUMMARY:Great Start Playgroup - Avoca
DESCRIPTION:
URL:https://bluewaterparent.com/event/great-start-playgroup-emmett/2029-05-10/
LOCATION:Avoca Elementary\, 8751 Willow St.\, Avoca\, MI\, 48006\, United States
CATEGORIES:Playgroups
END:VEVENT
BEGIN:VEVENT
DTSTART;TZID=America/New_York:20290510T100000
DTEND;TZID=America/New_York:20290510T110000
DTSTAMP:20260425T124007
CREATED:20260307T014510Z
LAST-MODIFIED:20260307T014908Z
UID:10023727-1873101600-1873105200@bluewaterparent.com
SUMMARY:Great Start Playgroup - Marysville
DESCRIPTION:
URL:https://bluewaterparent.com/event/great-start-playgroup-marysville-3/2029-05-10/
LOCATION:St. Clair County RESA East Campus\, 1111 Delaware Avenue\, Marysville\, MI
CATEGORIES:Playgroups
END:VEVENT
BEGIN:VEVENT
DTSTART;TZID=America/New_York:20290510T110000
DTEND;TZID=America/New_York:20290510T113000
DTSTAMP:20260425T124007
CREATED:20260101T200511Z
LAST-MODIFIED:20260101T213808Z
UID:10021273-1873105200-1873107000@bluewaterparent.com
SUMMARY:Storytime - Algonac
DESCRIPTION:  \n 
URL:https://bluewaterparent.com/event/storytime-algonac-2/2029-05-10/
LOCATION:Algonac-Clay Library\, 2011 St Clair River Dr\, Algonac\, MI\, 48001\, United States
CATEGORIES:Playgroups
END:VEVENT
BEGIN:VEVENT
DTSTART;TZID=America/New_York:20290510T143000
DTEND;TZID=America/New_York:20290510T160000
DTSTAMP:20260425T124007
CREATED:20260101T200828Z
LAST-MODIFIED:20260101T200854Z
UID:10019767-1873117800-1873123200@bluewaterparent.com
SUMMARY:Teen Time - Yale
DESCRIPTION:
URL:https://bluewaterparent.com/event/teen-time-yale-3/2029-05-10/
LOCATION:Yale Library\, 2 Jones St\, Yale\, MI\, 48097\, United States
CATEGORIES:Teens
END:VEVENT
BEGIN:VEVENT
DTSTART;TZID=America/New_York:20290510T153000
DTEND;TZID=America/New_York:20290510T180000
DTSTAMP:20260425T124007
CREATED:20260101T201514Z
LAST-MODIFIED:20260103T021445Z
UID:10020154-1873121400-1873130400@bluewaterparent.com
SUMMARY:To D&D\, And Beyond!
DESCRIPTION:  \n 
URL:https://bluewaterparent.com/event/to-dd-and-beyond-3/2029-05-10/
LOCATION:Marysville Library\, 1175 Delaware\, Marysville\, MI
CATEGORIES:Teens
END:VEVENT
BEGIN:VEVENT
DTSTART;TZID=America/New_York:20290511T080000
DTEND;TZID=America/New_York:20290511T170000
DTSTAMP:20260425T124007
CREATED:20260419T012510Z
LAST-MODIFIED:20260419T012510Z
UID:10026707-1873180800-1873213200@bluewaterparent.com
SUMMARY:Discovery Lab for Littles
DESCRIPTION:This event is included with admission.
URL:https://bluewaterparent.com/event/discovery-lab-for-littles/2029-05-11/
LOCATION:Discovery City Children’s Museum\, 317 Grand River Avenue\, Port huron\, MI\, 48060
END:VEVENT
BEGIN:VEVENT
DTSTART;TZID=America/New_York:20290511T100000
DTEND;TZID=America/New_York:20290511T104500
DTSTAMP:20260425T124007
CREATED:20260101T202520Z
LAST-MODIFIED:20260131T171318Z
UID:10023414-1873188000-1873190700@bluewaterparent.com
SUMMARY:Family Storytime - Memphis
DESCRIPTION:
URL:https://bluewaterparent.com/event/family-storytime-capac-2-2/2029-05-11/
LOCATION:Memphis Library\, 34830 Potter St\, Memphis\, MI\, 48041\, United States
CATEGORIES:Playgroups
END:VEVENT
BEGIN:VEVENT
DTSTART;TZID=America/New_York:20290511T100000
DTEND;TZID=America/New_York:20290511T110000
DTSTAMP:20260425T124007
CREATED:20260419T003829Z
LAST-MODIFIED:20260419T003829Z
UID:10026283-1873188000-1873191600@bluewaterparent.com
SUMMARY:Storytime - Port Huron
DESCRIPTION:
URL:https://bluewaterparent.com/event/storytime-port-huron-2/2029-05-11/
LOCATION:Main Library\, 210 McMorran Blvd\, Port Huron\, MI\, 48060\, United States
CATEGORIES:Playgroups
END:VEVENT
BEGIN:VEVENT
DTSTART;TZID=America/New_York:20290511T110000
DTEND;TZID=America/New_York:20290511T120000
DTSTAMP:20260425T124007
CREATED:20260101T164906Z
LAST-MODIFIED:20260101T171615Z
UID:10017096-1873191600-1873195200@bluewaterparent.com
SUMMARY:Playgroup Pals
DESCRIPTION:
URL:https://bluewaterparent.com/event/playgroup-pals-2/2029-05-11/
LOCATION:Ira Township Library\, 7013 Meldrum Rd\, Ira Township\, Michigan\, 48023\, United States
CATEGORIES:Playgroups
END:VEVENT
BEGIN:VEVENT
DTSTART;TZID=America/New_York:20290511T150000
DTEND;TZID=America/New_York:20290511T163000
DTSTAMP:20260425T124007
CREATED:20260101T204005Z
LAST-MODIFIED:20260103T023339Z
UID:10021692-1873206000-1873211400@bluewaterparent.com
SUMMARY:Friday Game Zone
DESCRIPTION:
URL:https://bluewaterparent.com/event/friday-game-zone/2029-05-11/
LOCATION:Ira Township Library\, 7013 Meldrum Rd\, Ira Township\, Michigan\, 48023\, United States
CATEGORIES:Free
END:VEVENT
BEGIN:VEVENT
DTSTART;TZID=America/New_York:20290514T100000
DTEND;TZID=America/New_York:20290514T110000
DTSTAMP:20260425T124007
CREATED:20260101T192653Z
LAST-MODIFIED:20260307T025320Z
UID:10024510-1873447200-1873450800@bluewaterparent.com
SUMMARY:Storytime - St. Clair
DESCRIPTION:From SCCLS – Join us for a fun and educational blend of stories\, crafts\, movement activities\, and songs.
URL:https://bluewaterparent.com/event/storytime-st-clair/2029-05-14/
LOCATION:St. Clair Library\, 310 S. 2nd Street\, St. Clair\, MI
CATEGORIES:Free,Playgroups
END:VEVENT
BEGIN:VEVENT
DTSTART;TZID=America/New_York:20290514T100000
DTEND;TZID=America/New_York:20290514T110000
DTSTAMP:20260425T124007
CREATED:20260125T194928Z
LAST-MODIFIED:20260125T194929Z
UID:10017619-1873447200-1873450800@bluewaterparent.com
SUMMARY:Storytime - Marysville
DESCRIPTION:From SCCLS – Preschoolers and their adults: Join us at the library for a happy blend of stories\, rhymes\, music and movement\, followed by a creative activity time.
URL:https://bluewaterparent.com/event/storytime-marysville-3/2029-05-14/
LOCATION:Marysville Library\, 1175 Delaware\, Marysville\, MI
CATEGORIES:Free,Playgroups
END:VEVENT
BEGIN:VEVENT
DTSTART;TZID=America/New_York:20290514T100000
DTEND;TZID=America/New_York:20290514T110000
DTSTAMP:20260425T124007
CREATED:20260307T142323Z
LAST-MODIFIED:20260307T142325Z
UID:10017358-1873447200-1873450800@bluewaterparent.com
SUMMARY:Storytime - Yale
DESCRIPTION:
URL:https://bluewaterparent.com/event/storytime-yale-2-2-2/2029-05-14/
LOCATION:Yale Library\, 2 Jones St\, Yale\, MI\, 48097\, United States
CATEGORIES:Free,Playgroups
END:VEVENT
BEGIN:VEVENT
DTSTART;TZID=America/New_York:20290514T103000
DTEND;TZID=America/New_York:20290514T110000
DTSTAMP:20260425T124007
CREATED:20260401T010404Z
LAST-MODIFIED:20260401T010407Z
UID:10025123-1873449000-1873450800@bluewaterparent.com
SUMMARY:Storytime - Burtchville
DESCRIPTION:
URL:https://bluewaterparent.com/event/storytime-burtchville-3-2/2029-05-14/
LOCATION:Burtchville Library\, 7093 2nd St\, Lakeport\, MI\, 48059\, United States
CATEGORIES:Free,Playgroups
END:VEVENT
BEGIN:VEVENT
DTSTART;TZID=America/New_York:20290514T103000
DTEND;TZID=America/New_York:20290514T113000
DTSTAMP:20260425T124007
CREATED:20260321T165751Z
LAST-MODIFIED:20260321T165752Z
UID:10017880-1873449000-1873452600@bluewaterparent.com
SUMMARY:Storytime - Marine City
DESCRIPTION:From SCCLS – Preschoolers and their adults join us at the library for a happy blend of stories and activities.
URL:https://bluewaterparent.com/event/storytime-marine-city-2-2/2029-05-14/
LOCATION:Marine City Library\, 300 S Parker St\, Marine City\, MI\, 48039\, United States
CATEGORIES:Free,Playgroups
END:VEVENT
BEGIN:VEVENT
DTSTART;TZID=America/New_York:20290514T160000
DTEND;TZID=America/New_York:20290514T180000
DTSTAMP:20260425T124007
CREATED:20260101T211427Z
LAST-MODIFIED:20260101T211427Z
UID:10021072-1873468800-1873476000@bluewaterparent.com
SUMMARY:Teen Scene
DESCRIPTION:Ages 13-18.
URL:https://bluewaterparent.com/event/teen-scene/2029-05-14/
LOCATION:Capac Library\, 111 N Main St\, Capac\, MI\, 48014\, United States
CATEGORIES:Teens
END:VEVENT
BEGIN:VEVENT
DTSTART;TZID=America/New_York:20290515T100000
DTEND;TZID=America/New_York:20290515T103000
DTSTAMP:20260425T124007
CREATED:20260418T235804Z
LAST-MODIFIED:20260419T000903Z
UID:10025501-1873533600-1873535400@bluewaterparent.com
SUMMARY:Rhythm and Rhyme - Port Huron
DESCRIPTION:For children ages 0-3 and their caregivers.
URL:https://bluewaterparent.com/event/rhythm-and-rhyme-port-huron/2029-05-15/
LOCATION:Main Library\, 210 McMorran Blvd\, Port Huron\, MI\, 48060\, United States
CATEGORIES:Playgroups
END:VEVENT
BEGIN:VEVENT
DTSTART;TZID=America/New_York:20290515T180000
DTEND;TZID=America/New_York:20290515T183000
DTSTAMP:20260425T124007
CREATED:20260419T002148Z
LAST-MODIFIED:20260419T003520Z
UID:10025762-1873562400-1873564200@bluewaterparent.com
SUMMARY:Bedtime Storytime - Port Huron
DESCRIPTION:
URL:https://bluewaterparent.com/event/bedtime-storytime/2029-05-15/
LOCATION:Main Library\, 210 McMorran Blvd\, Port Huron\, MI\, 48060\, United States
CATEGORIES:Playgroups
END:VEVENT
BEGIN:VEVENT
DTSTART;TZID=America/New_York:20290516T080000
DTEND;TZID=America/New_York:20290516T170000
DTSTAMP:20260425T124007
CREATED:20260419T012510Z
LAST-MODIFIED:20260419T012510Z
UID:10026708-1873612800-1873645200@bluewaterparent.com
SUMMARY:Discovery Lab for Littles
DESCRIPTION:This event is included with admission.
URL:https://bluewaterparent.com/event/discovery-lab-for-littles/2029-05-16/
LOCATION:Discovery City Children’s Museum\, 317 Grand River Avenue\, Port huron\, MI\, 48060
END:VEVENT
BEGIN:VEVENT
DTSTART;TZID=America/New_York:20290516T100000
DTEND;TZID=America/New_York:20290516T110000
DTSTAMP:20260425T124007
CREATED:20260419T003159Z
LAST-MODIFIED:20260419T003555Z
UID:10026023-1873620000-1873623600@bluewaterparent.com
SUMMARY:Storytime - Port Huron
DESCRIPTION:
URL:https://bluewaterparent.com/event/storytime-port-huron/2029-05-16/
LOCATION:Main Library\, 210 McMorran Blvd\, Port Huron\, MI\, 48060\, United States
CATEGORIES:Playgroups
END:VEVENT
BEGIN:VEVENT
DTSTART;TZID=America/New_York:20290517T100000
DTEND;TZID=America/New_York:20290517T110000
DTSTAMP:20260425T124007
CREATED:20251201T004011Z
LAST-MODIFIED:20260307T021133Z
UID:10023989-1873706400-1873710000@bluewaterparent.com
SUMMARY:Great Start Playgroup - Avoca
DESCRIPTION:
URL:https://bluewaterparent.com/event/great-start-playgroup-emmett/2029-05-17/
LOCATION:Avoca Elementary\, 8751 Willow St.\, Avoca\, MI\, 48006\, United States
CATEGORIES:Playgroups
END:VEVENT
BEGIN:VEVENT
DTSTART;TZID=America/New_York:20290517T100000
DTEND;TZID=America/New_York:20290517T110000
DTSTAMP:20260425T124007
CREATED:20260307T014510Z
LAST-MODIFIED:20260307T014908Z
UID:10023728-1873706400-1873710000@bluewaterparent.com
SUMMARY:Great Start Playgroup - Marysville
DESCRIPTION:
URL:https://bluewaterparent.com/event/great-start-playgroup-marysville-3/2029-05-17/
LOCATION:St. Clair County RESA East Campus\, 1111 Delaware Avenue\, Marysville\, MI
CATEGORIES:Playgroups
END:VEVENT
BEGIN:VEVENT
DTSTART;TZID=America/New_York:20290517T110000
DTEND;TZID=America/New_York:20290517T113000
DTSTAMP:20260425T124007
CREATED:20260101T200511Z
LAST-MODIFIED:20260101T213808Z
UID:10021274-1873710000-1873711800@bluewaterparent.com
SUMMARY:Storytime - Algonac
DESCRIPTION:  \n 
URL:https://bluewaterparent.com/event/storytime-algonac-2/2029-05-17/
LOCATION:Algonac-Clay Library\, 2011 St Clair River Dr\, Algonac\, MI\, 48001\, United States
CATEGORIES:Playgroups
END:VEVENT
BEGIN:VEVENT
DTSTART;TZID=America/New_York:20290517T143000
DTEND;TZID=America/New_York:20290517T160000
DTSTAMP:20260425T124007
CREATED:20260101T200828Z
LAST-MODIFIED:20260101T200854Z
UID:10019768-1873722600-1873728000@bluewaterparent.com
SUMMARY:Teen Time - Yale
DESCRIPTION:
URL:https://bluewaterparent.com/event/teen-time-yale-3/2029-05-17/
LOCATION:Yale Library\, 2 Jones St\, Yale\, MI\, 48097\, United States
CATEGORIES:Teens
END:VEVENT
BEGIN:VEVENT
DTSTART;TZID=America/New_York:20290517T171500
DTEND;TZID=America/New_York:20290517T174500
DTSTAMP:20260425T124007
CREATED:20260328T183605Z
LAST-MODIFIED:20260328T183607Z
UID:10024857-1873732500-1873734300@bluewaterparent.com
SUMMARY:Little House on the Prairie Book Club for Kids
DESCRIPTION:  \n 
URL:https://bluewaterparent.com/event/little-house-on-the-prairie-book-club-for-kids-2-3/2029-05-17/
LOCATION:Capac Library\, 111 N Main St\, Capac\, MI\, 48014\, United States
CATEGORIES:Free
END:VEVENT
BEGIN:VEVENT
DTSTART;TZID=America/New_York:20290518T080000
DTEND;TZID=America/New_York:20290518T170000
DTSTAMP:20260425T124007
CREATED:20260419T012510Z
LAST-MODIFIED:20260419T012510Z
UID:10026709-1873785600-1873818000@bluewaterparent.com
SUMMARY:Discovery Lab for Littles
DESCRIPTION:This event is included with admission.
URL:https://bluewaterparent.com/event/discovery-lab-for-littles/2029-05-18/
LOCATION:Discovery City Children’s Museum\, 317 Grand River Avenue\, Port huron\, MI\, 48060
END:VEVENT
BEGIN:VEVENT
DTSTART;TZID=America/New_York:20290518T100000
DTEND;TZID=America/New_York:20290518T104500
DTSTAMP:20260425T124007
CREATED:20260101T202520Z
LAST-MODIFIED:20260131T171318Z
UID:10023415-1873792800-1873795500@bluewaterparent.com
SUMMARY:Family Storytime - Memphis
DESCRIPTION:
URL:https://bluewaterparent.com/event/family-storytime-capac-2-2/2029-05-18/
LOCATION:Memphis Library\, 34830 Potter St\, Memphis\, MI\, 48041\, United States
CATEGORIES:Playgroups
END:VEVENT
BEGIN:VEVENT
DTSTART;TZID=America/New_York:20290518T100000
DTEND;TZID=America/New_York:20290518T110000
DTSTAMP:20260425T124007
CREATED:20260419T003829Z
LAST-MODIFIED:20260419T003829Z
UID:10026284-1873792800-1873796400@bluewaterparent.com
SUMMARY:Storytime - Port Huron
DESCRIPTION:
URL:https://bluewaterparent.com/event/storytime-port-huron-2/2029-05-18/
LOCATION:Main Library\, 210 McMorran Blvd\, Port Huron\, MI\, 48060\, United States
CATEGORIES:Playgroups
END:VEVENT
BEGIN:VEVENT
DTSTART;TZID=America/New_York:20290518T110000
DTEND;TZID=America/New_York:20290518T120000
DTSTAMP:20260425T124007
CREATED:20260101T164906Z
LAST-MODIFIED:20260101T171615Z
UID:10017097-1873796400-1873800000@bluewaterparent.com
SUMMARY:Playgroup Pals
DESCRIPTION:
URL:https://bluewaterparent.com/event/playgroup-pals-2/2029-05-18/
LOCATION:Ira Township Library\, 7013 Meldrum Rd\, Ira Township\, Michigan\, 48023\, United States
CATEGORIES:Playgroups
END:VEVENT
END:VCALENDAR