BEGIN:VCALENDAR
VERSION:2.0
PRODID:-//BlueWaterParent.com - ECPv6.15.20//NONSGML v1.0//EN
CALSCALE:GREGORIAN
METHOD:PUBLISH
X-WR-CALNAME:BlueWaterParent.com
X-ORIGINAL-URL:https://bluewaterparent.com
X-WR-CALDESC:Events for BlueWaterParent.com
REFRESH-INTERVAL;VALUE=DURATION:PT1H
X-Robots-Tag:noindex
X-PUBLISHED-TTL:PT1H
BEGIN:VTIMEZONE
TZID:America/New_York
BEGIN:DAYLIGHT
TZOFFSETFROM:-0500
TZOFFSETTO:-0400
TZNAME:EDT
DTSTART:20280312T070000
END:DAYLIGHT
BEGIN:STANDARD
TZOFFSETFROM:-0400
TZOFFSETTO:-0500
TZNAME:EST
DTSTART:20281105T060000
END:STANDARD
BEGIN:DAYLIGHT
TZOFFSETFROM:-0500
TZOFFSETTO:-0400
TZNAME:EDT
DTSTART:20290311T070000
END:DAYLIGHT
BEGIN:STANDARD
TZOFFSETFROM:-0400
TZOFFSETTO:-0500
TZNAME:EST
DTSTART:20291104T060000
END:STANDARD
BEGIN:DAYLIGHT
TZOFFSETFROM:-0500
TZOFFSETTO:-0400
TZNAME:EDT
DTSTART:20300310T070000
END:DAYLIGHT
BEGIN:STANDARD
TZOFFSETFROM:-0400
TZOFFSETTO:-0500
TZNAME:EST
DTSTART:20301103T060000
END:STANDARD
END:VTIMEZONE
BEGIN:VEVENT
DTSTART;TZID=America/New_York:20290405T110000
DTEND;TZID=America/New_York:20290405T113000
DTSTAMP:20260424T002430
CREATED:20260101T200511Z
LAST-MODIFIED:20260101T213808Z
UID:10021268-1870081200-1870083000@bluewaterparent.com
SUMMARY:Storytime - Algonac
DESCRIPTION:  \n 
URL:https://bluewaterparent.com/event/storytime-algonac-2/2029-04-05/
LOCATION:Algonac-Clay Library\, 2011 St Clair River Dr\, Algonac\, MI\, 48001\, United States
CATEGORIES:Playgroups
END:VEVENT
BEGIN:VEVENT
DTSTART;TZID=America/New_York:20290405T143000
DTEND;TZID=America/New_York:20290405T160000
DTSTAMP:20260424T002430
CREATED:20260101T200828Z
LAST-MODIFIED:20260101T200854Z
UID:10019762-1870093800-1870099200@bluewaterparent.com
SUMMARY:Teen Time - Yale
DESCRIPTION:
URL:https://bluewaterparent.com/event/teen-time-yale-3/2029-04-05/
LOCATION:Yale Library\, 2 Jones St\, Yale\, MI\, 48097\, United States
CATEGORIES:Teens
END:VEVENT
BEGIN:VEVENT
DTSTART;TZID=America/New_York:20290405T171500
DTEND;TZID=America/New_York:20290405T174500
DTSTAMP:20260424T002430
CREATED:20260328T183605Z
LAST-MODIFIED:20260328T183607Z
UID:10024855-1870103700-1870105500@bluewaterparent.com
SUMMARY:Little House on the Prairie Book Club for Kids
DESCRIPTION:  \n 
URL:https://bluewaterparent.com/event/little-house-on-the-prairie-book-club-for-kids-2-3/2029-04-05/
LOCATION:Capac Library\, 111 N Main St\, Capac\, MI\, 48014\, United States
CATEGORIES:Free
END:VEVENT
BEGIN:VEVENT
DTSTART;TZID=America/New_York:20290406T080000
DTEND;TZID=America/New_York:20290406T170000
DTSTAMP:20260424T002430
CREATED:20260419T012510Z
LAST-MODIFIED:20260419T012510Z
UID:10026697-1870156800-1870189200@bluewaterparent.com
SUMMARY:Discovery Lab for Littles
DESCRIPTION:This event is included with admission.
URL:https://bluewaterparent.com/event/discovery-lab-for-littles/2029-04-06/
LOCATION:Discovery City Children’s Museum\, 317 Grand River Avenue\, Port huron\, MI\, 48060
END:VEVENT
BEGIN:VEVENT
DTSTART;TZID=America/New_York:20290406T100000
DTEND;TZID=America/New_York:20290406T104500
DTSTAMP:20260424T002430
CREATED:20260101T202520Z
LAST-MODIFIED:20260131T171318Z
UID:10023409-1870164000-1870166700@bluewaterparent.com
SUMMARY:Family Storytime - Memphis
DESCRIPTION:
URL:https://bluewaterparent.com/event/family-storytime-capac-2-2/2029-04-06/
LOCATION:Memphis Library\, 34830 Potter St\, Memphis\, MI\, 48041\, United States
CATEGORIES:Playgroups
END:VEVENT
BEGIN:VEVENT
DTSTART;TZID=America/New_York:20290406T100000
DTEND;TZID=America/New_York:20290406T110000
DTSTAMP:20260424T002430
CREATED:20260419T003829Z
LAST-MODIFIED:20260419T003829Z
UID:10026278-1870164000-1870167600@bluewaterparent.com
SUMMARY:Storytime - Port Huron
DESCRIPTION:
URL:https://bluewaterparent.com/event/storytime-port-huron-2/2029-04-06/
LOCATION:Main Library\, 210 McMorran Blvd\, Port Huron\, MI\, 48060\, United States
CATEGORIES:Playgroups
END:VEVENT
BEGIN:VEVENT
DTSTART;TZID=America/New_York:20290406T110000
DTEND;TZID=America/New_York:20290406T120000
DTSTAMP:20260424T002430
CREATED:20260101T164906Z
LAST-MODIFIED:20260101T171615Z
UID:10017091-1870167600-1870171200@bluewaterparent.com
SUMMARY:Playgroup Pals
DESCRIPTION:
URL:https://bluewaterparent.com/event/playgroup-pals-2/2029-04-06/
LOCATION:Ira Township Library\, 7013 Meldrum Rd\, Ira Township\, Michigan\, 48023\, United States
CATEGORIES:Playgroups
END:VEVENT
BEGIN:VEVENT
DTSTART;TZID=America/New_York:20290407T130000
DTEND;TZID=America/New_York:20290407T150000
DTSTAMP:20260424T002430
CREATED:20260125T184518Z
LAST-MODIFIED:20260328T185717Z
UID:10022755-1870261200-1870268400@bluewaterparent.com
SUMMARY:LEGO Club
DESCRIPTION:
URL:https://bluewaterparent.com/event/lego-club-2-2/
LOCATION:Ira Township Library\, 7013 Meldrum Rd\, Ira Township\, Michigan\, 48023\, United States
CATEGORIES:Free
END:VEVENT
BEGIN:VEVENT
DTSTART;TZID=America/New_York:20290409T100000
DTEND;TZID=America/New_York:20290409T110000
DTSTAMP:20260424T002430
CREATED:20260101T192653Z
LAST-MODIFIED:20260307T025320Z
UID:10024505-1870423200-1870426800@bluewaterparent.com
SUMMARY:Storytime - St. Clair
DESCRIPTION:From SCCLS – Join us for a fun and educational blend of stories\, crafts\, movement activities\, and songs.
URL:https://bluewaterparent.com/event/storytime-st-clair/2029-04-09/
LOCATION:St. Clair Library\, 310 S. 2nd Street\, St. Clair\, MI
CATEGORIES:Free,Playgroups
END:VEVENT
BEGIN:VEVENT
DTSTART;TZID=America/New_York:20290409T100000
DTEND;TZID=America/New_York:20290409T110000
DTSTAMP:20260424T002430
CREATED:20260125T194928Z
LAST-MODIFIED:20260125T194929Z
UID:10017614-1870423200-1870426800@bluewaterparent.com
SUMMARY:Storytime - Marysville
DESCRIPTION:From SCCLS – Preschoolers and their adults: Join us at the library for a happy blend of stories\, rhymes\, music and movement\, followed by a creative activity time.
URL:https://bluewaterparent.com/event/storytime-marysville-3/2029-04-09/
LOCATION:Marysville Library\, 1175 Delaware\, Marysville\, MI
CATEGORIES:Free,Playgroups
END:VEVENT
BEGIN:VEVENT
DTSTART;TZID=America/New_York:20290409T100000
DTEND;TZID=America/New_York:20290409T110000
DTSTAMP:20260424T002430
CREATED:20260307T142323Z
LAST-MODIFIED:20260307T142325Z
UID:10017353-1870423200-1870426800@bluewaterparent.com
SUMMARY:Storytime - Yale
DESCRIPTION:
URL:https://bluewaterparent.com/event/storytime-yale-2-2-2/2029-04-09/
LOCATION:Yale Library\, 2 Jones St\, Yale\, MI\, 48097\, United States
CATEGORIES:Free,Playgroups
END:VEVENT
BEGIN:VEVENT
DTSTART;TZID=America/New_York:20290409T103000
DTEND;TZID=America/New_York:20290409T110000
DTSTAMP:20260424T002430
CREATED:20260401T010404Z
LAST-MODIFIED:20260401T010407Z
UID:10025118-1870425000-1870426800@bluewaterparent.com
SUMMARY:Storytime - Burtchville
DESCRIPTION:
URL:https://bluewaterparent.com/event/storytime-burtchville-3-2/2029-04-09/
LOCATION:Burtchville Library\, 7093 2nd St\, Lakeport\, MI\, 48059\, United States
CATEGORIES:Free,Playgroups
END:VEVENT
BEGIN:VEVENT
DTSTART;TZID=America/New_York:20290409T103000
DTEND;TZID=America/New_York:20290409T113000
DTSTAMP:20260424T002431
CREATED:20260321T165751Z
LAST-MODIFIED:20260321T165752Z
UID:10024743-1870425000-1870428600@bluewaterparent.com
SUMMARY:Storytime - Marine City
DESCRIPTION:From SCCLS – Preschoolers and their adults join us at the library for a happy blend of stories and activities.
URL:https://bluewaterparent.com/event/storytime-marine-city-2-2/2029-04-09/
LOCATION:Marine City Library\, 300 S Parker St\, Marine City\, MI\, 48039\, United States
CATEGORIES:Free,Playgroups
END:VEVENT
BEGIN:VEVENT
DTSTART;TZID=America/New_York:20290409T160000
DTEND;TZID=America/New_York:20290409T180000
DTSTAMP:20260424T002431
CREATED:20260101T211427Z
LAST-MODIFIED:20260101T211427Z
UID:10021071-1870444800-1870452000@bluewaterparent.com
SUMMARY:Teen Scene
DESCRIPTION:Ages 13-18.
URL:https://bluewaterparent.com/event/teen-scene/2029-04-09/
LOCATION:Capac Library\, 111 N Main St\, Capac\, MI\, 48014\, United States
CATEGORIES:Teens
END:VEVENT
BEGIN:VEVENT
DTSTART;TZID=America/New_York:20290410T100000
DTEND;TZID=America/New_York:20290410T103000
DTSTAMP:20260424T002431
CREATED:20260418T235804Z
LAST-MODIFIED:20260419T000903Z
UID:10025496-1870509600-1870511400@bluewaterparent.com
SUMMARY:Rhythm and Rhyme - Port Huron
DESCRIPTION:For children ages 0-3 and their caregivers.
URL:https://bluewaterparent.com/event/rhythm-and-rhyme-port-huron/2029-04-10/
LOCATION:Main Library\, 210 McMorran Blvd\, Port Huron\, MI\, 48060\, United States
CATEGORIES:Playgroups
END:VEVENT
BEGIN:VEVENT
DTSTART;TZID=America/New_York:20290410T170000
DTEND;TZID=America/New_York:20290410T193000
DTSTAMP:20260424T002431
CREATED:20260101T190453Z
LAST-MODIFIED:20260103T013002Z
UID:10021455-1870534800-1870543800@bluewaterparent.com
SUMMARY:Teen D&D Group - Algonac-Clay
DESCRIPTION:Registration requested.
URL:https://bluewaterparent.com/event/teen-dd-group-algonac-clay/2029-04-10/
LOCATION:Algonac-Clay Library\, 2011 St Clair River Dr\, Algonac\, MI\, 48001\, United States
CATEGORIES:Teens
END:VEVENT
BEGIN:VEVENT
DTSTART;TZID=America/New_York:20290410T180000
DTEND;TZID=America/New_York:20290410T183000
DTSTAMP:20260424T002431
CREATED:20260419T002148Z
LAST-MODIFIED:20260419T003520Z
UID:10025757-1870538400-1870540200@bluewaterparent.com
SUMMARY:Bedtime Storytime - Port Huron
DESCRIPTION:
URL:https://bluewaterparent.com/event/bedtime-storytime/2029-04-10/
LOCATION:Main Library\, 210 McMorran Blvd\, Port Huron\, MI\, 48060\, United States
CATEGORIES:Playgroups
END:VEVENT
BEGIN:VEVENT
DTSTART;TZID=America/New_York:20290411T080000
DTEND;TZID=America/New_York:20290411T170000
DTSTAMP:20260424T002431
CREATED:20260419T012510Z
LAST-MODIFIED:20260419T012510Z
UID:10026698-1870588800-1870621200@bluewaterparent.com
SUMMARY:Discovery Lab for Littles
DESCRIPTION:This event is included with admission.
URL:https://bluewaterparent.com/event/discovery-lab-for-littles/2029-04-11/
LOCATION:Discovery City Children’s Museum\, 317 Grand River Avenue\, Port huron\, MI\, 48060
END:VEVENT
BEGIN:VEVENT
DTSTART;TZID=America/New_York:20290411T100000
DTEND;TZID=America/New_York:20290411T110000
DTSTAMP:20260424T002431
CREATED:20260419T003159Z
LAST-MODIFIED:20260419T003555Z
UID:10026018-1870596000-1870599600@bluewaterparent.com
SUMMARY:Storytime - Port Huron
DESCRIPTION:
URL:https://bluewaterparent.com/event/storytime-port-huron/2029-04-11/
LOCATION:Main Library\, 210 McMorran Blvd\, Port Huron\, MI\, 48060\, United States
CATEGORIES:Playgroups
END:VEVENT
BEGIN:VEVENT
DTSTART;TZID=America/New_York:20290412T100000
DTEND;TZID=America/New_York:20290412T110000
DTSTAMP:20260424T002431
CREATED:20251201T004011Z
LAST-MODIFIED:20260307T021133Z
UID:10023984-1870682400-1870686000@bluewaterparent.com
SUMMARY:Great Start Playgroup - Avoca
DESCRIPTION:
URL:https://bluewaterparent.com/event/great-start-playgroup-emmett/2029-04-12/
LOCATION:Avoca Elementary\, 8751 Willow St.\, Avoca\, MI\, 48006\, United States
CATEGORIES:Playgroups
END:VEVENT
BEGIN:VEVENT
DTSTART;TZID=America/New_York:20290412T100000
DTEND;TZID=America/New_York:20290412T110000
DTSTAMP:20260424T002431
CREATED:20260307T014510Z
LAST-MODIFIED:20260307T014908Z
UID:10023723-1870682400-1870686000@bluewaterparent.com
SUMMARY:Great Start Playgroup - Marysville
DESCRIPTION:
URL:https://bluewaterparent.com/event/great-start-playgroup-marysville-3/2029-04-12/
LOCATION:St. Clair County RESA East Campus\, 1111 Delaware Avenue\, Marysville\, MI
CATEGORIES:Playgroups
END:VEVENT
BEGIN:VEVENT
DTSTART;TZID=America/New_York:20290412T110000
DTEND;TZID=America/New_York:20290412T113000
DTSTAMP:20260424T002431
CREATED:20260101T200511Z
LAST-MODIFIED:20260101T213808Z
UID:10021269-1870686000-1870687800@bluewaterparent.com
SUMMARY:Storytime - Algonac
DESCRIPTION:  \n 
URL:https://bluewaterparent.com/event/storytime-algonac-2/2029-04-12/
LOCATION:Algonac-Clay Library\, 2011 St Clair River Dr\, Algonac\, MI\, 48001\, United States
CATEGORIES:Playgroups
END:VEVENT
BEGIN:VEVENT
DTSTART;TZID=America/New_York:20290412T143000
DTEND;TZID=America/New_York:20290412T160000
DTSTAMP:20260424T002431
CREATED:20260101T200828Z
LAST-MODIFIED:20260101T200854Z
UID:10019763-1870698600-1870704000@bluewaterparent.com
SUMMARY:Teen Time - Yale
DESCRIPTION:
URL:https://bluewaterparent.com/event/teen-time-yale-3/2029-04-12/
LOCATION:Yale Library\, 2 Jones St\, Yale\, MI\, 48097\, United States
CATEGORIES:Teens
END:VEVENT
BEGIN:VEVENT
DTSTART;TZID=America/New_York:20290412T153000
DTEND;TZID=America/New_York:20290412T180000
DTSTAMP:20260424T002431
CREATED:20260101T201514Z
LAST-MODIFIED:20260103T021445Z
UID:10020153-1870702200-1870711200@bluewaterparent.com
SUMMARY:To D&D\, And Beyond!
DESCRIPTION:  \n 
URL:https://bluewaterparent.com/event/to-dd-and-beyond-3/2029-04-12/
LOCATION:Marysville Library\, 1175 Delaware\, Marysville\, MI
CATEGORIES:Teens
END:VEVENT
BEGIN:VEVENT
DTSTART;TZID=America/New_York:20290413T080000
DTEND;TZID=America/New_York:20290413T170000
DTSTAMP:20260424T002431
CREATED:20260419T012510Z
LAST-MODIFIED:20260419T012510Z
UID:10026699-1870761600-1870794000@bluewaterparent.com
SUMMARY:Discovery Lab for Littles
DESCRIPTION:This event is included with admission.
URL:https://bluewaterparent.com/event/discovery-lab-for-littles/2029-04-13/
LOCATION:Discovery City Children’s Museum\, 317 Grand River Avenue\, Port huron\, MI\, 48060
END:VEVENT
BEGIN:VEVENT
DTSTART;TZID=America/New_York:20290413T100000
DTEND;TZID=America/New_York:20290413T104500
DTSTAMP:20260424T002431
CREATED:20260101T202520Z
LAST-MODIFIED:20260131T171318Z
UID:10023410-1870768800-1870771500@bluewaterparent.com
SUMMARY:Family Storytime - Memphis
DESCRIPTION:
URL:https://bluewaterparent.com/event/family-storytime-capac-2-2/2029-04-13/
LOCATION:Memphis Library\, 34830 Potter St\, Memphis\, MI\, 48041\, United States
CATEGORIES:Playgroups
END:VEVENT
BEGIN:VEVENT
DTSTART;TZID=America/New_York:20290413T100000
DTEND;TZID=America/New_York:20290413T110000
DTSTAMP:20260424T002431
CREATED:20260419T003829Z
LAST-MODIFIED:20260419T003829Z
UID:10026279-1870768800-1870772400@bluewaterparent.com
SUMMARY:Storytime - Port Huron
DESCRIPTION:
URL:https://bluewaterparent.com/event/storytime-port-huron-2/2029-04-13/
LOCATION:Main Library\, 210 McMorran Blvd\, Port Huron\, MI\, 48060\, United States
CATEGORIES:Playgroups
END:VEVENT
BEGIN:VEVENT
DTSTART;TZID=America/New_York:20290413T110000
DTEND;TZID=America/New_York:20290413T120000
DTSTAMP:20260424T002431
CREATED:20260101T164906Z
LAST-MODIFIED:20260101T171615Z
UID:10017092-1870772400-1870776000@bluewaterparent.com
SUMMARY:Playgroup Pals
DESCRIPTION:
URL:https://bluewaterparent.com/event/playgroup-pals-2/2029-04-13/
LOCATION:Ira Township Library\, 7013 Meldrum Rd\, Ira Township\, Michigan\, 48023\, United States
CATEGORIES:Playgroups
END:VEVENT
BEGIN:VEVENT
DTSTART;TZID=America/New_York:20290413T150000
DTEND;TZID=America/New_York:20290413T163000
DTSTAMP:20260424T002431
CREATED:20260101T204005Z
LAST-MODIFIED:20260103T023339Z
UID:10021690-1870786800-1870792200@bluewaterparent.com
SUMMARY:Friday Game Zone
DESCRIPTION:
URL:https://bluewaterparent.com/event/friday-game-zone/2029-04-13/
LOCATION:Ira Township Library\, 7013 Meldrum Rd\, Ira Township\, Michigan\, 48023\, United States
CATEGORIES:Free
END:VEVENT
BEGIN:VEVENT
DTSTART;TZID=America/New_York:20290416T100000
DTEND;TZID=America/New_York:20290416T110000
DTSTAMP:20260424T002431
CREATED:20260101T192653Z
LAST-MODIFIED:20260307T025320Z
UID:10024506-1871028000-1871031600@bluewaterparent.com
SUMMARY:Storytime - St. Clair
DESCRIPTION:From SCCLS – Join us for a fun and educational blend of stories\, crafts\, movement activities\, and songs.
URL:https://bluewaterparent.com/event/storytime-st-clair/2029-04-16/
LOCATION:St. Clair Library\, 310 S. 2nd Street\, St. Clair\, MI
CATEGORIES:Free,Playgroups
END:VEVENT
END:VCALENDAR