BEGIN:VCALENDAR
VERSION:2.0
PRODID:-//BlueWaterParent.com - ECPv6.15.20//NONSGML v1.0//EN
CALSCALE:GREGORIAN
METHOD:PUBLISH
X-ORIGINAL-URL:https://bluewaterparent.com
X-WR-CALDESC:Events for BlueWaterParent.com
REFRESH-INTERVAL;VALUE=DURATION:PT1H
X-Robots-Tag:noindex
X-PUBLISHED-TTL:PT1H
BEGIN:VTIMEZONE
TZID:America/New_York
BEGIN:DAYLIGHT
TZOFFSETFROM:-0500
TZOFFSETTO:-0400
TZNAME:EDT
DTSTART:20260308T070000
END:DAYLIGHT
BEGIN:STANDARD
TZOFFSETFROM:-0400
TZOFFSETTO:-0500
TZNAME:EST
DTSTART:20261101T060000
END:STANDARD
BEGIN:DAYLIGHT
TZOFFSETFROM:-0500
TZOFFSETTO:-0400
TZNAME:EDT
DTSTART:20270314T070000
END:DAYLIGHT
BEGIN:STANDARD
TZOFFSETFROM:-0400
TZOFFSETTO:-0500
TZNAME:EST
DTSTART:20271107T060000
END:STANDARD
BEGIN:DAYLIGHT
TZOFFSETFROM:-0500
TZOFFSETTO:-0400
TZNAME:EDT
DTSTART:20280312T070000
END:DAYLIGHT
BEGIN:STANDARD
TZOFFSETFROM:-0400
TZOFFSETTO:-0500
TZNAME:EST
DTSTART:20281105T060000
END:STANDARD
END:VTIMEZONE
BEGIN:VEVENT
DTSTART;TZID=America/New_York:20271111T110000
DTEND;TZID=America/New_York:20271111T113000
DTSTAMP:20260420T002918
CREATED:20260101T200511Z
LAST-MODIFIED:20260101T213808Z
UID:10021195-1825930800-1825932600@bluewaterparent.com
SUMMARY:Storytime - Algonac
DESCRIPTION:  \n 
URL:https://bluewaterparent.com/event/storytime-algonac-2/2027-11-11/
LOCATION:Algonac-Clay Library\, 2011 St Clair River Dr\, Algonac\, MI\, 48001\, United States
CATEGORIES:Playgroups
END:VEVENT
BEGIN:VEVENT
DTSTART;TZID=America/New_York:20271111T143000
DTEND;TZID=America/New_York:20271111T160000
DTSTAMP:20260420T002918
CREATED:20260101T200828Z
LAST-MODIFIED:20260101T200854Z
UID:10019689-1825943400-1825948800@bluewaterparent.com
SUMMARY:Teen Time - Yale
DESCRIPTION:
URL:https://bluewaterparent.com/event/teen-time-yale-3/2027-11-11/
LOCATION:Yale Library\, 2 Jones St\, Yale\, MI\, 48097\, United States
CATEGORIES:Teens
END:VEVENT
BEGIN:VEVENT
DTSTART;TZID=America/New_York:20271111T153000
DTEND;TZID=America/New_York:20271111T180000
DTSTAMP:20260420T002918
CREATED:20260101T201514Z
LAST-MODIFIED:20260103T021445Z
UID:10020136-1825947000-1825956000@bluewaterparent.com
SUMMARY:To D&D\, And Beyond!
DESCRIPTION:  \n 
URL:https://bluewaterparent.com/event/to-dd-and-beyond-3/2027-11-11/
LOCATION:Marysville Library\, 1175 Delaware\, Marysville\, MI
CATEGORIES:Teens
END:VEVENT
BEGIN:VEVENT
DTSTART;TZID=America/New_York:20271112T080000
DTEND;TZID=America/New_York:20271112T170000
DTSTAMP:20260420T002918
CREATED:20260419T012510Z
LAST-MODIFIED:20260419T012510Z
UID:10026551-1826006400-1826038800@bluewaterparent.com
SUMMARY:Discovery Lab for Littles
DESCRIPTION:This event is included with admission.
URL:https://bluewaterparent.com/event/discovery-lab-for-littles/2027-11-12/
LOCATION:Discovery City Children’s Museum\, 317 Grand River Avenue\, Port huron\, MI\, 48060
END:VEVENT
BEGIN:VEVENT
DTSTART;TZID=America/New_York:20271112T100000
DTEND;TZID=America/New_York:20271112T104500
DTSTAMP:20260420T002918
CREATED:20260101T202520Z
LAST-MODIFIED:20260131T171318Z
UID:10023336-1826013600-1826016300@bluewaterparent.com
SUMMARY:Family Storytime - Memphis
DESCRIPTION:
URL:https://bluewaterparent.com/event/family-storytime-capac-2-2/2027-11-12/
LOCATION:Memphis Library\, 34830 Potter St\, Memphis\, MI\, 48041\, United States
CATEGORIES:Playgroups
END:VEVENT
BEGIN:VEVENT
DTSTART;TZID=America/New_York:20271112T100000
DTEND;TZID=America/New_York:20271112T110000
DTSTAMP:20260420T002918
CREATED:20260419T003829Z
LAST-MODIFIED:20260419T003829Z
UID:10026205-1826013600-1826017200@bluewaterparent.com
SUMMARY:Storytime - Port Huron
DESCRIPTION:
URL:https://bluewaterparent.com/event/storytime-port-huron-2/2027-11-12/
LOCATION:Main Library\, 210 McMorran Blvd\, Port Huron\, MI\, 48060\, United States
CATEGORIES:Playgroups
END:VEVENT
BEGIN:VEVENT
DTSTART;TZID=America/New_York:20271112T110000
DTEND;TZID=America/New_York:20271112T120000
DTSTAMP:20260420T002918
CREATED:20260101T164906Z
LAST-MODIFIED:20260101T171615Z
UID:10017018-1826017200-1826020800@bluewaterparent.com
SUMMARY:Playgroup Pals
DESCRIPTION:
URL:https://bluewaterparent.com/event/playgroup-pals-2/2027-11-12/
LOCATION:Ira Township Library\, 7013 Meldrum Rd\, Ira Township\, Michigan\, 48023\, United States
CATEGORIES:Playgroups
END:VEVENT
BEGIN:VEVENT
DTSTART;TZID=America/New_York:20271112T150000
DTEND;TZID=America/New_York:20271112T163000
DTSTAMP:20260420T002918
CREATED:20260101T204005Z
LAST-MODIFIED:20260103T023339Z
UID:10021653-1826031600-1826037000@bluewaterparent.com
SUMMARY:Friday Game Zone
DESCRIPTION:
URL:https://bluewaterparent.com/event/friday-game-zone/2027-11-12/
LOCATION:Ira Township Library\, 7013 Meldrum Rd\, Ira Township\, Michigan\, 48023\, United States
CATEGORIES:Free
END:VEVENT
BEGIN:VEVENT
DTSTART;TZID=America/New_York:20271115T100000
DTEND;TZID=America/New_York:20271115T110000
DTSTAMP:20260420T002918
CREATED:20260101T192653Z
LAST-MODIFIED:20260307T025320Z
UID:10024432-1826272800-1826276400@bluewaterparent.com
SUMMARY:Storytime - St. Clair
DESCRIPTION:From SCCLS – Join us for a fun and educational blend of stories\, crafts\, movement activities\, and songs.
URL:https://bluewaterparent.com/event/storytime-st-clair/2027-11-15/
LOCATION:St. Clair Library\, 310 S. 2nd Street\, St. Clair\, MI
CATEGORIES:Free,Playgroups
END:VEVENT
BEGIN:VEVENT
DTSTART;TZID=America/New_York:20271115T100000
DTEND;TZID=America/New_York:20271115T110000
DTSTAMP:20260420T002918
CREATED:20260125T194928Z
LAST-MODIFIED:20260125T194929Z
UID:10017541-1826272800-1826276400@bluewaterparent.com
SUMMARY:Storytime - Marysville
DESCRIPTION:From SCCLS – Preschoolers and their adults: Join us at the library for a happy blend of stories\, rhymes\, music and movement\, followed by a creative activity time.
URL:https://bluewaterparent.com/event/storytime-marysville-3/2027-11-15/
LOCATION:Marysville Library\, 1175 Delaware\, Marysville\, MI
CATEGORIES:Free,Playgroups
END:VEVENT
BEGIN:VEVENT
DTSTART;TZID=America/New_York:20271115T100000
DTEND;TZID=America/New_York:20271115T110000
DTSTAMP:20260420T002918
CREATED:20260307T142323Z
LAST-MODIFIED:20260307T142325Z
UID:10017280-1826272800-1826276400@bluewaterparent.com
SUMMARY:Storytime - Yale
DESCRIPTION:
URL:https://bluewaterparent.com/event/storytime-yale-2-2-2/2027-11-15/
LOCATION:Yale Library\, 2 Jones St\, Yale\, MI\, 48097\, United States
CATEGORIES:Free,Playgroups
END:VEVENT
BEGIN:VEVENT
DTSTART;TZID=America/New_York:20271115T103000
DTEND;TZID=America/New_York:20271115T110000
DTSTAMP:20260420T002918
CREATED:20260401T010404Z
LAST-MODIFIED:20260401T010407Z
UID:10025045-1826274600-1826276400@bluewaterparent.com
SUMMARY:Storytime - Burtchville
DESCRIPTION:
URL:https://bluewaterparent.com/event/storytime-burtchville-3-2/2027-11-15/
LOCATION:Burtchville Library\, 7093 2nd St\, Lakeport\, MI\, 48059\, United States
CATEGORIES:Free,Playgroups
END:VEVENT
BEGIN:VEVENT
DTSTART;TZID=America/New_York:20271115T103000
DTEND;TZID=America/New_York:20271115T113000
DTSTAMP:20260420T002918
CREATED:20260321T165751Z
LAST-MODIFIED:20260321T165752Z
UID:10017802-1826274600-1826278200@bluewaterparent.com
SUMMARY:Storytime - Marine City
DESCRIPTION:From SCCLS – Preschoolers and their adults join us at the library for a happy blend of stories and activities.
URL:https://bluewaterparent.com/event/storytime-marine-city-2-2/2027-11-15/
LOCATION:Marine City Library\, 300 S Parker St\, Marine City\, MI\, 48039\, United States
CATEGORIES:Free,Playgroups
END:VEVENT
BEGIN:VEVENT
DTSTART;TZID=America/New_York:20271116T100000
DTEND;TZID=America/New_York:20271116T103000
DTSTAMP:20260420T002918
CREATED:20260418T235804Z
LAST-MODIFIED:20260419T000903Z
UID:10025423-1826359200-1826361000@bluewaterparent.com
SUMMARY:Rhythm and Rhyme - Port Huron
DESCRIPTION:For children ages 0-3 and their caregivers.
URL:https://bluewaterparent.com/event/rhythm-and-rhyme-port-huron/2027-11-16/
LOCATION:Main Library\, 210 McMorran Blvd\, Port Huron\, MI\, 48060\, United States
CATEGORIES:Playgroups
END:VEVENT
BEGIN:VEVENT
DTSTART;TZID=America/New_York:20271116T180000
DTEND;TZID=America/New_York:20271116T183000
DTSTAMP:20260420T002918
CREATED:20260419T002148Z
LAST-MODIFIED:20260419T003520Z
UID:10025684-1826388000-1826389800@bluewaterparent.com
SUMMARY:Bedtime Storytime - Port Huron
DESCRIPTION:
URL:https://bluewaterparent.com/event/bedtime-storytime/2027-11-16/
LOCATION:Main Library\, 210 McMorran Blvd\, Port Huron\, MI\, 48060\, United States
CATEGORIES:Playgroups
END:VEVENT
BEGIN:VEVENT
DTSTART;TZID=America/New_York:20271117T080000
DTEND;TZID=America/New_York:20271117T170000
DTSTAMP:20260420T002918
CREATED:20260419T012510Z
LAST-MODIFIED:20260419T012510Z
UID:10026552-1826438400-1826470800@bluewaterparent.com
SUMMARY:Discovery Lab for Littles
DESCRIPTION:This event is included with admission.
URL:https://bluewaterparent.com/event/discovery-lab-for-littles/2027-11-17/
LOCATION:Discovery City Children’s Museum\, 317 Grand River Avenue\, Port huron\, MI\, 48060
END:VEVENT
BEGIN:VEVENT
DTSTART;TZID=America/New_York:20271117T100000
DTEND;TZID=America/New_York:20271117T110000
DTSTAMP:20260420T002918
CREATED:20260419T003159Z
LAST-MODIFIED:20260419T003555Z
UID:10025945-1826445600-1826449200@bluewaterparent.com
SUMMARY:Storytime - Port Huron
DESCRIPTION:
URL:https://bluewaterparent.com/event/storytime-port-huron/2027-11-17/
LOCATION:Main Library\, 210 McMorran Blvd\, Port Huron\, MI\, 48060\, United States
CATEGORIES:Playgroups
END:VEVENT
BEGIN:VEVENT
DTSTART;TZID=America/New_York:20271118T100000
DTEND;TZID=America/New_York:20271118T110000
DTSTAMP:20260420T002918
CREATED:20251201T004011Z
LAST-MODIFIED:20260307T021133Z
UID:10023911-1826532000-1826535600@bluewaterparent.com
SUMMARY:Great Start Playgroup - Avoca
DESCRIPTION:
URL:https://bluewaterparent.com/event/great-start-playgroup-emmett/2027-11-18/
LOCATION:Avoca Elementary\, 8751 Willow St.\, Avoca\, MI\, 48006\, United States
CATEGORIES:Playgroups
END:VEVENT
BEGIN:VEVENT
DTSTART;TZID=America/New_York:20271118T100000
DTEND;TZID=America/New_York:20271118T110000
DTSTAMP:20260420T002918
CREATED:20260307T014510Z
LAST-MODIFIED:20260307T014908Z
UID:10023650-1826532000-1826535600@bluewaterparent.com
SUMMARY:Great Start Playgroup - Marysville
DESCRIPTION:
URL:https://bluewaterparent.com/event/great-start-playgroup-marysville-3/2027-11-18/
LOCATION:St. Clair County RESA East Campus\, 1111 Delaware Avenue\, Marysville\, MI
CATEGORIES:Playgroups
END:VEVENT
BEGIN:VEVENT
DTSTART;TZID=America/New_York:20271118T110000
DTEND;TZID=America/New_York:20271118T113000
DTSTAMP:20260420T002918
CREATED:20260101T200511Z
LAST-MODIFIED:20260101T213808Z
UID:10021196-1826535600-1826537400@bluewaterparent.com
SUMMARY:Storytime - Algonac
DESCRIPTION:  \n 
URL:https://bluewaterparent.com/event/storytime-algonac-2/2027-11-18/
LOCATION:Algonac-Clay Library\, 2011 St Clair River Dr\, Algonac\, MI\, 48001\, United States
CATEGORIES:Playgroups
END:VEVENT
BEGIN:VEVENT
DTSTART;TZID=America/New_York:20271118T143000
DTEND;TZID=America/New_York:20271118T160000
DTSTAMP:20260420T002918
CREATED:20260101T200828Z
LAST-MODIFIED:20260101T200854Z
UID:10019690-1826548200-1826553600@bluewaterparent.com
SUMMARY:Teen Time - Yale
DESCRIPTION:
URL:https://bluewaterparent.com/event/teen-time-yale-3/2027-11-18/
LOCATION:Yale Library\, 2 Jones St\, Yale\, MI\, 48097\, United States
CATEGORIES:Teens
END:VEVENT
BEGIN:VEVENT
DTSTART;TZID=America/New_York:20271118T171500
DTEND;TZID=America/New_York:20271118T174500
DTSTAMP:20260420T002918
CREATED:20260328T183605Z
LAST-MODIFIED:20260328T183607Z
UID:10024831-1826558100-1826559900@bluewaterparent.com
SUMMARY:Little House on the Prairie Book Club for Kids
DESCRIPTION:  \n 
URL:https://bluewaterparent.com/event/little-house-on-the-prairie-book-club-for-kids-2-3/2027-11-18/
LOCATION:Capac Library\, 111 N Main St\, Capac\, MI\, 48014\, United States
CATEGORIES:Free
END:VEVENT
BEGIN:VEVENT
DTSTART;TZID=America/New_York:20271119T080000
DTEND;TZID=America/New_York:20271119T170000
DTSTAMP:20260420T002918
CREATED:20260419T012510Z
LAST-MODIFIED:20260419T012510Z
UID:10026553-1826611200-1826643600@bluewaterparent.com
SUMMARY:Discovery Lab for Littles
DESCRIPTION:This event is included with admission.
URL:https://bluewaterparent.com/event/discovery-lab-for-littles/2027-11-19/
LOCATION:Discovery City Children’s Museum\, 317 Grand River Avenue\, Port huron\, MI\, 48060
END:VEVENT
BEGIN:VEVENT
DTSTART;TZID=America/New_York:20271119T100000
DTEND;TZID=America/New_York:20271119T104500
DTSTAMP:20260420T002919
CREATED:20260101T202520Z
LAST-MODIFIED:20260131T171318Z
UID:10023337-1826618400-1826621100@bluewaterparent.com
SUMMARY:Family Storytime - Memphis
DESCRIPTION:
URL:https://bluewaterparent.com/event/family-storytime-capac-2-2/2027-11-19/
LOCATION:Memphis Library\, 34830 Potter St\, Memphis\, MI\, 48041\, United States
CATEGORIES:Playgroups
END:VEVENT
BEGIN:VEVENT
DTSTART;TZID=America/New_York:20271119T100000
DTEND;TZID=America/New_York:20271119T110000
DTSTAMP:20260420T002919
CREATED:20260419T003829Z
LAST-MODIFIED:20260419T003829Z
UID:10026206-1826618400-1826622000@bluewaterparent.com
SUMMARY:Storytime - Port Huron
DESCRIPTION:
URL:https://bluewaterparent.com/event/storytime-port-huron-2/2027-11-19/
LOCATION:Main Library\, 210 McMorran Blvd\, Port Huron\, MI\, 48060\, United States
CATEGORIES:Playgroups
END:VEVENT
BEGIN:VEVENT
DTSTART;TZID=America/New_York:20271119T110000
DTEND;TZID=America/New_York:20271119T120000
DTSTAMP:20260420T002919
CREATED:20260101T164906Z
LAST-MODIFIED:20260101T171615Z
UID:10017019-1826622000-1826625600@bluewaterparent.com
SUMMARY:Playgroup Pals
DESCRIPTION:
URL:https://bluewaterparent.com/event/playgroup-pals-2/2027-11-19/
LOCATION:Ira Township Library\, 7013 Meldrum Rd\, Ira Township\, Michigan\, 48023\, United States
CATEGORIES:Playgroups
END:VEVENT
BEGIN:VEVENT
DTSTART;TZID=America/New_York:20271122T100000
DTEND;TZID=America/New_York:20271122T110000
DTSTAMP:20260420T002919
CREATED:20260101T192653Z
LAST-MODIFIED:20260307T025320Z
UID:10024433-1826877600-1826881200@bluewaterparent.com
SUMMARY:Storytime - St. Clair
DESCRIPTION:From SCCLS – Join us for a fun and educational blend of stories\, crafts\, movement activities\, and songs.
URL:https://bluewaterparent.com/event/storytime-st-clair/2027-11-22/
LOCATION:St. Clair Library\, 310 S. 2nd Street\, St. Clair\, MI
CATEGORIES:Free,Playgroups
END:VEVENT
BEGIN:VEVENT
DTSTART;TZID=America/New_York:20271122T100000
DTEND;TZID=America/New_York:20271122T110000
DTSTAMP:20260420T002919
CREATED:20260125T194928Z
LAST-MODIFIED:20260125T194929Z
UID:10017542-1826877600-1826881200@bluewaterparent.com
SUMMARY:Storytime - Marysville
DESCRIPTION:From SCCLS – Preschoolers and their adults: Join us at the library for a happy blend of stories\, rhymes\, music and movement\, followed by a creative activity time.
URL:https://bluewaterparent.com/event/storytime-marysville-3/2027-11-22/
LOCATION:Marysville Library\, 1175 Delaware\, Marysville\, MI
CATEGORIES:Free,Playgroups
END:VEVENT
BEGIN:VEVENT
DTSTART;TZID=America/New_York:20271122T100000
DTEND;TZID=America/New_York:20271122T110000
DTSTAMP:20260420T002919
CREATED:20260307T142323Z
LAST-MODIFIED:20260307T142325Z
UID:10017281-1826877600-1826881200@bluewaterparent.com
SUMMARY:Storytime - Yale
DESCRIPTION:
URL:https://bluewaterparent.com/event/storytime-yale-2-2-2/2027-11-22/
LOCATION:Yale Library\, 2 Jones St\, Yale\, MI\, 48097\, United States
CATEGORIES:Free,Playgroups
END:VEVENT
BEGIN:VEVENT
DTSTART;TZID=America/New_York:20271122T103000
DTEND;TZID=America/New_York:20271122T110000
DTSTAMP:20260420T002919
CREATED:20260401T010404Z
LAST-MODIFIED:20260401T010407Z
UID:10025046-1826879400-1826881200@bluewaterparent.com
SUMMARY:Storytime - Burtchville
DESCRIPTION:
URL:https://bluewaterparent.com/event/storytime-burtchville-3-2/2027-11-22/
LOCATION:Burtchville Library\, 7093 2nd St\, Lakeport\, MI\, 48059\, United States
CATEGORIES:Free,Playgroups
END:VEVENT
END:VCALENDAR