BEGIN:VCALENDAR
VERSION:2.0
PRODID:-//BlueWaterParent.com - ECPv6.15.20//NONSGML v1.0//EN
CALSCALE:GREGORIAN
METHOD:PUBLISH
X-ORIGINAL-URL:https://bluewaterparent.com
X-WR-CALDESC:Events for BlueWaterParent.com
REFRESH-INTERVAL;VALUE=DURATION:PT1H
X-Robots-Tag:noindex
X-PUBLISHED-TTL:PT1H
BEGIN:VTIMEZONE
TZID:America/New_York
BEGIN:DAYLIGHT
TZOFFSETFROM:-0500
TZOFFSETTO:-0400
TZNAME:EDT
DTSTART:20270314T070000
END:DAYLIGHT
BEGIN:STANDARD
TZOFFSETFROM:-0400
TZOFFSETTO:-0500
TZNAME:EST
DTSTART:20271107T060000
END:STANDARD
BEGIN:DAYLIGHT
TZOFFSETFROM:-0500
TZOFFSETTO:-0400
TZNAME:EDT
DTSTART:20280312T070000
END:DAYLIGHT
BEGIN:STANDARD
TZOFFSETFROM:-0400
TZOFFSETTO:-0500
TZNAME:EST
DTSTART:20281105T060000
END:STANDARD
BEGIN:DAYLIGHT
TZOFFSETFROM:-0500
TZOFFSETTO:-0400
TZNAME:EDT
DTSTART:20290311T070000
END:DAYLIGHT
BEGIN:STANDARD
TZOFFSETFROM:-0400
TZOFFSETTO:-0500
TZNAME:EST
DTSTART:20291104T060000
END:STANDARD
END:VTIMEZONE
BEGIN:VEVENT
DTSTART;TZID=America/New_York:20280302T143000
DTEND;TZID=America/New_York:20280302T160000
DTSTAMP:20260420T031151
CREATED:20260101T200828Z
LAST-MODIFIED:20260101T200854Z
UID:10019705-1835620200-1835625600@bluewaterparent.com
SUMMARY:Teen Time - Yale
DESCRIPTION:
URL:https://bluewaterparent.com/event/teen-time-yale-3/2028-03-02/
LOCATION:Yale Library\, 2 Jones St\, Yale\, MI\, 48097\, United States
CATEGORIES:Teens
END:VEVENT
BEGIN:VEVENT
DTSTART;TZID=America/New_York:20280302T153000
DTEND;TZID=America/New_York:20280302T180000
DTSTAMP:20260420T031151
CREATED:20260101T201514Z
LAST-MODIFIED:20260103T021445Z
UID:10021547-1835623800-1835632800@bluewaterparent.com
SUMMARY:To D&D\, And Beyond!
DESCRIPTION:  \n 
URL:https://bluewaterparent.com/event/to-dd-and-beyond-3/2028-03-02/
LOCATION:Marysville Library\, 1175 Delaware\, Marysville\, MI
CATEGORIES:Teens
END:VEVENT
BEGIN:VEVENT
DTSTART;TZID=America/New_York:20280303T080000
DTEND;TZID=America/New_York:20280303T170000
DTSTAMP:20260420T031151
CREATED:20260419T012510Z
LAST-MODIFIED:20260419T012510Z
UID:10026583-1835683200-1835715600@bluewaterparent.com
SUMMARY:Discovery Lab for Littles
DESCRIPTION:This event is included with admission.
URL:https://bluewaterparent.com/event/discovery-lab-for-littles/2028-03-03/
LOCATION:Discovery City Children’s Museum\, 317 Grand River Avenue\, Port huron\, MI\, 48060
END:VEVENT
BEGIN:VEVENT
DTSTART;TZID=America/New_York:20280303T100000
DTEND;TZID=America/New_York:20280303T104500
DTSTAMP:20260420T031151
CREATED:20260101T202520Z
LAST-MODIFIED:20260131T171318Z
UID:10023352-1835690400-1835693100@bluewaterparent.com
SUMMARY:Family Storytime - Memphis
DESCRIPTION:
URL:https://bluewaterparent.com/event/family-storytime-capac-2-2/2028-03-03/
LOCATION:Memphis Library\, 34830 Potter St\, Memphis\, MI\, 48041\, United States
CATEGORIES:Playgroups
END:VEVENT
BEGIN:VEVENT
DTSTART;TZID=America/New_York:20280303T100000
DTEND;TZID=America/New_York:20280303T110000
DTSTAMP:20260420T031151
CREATED:20260419T003829Z
LAST-MODIFIED:20260419T003829Z
UID:10026221-1835690400-1835694000@bluewaterparent.com
SUMMARY:Storytime - Port Huron
DESCRIPTION:
URL:https://bluewaterparent.com/event/storytime-port-huron-2/2028-03-03/
LOCATION:Main Library\, 210 McMorran Blvd\, Port Huron\, MI\, 48060\, United States
CATEGORIES:Playgroups
END:VEVENT
BEGIN:VEVENT
DTSTART;TZID=America/New_York:20280303T110000
DTEND;TZID=America/New_York:20280303T120000
DTSTAMP:20260420T031151
CREATED:20260101T164906Z
LAST-MODIFIED:20260101T171615Z
UID:10017034-1835694000-1835697600@bluewaterparent.com
SUMMARY:Playgroup Pals
DESCRIPTION:
URL:https://bluewaterparent.com/event/playgroup-pals-2/2028-03-03/
LOCATION:Ira Township Library\, 7013 Meldrum Rd\, Ira Township\, Michigan\, 48023\, United States
CATEGORIES:Playgroups
END:VEVENT
BEGIN:VEVENT
DTSTART;TZID=America/New_York:20280303T150000
DTEND;TZID=America/New_York:20280303T163000
DTSTAMP:20260420T031151
CREATED:20260101T204005Z
LAST-MODIFIED:20260103T023339Z
UID:10021661-1835708400-1835713800@bluewaterparent.com
SUMMARY:Friday Game Zone
DESCRIPTION:
URL:https://bluewaterparent.com/event/friday-game-zone/2028-03-03/
LOCATION:Ira Township Library\, 7013 Meldrum Rd\, Ira Township\, Michigan\, 48023\, United States
CATEGORIES:Free
END:VEVENT
BEGIN:VEVENT
DTSTART;TZID=America/New_York:20280304T130000
DTEND;TZID=America/New_York:20280304T150000
DTSTAMP:20260420T031151
CREATED:20260125T184518Z
LAST-MODIFIED:20260328T185717Z
UID:10022742-1835787600-1835794800@bluewaterparent.com
SUMMARY:LEGO Club
DESCRIPTION:
URL:https://bluewaterparent.com/event/lego-club-2-2/
LOCATION:Ira Township Library\, 7013 Meldrum Rd\, Ira Township\, Michigan\, 48023\, United States
CATEGORIES:Free
END:VEVENT
BEGIN:VEVENT
DTSTART;TZID=America/New_York:20280305T130000
DTEND;TZID=America/New_York:20280305T170000
DTSTAMP:20260420T031151
CREATED:20250807T170824Z
LAST-MODIFIED:20250807T170824Z
UID:10015234-1835874000-1835888400@bluewaterparent.com
SUMMARY:Port Huron Township Heritage Museum
DESCRIPTION:
URL:https://bluewaterparent.com/event/port-huron-township-heritage-museum/2028-03-05/
LOCATION:Port Huron Township Heritage Museum\, 3800 Lapeer Rd.\, Port Huron Township\, MI
END:VEVENT
BEGIN:VEVENT
DTSTART;TZID=America/New_York:20280306T100000
DTEND;TZID=America/New_York:20280306T110000
DTSTAMP:20260420T031151
CREATED:20260101T192653Z
LAST-MODIFIED:20260307T025320Z
UID:10024448-1835949600-1835953200@bluewaterparent.com
SUMMARY:Storytime - St. Clair
DESCRIPTION:From SCCLS – Join us for a fun and educational blend of stories\, crafts\, movement activities\, and songs.
URL:https://bluewaterparent.com/event/storytime-st-clair/2028-03-06/
LOCATION:St. Clair Library\, 310 S. 2nd Street\, St. Clair\, MI
CATEGORIES:Free,Playgroups
END:VEVENT
BEGIN:VEVENT
DTSTART;TZID=America/New_York:20280306T100000
DTEND;TZID=America/New_York:20280306T110000
DTSTAMP:20260420T031151
CREATED:20260125T194928Z
LAST-MODIFIED:20260125T194929Z
UID:10017557-1835949600-1835953200@bluewaterparent.com
SUMMARY:Storytime - Marysville
DESCRIPTION:From SCCLS – Preschoolers and their adults: Join us at the library for a happy blend of stories\, rhymes\, music and movement\, followed by a creative activity time.
URL:https://bluewaterparent.com/event/storytime-marysville-3/2028-03-06/
LOCATION:Marysville Library\, 1175 Delaware\, Marysville\, MI
CATEGORIES:Free,Playgroups
END:VEVENT
BEGIN:VEVENT
DTSTART;TZID=America/New_York:20280306T100000
DTEND;TZID=America/New_York:20280306T110000
DTSTAMP:20260420T031151
CREATED:20260307T142323Z
LAST-MODIFIED:20260307T142325Z
UID:10017296-1835949600-1835953200@bluewaterparent.com
SUMMARY:Storytime - Yale
DESCRIPTION:
URL:https://bluewaterparent.com/event/storytime-yale-2-2-2/2028-03-06/
LOCATION:Yale Library\, 2 Jones St\, Yale\, MI\, 48097\, United States
CATEGORIES:Free,Playgroups
END:VEVENT
BEGIN:VEVENT
DTSTART;TZID=America/New_York:20280306T103000
DTEND;TZID=America/New_York:20280306T110000
DTSTAMP:20260420T031151
CREATED:20260401T010404Z
LAST-MODIFIED:20260401T010407Z
UID:10025061-1835951400-1835953200@bluewaterparent.com
SUMMARY:Storytime - Burtchville
DESCRIPTION:
URL:https://bluewaterparent.com/event/storytime-burtchville-3-2/2028-03-06/
LOCATION:Burtchville Library\, 7093 2nd St\, Lakeport\, MI\, 48059\, United States
CATEGORIES:Free,Playgroups
END:VEVENT
BEGIN:VEVENT
DTSTART;TZID=America/New_York:20280306T103000
DTEND;TZID=America/New_York:20280306T113000
DTSTAMP:20260420T031151
CREATED:20260321T165751Z
LAST-MODIFIED:20260321T165752Z
UID:10017818-1835951400-1835955000@bluewaterparent.com
SUMMARY:Storytime - Marine City
DESCRIPTION:From SCCLS – Preschoolers and their adults join us at the library for a happy blend of stories and activities.
URL:https://bluewaterparent.com/event/storytime-marine-city-2-2/2028-03-06/
LOCATION:Marine City Library\, 300 S Parker St\, Marine City\, MI\, 48039\, United States
CATEGORIES:Free,Playgroups
END:VEVENT
BEGIN:VEVENT
DTSTART;TZID=America/New_York:20280307T100000
DTEND;TZID=America/New_York:20280307T103000
DTSTAMP:20260420T031151
CREATED:20260418T235804Z
LAST-MODIFIED:20260419T000903Z
UID:10025439-1836036000-1836037800@bluewaterparent.com
SUMMARY:Rhythm and Rhyme - Port Huron
DESCRIPTION:For children ages 0-3 and their caregivers.
URL:https://bluewaterparent.com/event/rhythm-and-rhyme-port-huron/2028-03-07/
LOCATION:Main Library\, 210 McMorran Blvd\, Port Huron\, MI\, 48060\, United States
CATEGORIES:Playgroups
END:VEVENT
BEGIN:VEVENT
DTSTART;TZID=America/New_York:20280307T153000
DTEND;TZID=America/New_York:20280307T173000
DTSTAMP:20260420T031151
CREATED:20260101T184832Z
LAST-MODIFIED:20260101T184832Z
UID:10019043-1836055800-1836063000@bluewaterparent.com
SUMMARY:Teen Zone - Burtchville
DESCRIPTION:Registration requested.
URL:https://bluewaterparent.com/event/teen-zone-burtchville-2/2028-03-07/
LOCATION:Burtchville Library\, 7093 2nd St\, Lakeport\, MI\, 48059\, United States
CATEGORIES:Teens
END:VEVENT
BEGIN:VEVENT
DTSTART;TZID=America/New_York:20280307T180000
DTEND;TZID=America/New_York:20280307T183000
DTSTAMP:20260420T031151
CREATED:20260419T002148Z
LAST-MODIFIED:20260419T003520Z
UID:10025700-1836064800-1836066600@bluewaterparent.com
SUMMARY:Bedtime Storytime - Port Huron
DESCRIPTION:
URL:https://bluewaterparent.com/event/bedtime-storytime/2028-03-07/
LOCATION:Main Library\, 210 McMorran Blvd\, Port Huron\, MI\, 48060\, United States
CATEGORIES:Playgroups
END:VEVENT
BEGIN:VEVENT
DTSTART;TZID=America/New_York:20280308T080000
DTEND;TZID=America/New_York:20280308T170000
DTSTAMP:20260420T031151
CREATED:20260419T012510Z
LAST-MODIFIED:20260419T012510Z
UID:10026584-1836115200-1836147600@bluewaterparent.com
SUMMARY:Discovery Lab for Littles
DESCRIPTION:This event is included with admission.
URL:https://bluewaterparent.com/event/discovery-lab-for-littles/2028-03-08/
LOCATION:Discovery City Children’s Museum\, 317 Grand River Avenue\, Port huron\, MI\, 48060
END:VEVENT
BEGIN:VEVENT
DTSTART;TZID=America/New_York:20280308T100000
DTEND;TZID=America/New_York:20280308T110000
DTSTAMP:20260420T031151
CREATED:20260419T003159Z
LAST-MODIFIED:20260419T003555Z
UID:10025961-1836122400-1836126000@bluewaterparent.com
SUMMARY:Storytime - Port Huron
DESCRIPTION:
URL:https://bluewaterparent.com/event/storytime-port-huron/2028-03-08/
LOCATION:Main Library\, 210 McMorran Blvd\, Port Huron\, MI\, 48060\, United States
CATEGORIES:Playgroups
END:VEVENT
BEGIN:VEVENT
DTSTART;TZID=America/New_York:20280309T100000
DTEND;TZID=America/New_York:20280309T110000
DTSTAMP:20260420T031151
CREATED:20251201T004011Z
LAST-MODIFIED:20260307T021133Z
UID:10023927-1836208800-1836212400@bluewaterparent.com
SUMMARY:Great Start Playgroup - Avoca
DESCRIPTION:
URL:https://bluewaterparent.com/event/great-start-playgroup-emmett/2028-03-09/
LOCATION:Avoca Elementary\, 8751 Willow St.\, Avoca\, MI\, 48006\, United States
CATEGORIES:Playgroups
END:VEVENT
BEGIN:VEVENT
DTSTART;TZID=America/New_York:20280309T100000
DTEND;TZID=America/New_York:20280309T110000
DTSTAMP:20260420T031151
CREATED:20260307T014510Z
LAST-MODIFIED:20260307T014908Z
UID:10023666-1836208800-1836212400@bluewaterparent.com
SUMMARY:Great Start Playgroup - Marysville
DESCRIPTION:
URL:https://bluewaterparent.com/event/great-start-playgroup-marysville-3/2028-03-09/
LOCATION:St. Clair County RESA East Campus\, 1111 Delaware Avenue\, Marysville\, MI
CATEGORIES:Playgroups
END:VEVENT
BEGIN:VEVENT
DTSTART;TZID=America/New_York:20280309T110000
DTEND;TZID=America/New_York:20280309T113000
DTSTAMP:20260420T031151
CREATED:20260101T200511Z
LAST-MODIFIED:20260101T213808Z
UID:10021212-1836212400-1836214200@bluewaterparent.com
SUMMARY:Storytime - Algonac
DESCRIPTION:  \n 
URL:https://bluewaterparent.com/event/storytime-algonac-2/2028-03-09/
LOCATION:Algonac-Clay Library\, 2011 St Clair River Dr\, Algonac\, MI\, 48001\, United States
CATEGORIES:Playgroups
END:VEVENT
BEGIN:VEVENT
DTSTART;TZID=America/New_York:20280309T143000
DTEND;TZID=America/New_York:20280309T160000
DTSTAMP:20260420T031151
CREATED:20260101T200828Z
LAST-MODIFIED:20260101T200854Z
UID:10019706-1836225000-1836230400@bluewaterparent.com
SUMMARY:Teen Time - Yale
DESCRIPTION:
URL:https://bluewaterparent.com/event/teen-time-yale-3/2028-03-09/
LOCATION:Yale Library\, 2 Jones St\, Yale\, MI\, 48097\, United States
CATEGORIES:Teens
END:VEVENT
BEGIN:VEVENT
DTSTART;TZID=America/New_York:20280309T171500
DTEND;TZID=America/New_York:20280309T174500
DTSTAMP:20260420T031151
CREATED:20260328T183605Z
LAST-MODIFIED:20260328T183607Z
UID:10022937-1836234900-1836236700@bluewaterparent.com
SUMMARY:Little House on the Prairie Book Club for Kids
DESCRIPTION:  \n 
URL:https://bluewaterparent.com/event/little-house-on-the-prairie-book-club-for-kids-2-3/2028-03-09/
LOCATION:Capac Library\, 111 N Main St\, Capac\, MI\, 48014\, United States
CATEGORIES:Free
END:VEVENT
BEGIN:VEVENT
DTSTART;TZID=America/New_York:20280310T080000
DTEND;TZID=America/New_York:20280310T170000
DTSTAMP:20260420T031151
CREATED:20260419T012510Z
LAST-MODIFIED:20260419T012510Z
UID:10026585-1836288000-1836320400@bluewaterparent.com
SUMMARY:Discovery Lab for Littles
DESCRIPTION:This event is included with admission.
URL:https://bluewaterparent.com/event/discovery-lab-for-littles/2028-03-10/
LOCATION:Discovery City Children’s Museum\, 317 Grand River Avenue\, Port huron\, MI\, 48060
END:VEVENT
BEGIN:VEVENT
DTSTART;TZID=America/New_York:20280310T100000
DTEND;TZID=America/New_York:20280310T104500
DTSTAMP:20260420T031151
CREATED:20260101T202520Z
LAST-MODIFIED:20260131T171318Z
UID:10023353-1836295200-1836297900@bluewaterparent.com
SUMMARY:Family Storytime - Memphis
DESCRIPTION:
URL:https://bluewaterparent.com/event/family-storytime-capac-2-2/2028-03-10/
LOCATION:Memphis Library\, 34830 Potter St\, Memphis\, MI\, 48041\, United States
CATEGORIES:Playgroups
END:VEVENT
BEGIN:VEVENT
DTSTART;TZID=America/New_York:20280310T100000
DTEND;TZID=America/New_York:20280310T110000
DTSTAMP:20260420T031151
CREATED:20260419T003829Z
LAST-MODIFIED:20260419T003829Z
UID:10026222-1836295200-1836298800@bluewaterparent.com
SUMMARY:Storytime - Port Huron
DESCRIPTION:
URL:https://bluewaterparent.com/event/storytime-port-huron-2/2028-03-10/
LOCATION:Main Library\, 210 McMorran Blvd\, Port Huron\, MI\, 48060\, United States
CATEGORIES:Playgroups
END:VEVENT
BEGIN:VEVENT
DTSTART;TZID=America/New_York:20280310T110000
DTEND;TZID=America/New_York:20280310T120000
DTSTAMP:20260420T031151
CREATED:20260101T164906Z
LAST-MODIFIED:20260101T171615Z
UID:10017035-1836298800-1836302400@bluewaterparent.com
SUMMARY:Playgroup Pals
DESCRIPTION:
URL:https://bluewaterparent.com/event/playgroup-pals-2/2028-03-10/
LOCATION:Ira Township Library\, 7013 Meldrum Rd\, Ira Township\, Michigan\, 48023\, United States
CATEGORIES:Playgroups
END:VEVENT
BEGIN:VEVENT
DTSTART;TZID=America/New_York:20280313T100000
DTEND;TZID=America/New_York:20280313T110000
DTSTAMP:20260420T031151
CREATED:20260101T192653Z
LAST-MODIFIED:20260307T025320Z
UID:10024449-1836554400-1836558000@bluewaterparent.com
SUMMARY:Storytime - St. Clair
DESCRIPTION:From SCCLS – Join us for a fun and educational blend of stories\, crafts\, movement activities\, and songs.
URL:https://bluewaterparent.com/event/storytime-st-clair/2028-03-13/
LOCATION:St. Clair Library\, 310 S. 2nd Street\, St. Clair\, MI
CATEGORIES:Free,Playgroups
END:VEVENT
BEGIN:VEVENT
DTSTART;TZID=America/New_York:20280313T100000
DTEND;TZID=America/New_York:20280313T110000
DTSTAMP:20260420T031152
CREATED:20260125T194928Z
LAST-MODIFIED:20260125T194929Z
UID:10017558-1836554400-1836558000@bluewaterparent.com
SUMMARY:Storytime - Marysville
DESCRIPTION:From SCCLS – Preschoolers and their adults: Join us at the library for a happy blend of stories\, rhymes\, music and movement\, followed by a creative activity time.
URL:https://bluewaterparent.com/event/storytime-marysville-3/2028-03-13/
LOCATION:Marysville Library\, 1175 Delaware\, Marysville\, MI
CATEGORIES:Free,Playgroups
END:VEVENT
END:VCALENDAR