BEGIN:VCALENDAR
VERSION:2.0
PRODID:-//BlueWaterParent.com - ECPv6.15.20//NONSGML v1.0//EN
CALSCALE:GREGORIAN
METHOD:PUBLISH
X-ORIGINAL-URL:https://bluewaterparent.com
X-WR-CALDESC:Events for BlueWaterParent.com
REFRESH-INTERVAL;VALUE=DURATION:PT1H
X-Robots-Tag:noindex
X-PUBLISHED-TTL:PT1H
BEGIN:VTIMEZONE
TZID:America/New_York
BEGIN:DAYLIGHT
TZOFFSETFROM:-0500
TZOFFSETTO:-0400
TZNAME:EDT
DTSTART:20280312T070000
END:DAYLIGHT
BEGIN:STANDARD
TZOFFSETFROM:-0400
TZOFFSETTO:-0500
TZNAME:EST
DTSTART:20281105T060000
END:STANDARD
BEGIN:DAYLIGHT
TZOFFSETFROM:-0500
TZOFFSETTO:-0400
TZNAME:EDT
DTSTART:20290311T070000
END:DAYLIGHT
BEGIN:STANDARD
TZOFFSETFROM:-0400
TZOFFSETTO:-0500
TZNAME:EST
DTSTART:20291104T060000
END:STANDARD
BEGIN:DAYLIGHT
TZOFFSETFROM:-0500
TZOFFSETTO:-0400
TZNAME:EDT
DTSTART:20300310T070000
END:DAYLIGHT
BEGIN:STANDARD
TZOFFSETFROM:-0400
TZOFFSETTO:-0500
TZNAME:EST
DTSTART:20301103T060000
END:STANDARD
END:VTIMEZONE
BEGIN:VEVENT
DTSTART;TZID=America/New_York:20290129T100000
DTEND;TZID=America/New_York:20290129T110000
DTSTAMP:20260423T190312
CREATED:20260307T142323Z
LAST-MODIFIED:20260307T142325Z
UID:10017343-1864375200-1864378800@bluewaterparent.com
SUMMARY:Storytime - Yale
DESCRIPTION:
URL:https://bluewaterparent.com/event/storytime-yale-2-2-2/2029-01-29/
LOCATION:Yale Library\, 2 Jones St\, Yale\, MI\, 48097\, United States
CATEGORIES:Free,Playgroups
END:VEVENT
BEGIN:VEVENT
DTSTART;TZID=America/New_York:20290129T103000
DTEND;TZID=America/New_York:20290129T110000
DTSTAMP:20260423T190312
CREATED:20260401T010404Z
LAST-MODIFIED:20260401T010407Z
UID:10025108-1864377000-1864378800@bluewaterparent.com
SUMMARY:Storytime - Burtchville
DESCRIPTION:
URL:https://bluewaterparent.com/event/storytime-burtchville-3-2/2029-01-29/
LOCATION:Burtchville Library\, 7093 2nd St\, Lakeport\, MI\, 48059\, United States
CATEGORIES:Free,Playgroups
END:VEVENT
BEGIN:VEVENT
DTSTART;TZID=America/New_York:20290129T103000
DTEND;TZID=America/New_York:20290129T113000
DTSTAMP:20260423T190312
CREATED:20260321T165751Z
LAST-MODIFIED:20260321T165752Z
UID:10024738-1864377000-1864380600@bluewaterparent.com
SUMMARY:Storytime - Marine City
DESCRIPTION:From SCCLS – Preschoolers and their adults join us at the library for a happy blend of stories and activities.
URL:https://bluewaterparent.com/event/storytime-marine-city-2-2/2029-01-29/
LOCATION:Marine City Library\, 300 S Parker St\, Marine City\, MI\, 48039\, United States
CATEGORIES:Free,Playgroups
END:VEVENT
BEGIN:VEVENT
DTSTART;TZID=America/New_York:20290130T100000
DTEND;TZID=America/New_York:20290130T103000
DTSTAMP:20260423T190312
CREATED:20260418T235804Z
LAST-MODIFIED:20260419T000903Z
UID:10025486-1864461600-1864463400@bluewaterparent.com
SUMMARY:Rhythm and Rhyme - Port Huron
DESCRIPTION:For children ages 0-3 and their caregivers.
URL:https://bluewaterparent.com/event/rhythm-and-rhyme-port-huron/2029-01-30/
LOCATION:Main Library\, 210 McMorran Blvd\, Port Huron\, MI\, 48060\, United States
CATEGORIES:Playgroups
END:VEVENT
BEGIN:VEVENT
DTSTART;TZID=America/New_York:20290130T170000
DTEND;TZID=America/New_York:20290130T193000
DTSTAMP:20260423T190312
CREATED:20260101T190453Z
LAST-MODIFIED:20260103T013002Z
UID:10021450-1864486800-1864495800@bluewaterparent.com
SUMMARY:Teen D&D Group - Algonac-Clay
DESCRIPTION:Registration requested.
URL:https://bluewaterparent.com/event/teen-dd-group-algonac-clay/2029-01-30/
LOCATION:Algonac-Clay Library\, 2011 St Clair River Dr\, Algonac\, MI\, 48001\, United States
CATEGORIES:Teens
END:VEVENT
BEGIN:VEVENT
DTSTART;TZID=America/New_York:20290130T180000
DTEND;TZID=America/New_York:20290130T183000
DTSTAMP:20260423T190312
CREATED:20260419T002148Z
LAST-MODIFIED:20260419T003520Z
UID:10025747-1864490400-1864492200@bluewaterparent.com
SUMMARY:Bedtime Storytime - Port Huron
DESCRIPTION:
URL:https://bluewaterparent.com/event/bedtime-storytime/2029-01-30/
LOCATION:Main Library\, 210 McMorran Blvd\, Port Huron\, MI\, 48060\, United States
CATEGORIES:Playgroups
END:VEVENT
BEGIN:VEVENT
DTSTART;TZID=America/New_York:20290131T080000
DTEND;TZID=America/New_York:20290131T170000
DTSTAMP:20260423T190312
CREATED:20260419T012510Z
LAST-MODIFIED:20260419T012510Z
UID:10026678-1864540800-1864573200@bluewaterparent.com
SUMMARY:Discovery Lab for Littles
DESCRIPTION:This event is included with admission.
URL:https://bluewaterparent.com/event/discovery-lab-for-littles/2029-01-31/
LOCATION:Discovery City Children’s Museum\, 317 Grand River Avenue\, Port huron\, MI\, 48060
END:VEVENT
BEGIN:VEVENT
DTSTART;TZID=America/New_York:20290131T100000
DTEND;TZID=America/New_York:20290131T110000
DTSTAMP:20260423T190312
CREATED:20260419T003159Z
LAST-MODIFIED:20260419T003555Z
UID:10026008-1864548000-1864551600@bluewaterparent.com
SUMMARY:Storytime - Port Huron
DESCRIPTION:
URL:https://bluewaterparent.com/event/storytime-port-huron/2029-01-31/
LOCATION:Main Library\, 210 McMorran Blvd\, Port Huron\, MI\, 48060\, United States
CATEGORIES:Playgroups
END:VEVENT
BEGIN:VEVENT
DTSTART;TZID=America/New_York:20290201T100000
DTEND;TZID=America/New_York:20290201T110000
DTSTAMP:20260423T190312
CREATED:20251201T004011Z
LAST-MODIFIED:20260307T021133Z
UID:10023974-1864634400-1864638000@bluewaterparent.com
SUMMARY:Great Start Playgroup - Avoca
DESCRIPTION:
URL:https://bluewaterparent.com/event/great-start-playgroup-emmett/2029-02-01/
LOCATION:Avoca Elementary\, 8751 Willow St.\, Avoca\, MI\, 48006\, United States
CATEGORIES:Playgroups
END:VEVENT
BEGIN:VEVENT
DTSTART;TZID=America/New_York:20290201T100000
DTEND;TZID=America/New_York:20290201T110000
DTSTAMP:20260423T190312
CREATED:20260307T014510Z
LAST-MODIFIED:20260307T014908Z
UID:10023713-1864634400-1864638000@bluewaterparent.com
SUMMARY:Great Start Playgroup - Marysville
DESCRIPTION:
URL:https://bluewaterparent.com/event/great-start-playgroup-marysville-3/2029-02-01/
LOCATION:St. Clair County RESA East Campus\, 1111 Delaware Avenue\, Marysville\, MI
CATEGORIES:Playgroups
END:VEVENT
BEGIN:VEVENT
DTSTART;TZID=America/New_York:20290201T110000
DTEND;TZID=America/New_York:20290201T113000
DTSTAMP:20260423T190312
CREATED:20260101T200511Z
LAST-MODIFIED:20260101T213808Z
UID:10021259-1864638000-1864639800@bluewaterparent.com
SUMMARY:Storytime - Algonac
DESCRIPTION:  \n 
URL:https://bluewaterparent.com/event/storytime-algonac-2/2029-02-01/
LOCATION:Algonac-Clay Library\, 2011 St Clair River Dr\, Algonac\, MI\, 48001\, United States
CATEGORIES:Playgroups
END:VEVENT
BEGIN:VEVENT
DTSTART;TZID=America/New_York:20290201T143000
DTEND;TZID=America/New_York:20290201T160000
DTSTAMP:20260423T190312
CREATED:20260101T200828Z
LAST-MODIFIED:20260101T200854Z
UID:10019753-1864650600-1864656000@bluewaterparent.com
SUMMARY:Teen Time - Yale
DESCRIPTION:
URL:https://bluewaterparent.com/event/teen-time-yale-3/2029-02-01/
LOCATION:Yale Library\, 2 Jones St\, Yale\, MI\, 48097\, United States
CATEGORIES:Teens
END:VEVENT
BEGIN:VEVENT
DTSTART;TZID=America/New_York:20290201T153000
DTEND;TZID=America/New_York:20290201T180000
DTSTAMP:20260423T190312
CREATED:20260101T201514Z
LAST-MODIFIED:20260103T021445Z
UID:10021565-1864654200-1864663200@bluewaterparent.com
SUMMARY:To D&D\, And Beyond!
DESCRIPTION:  \n 
URL:https://bluewaterparent.com/event/to-dd-and-beyond-3/2029-02-01/
LOCATION:Marysville Library\, 1175 Delaware\, Marysville\, MI
CATEGORIES:Teens
END:VEVENT
BEGIN:VEVENT
DTSTART;TZID=America/New_York:20290202T080000
DTEND;TZID=America/New_York:20290202T170000
DTSTAMP:20260423T190312
CREATED:20260419T012510Z
LAST-MODIFIED:20260419T012510Z
UID:10026679-1864713600-1864746000@bluewaterparent.com
SUMMARY:Discovery Lab for Littles
DESCRIPTION:This event is included with admission.
URL:https://bluewaterparent.com/event/discovery-lab-for-littles/2029-02-02/
LOCATION:Discovery City Children’s Museum\, 317 Grand River Avenue\, Port huron\, MI\, 48060
END:VEVENT
BEGIN:VEVENT
DTSTART;TZID=America/New_York:20290202T100000
DTEND;TZID=America/New_York:20290202T104500
DTSTAMP:20260423T190312
CREATED:20260101T202520Z
LAST-MODIFIED:20260131T171318Z
UID:10023400-1864720800-1864723500@bluewaterparent.com
SUMMARY:Family Storytime - Memphis
DESCRIPTION:
URL:https://bluewaterparent.com/event/family-storytime-capac-2-2/2029-02-02/
LOCATION:Memphis Library\, 34830 Potter St\, Memphis\, MI\, 48041\, United States
CATEGORIES:Playgroups
END:VEVENT
BEGIN:VEVENT
DTSTART;TZID=America/New_York:20290202T100000
DTEND;TZID=America/New_York:20290202T110000
DTSTAMP:20260423T190312
CREATED:20260419T003829Z
LAST-MODIFIED:20260419T003829Z
UID:10026269-1864720800-1864724400@bluewaterparent.com
SUMMARY:Storytime - Port Huron
DESCRIPTION:
URL:https://bluewaterparent.com/event/storytime-port-huron-2/2029-02-02/
LOCATION:Main Library\, 210 McMorran Blvd\, Port Huron\, MI\, 48060\, United States
CATEGORIES:Playgroups
END:VEVENT
BEGIN:VEVENT
DTSTART;TZID=America/New_York:20290202T110000
DTEND;TZID=America/New_York:20290202T120000
DTSTAMP:20260423T190312
CREATED:20260101T164906Z
LAST-MODIFIED:20260101T171615Z
UID:10017082-1864724400-1864728000@bluewaterparent.com
SUMMARY:Playgroup Pals
DESCRIPTION:
URL:https://bluewaterparent.com/event/playgroup-pals-2/2029-02-02/
LOCATION:Ira Township Library\, 7013 Meldrum Rd\, Ira Township\, Michigan\, 48023\, United States
CATEGORIES:Playgroups
END:VEVENT
BEGIN:VEVENT
DTSTART;TZID=America/New_York:20290202T150000
DTEND;TZID=America/New_York:20290202T163000
DTSTAMP:20260423T190312
CREATED:20260101T204005Z
LAST-MODIFIED:20260103T023339Z
UID:10021685-1864738800-1864744200@bluewaterparent.com
SUMMARY:Friday Game Zone
DESCRIPTION:
URL:https://bluewaterparent.com/event/friday-game-zone/2029-02-02/
LOCATION:Ira Township Library\, 7013 Meldrum Rd\, Ira Township\, Michigan\, 48023\, United States
CATEGORIES:Free
END:VEVENT
BEGIN:VEVENT
DTSTART;TZID=America/New_York:20290203T130000
DTEND;TZID=America/New_York:20290203T150000
DTSTAMP:20260423T190312
CREATED:20260125T184518Z
LAST-MODIFIED:20260328T185717Z
UID:10022753-1864818000-1864825200@bluewaterparent.com
SUMMARY:LEGO Club
DESCRIPTION:
URL:https://bluewaterparent.com/event/lego-club-2-2/
LOCATION:Ira Township Library\, 7013 Meldrum Rd\, Ira Township\, Michigan\, 48023\, United States
CATEGORIES:Free
END:VEVENT
BEGIN:VEVENT
DTSTART;TZID=America/New_York:20290204T130000
DTEND;TZID=America/New_York:20290204T170000
DTSTAMP:20260423T190312
CREATED:20250807T170824Z
LAST-MODIFIED:20250807T170824Z
UID:10015245-1864904400-1864918800@bluewaterparent.com
SUMMARY:Port Huron Township Heritage Museum
DESCRIPTION:
URL:https://bluewaterparent.com/event/port-huron-township-heritage-museum/2029-02-04/
LOCATION:Port Huron Township Heritage Museum\, 3800 Lapeer Rd.\, Port Huron Township\, MI
END:VEVENT
BEGIN:VEVENT
DTSTART;TZID=America/New_York:20290205T100000
DTEND;TZID=America/New_York:20290205T110000
DTSTAMP:20260423T190312
CREATED:20260101T192653Z
LAST-MODIFIED:20260307T025320Z
UID:10024496-1864980000-1864983600@bluewaterparent.com
SUMMARY:Storytime - St. Clair
DESCRIPTION:From SCCLS – Join us for a fun and educational blend of stories\, crafts\, movement activities\, and songs.
URL:https://bluewaterparent.com/event/storytime-st-clair/2029-02-05/
LOCATION:St. Clair Library\, 310 S. 2nd Street\, St. Clair\, MI
CATEGORIES:Free,Playgroups
END:VEVENT
BEGIN:VEVENT
DTSTART;TZID=America/New_York:20290205T100000
DTEND;TZID=America/New_York:20290205T110000
DTSTAMP:20260423T190312
CREATED:20260125T194928Z
LAST-MODIFIED:20260125T194929Z
UID:10017605-1864980000-1864983600@bluewaterparent.com
SUMMARY:Storytime - Marysville
DESCRIPTION:From SCCLS – Preschoolers and their adults: Join us at the library for a happy blend of stories\, rhymes\, music and movement\, followed by a creative activity time.
URL:https://bluewaterparent.com/event/storytime-marysville-3/2029-02-05/
LOCATION:Marysville Library\, 1175 Delaware\, Marysville\, MI
CATEGORIES:Free,Playgroups
END:VEVENT
BEGIN:VEVENT
DTSTART;TZID=America/New_York:20290205T100000
DTEND;TZID=America/New_York:20290205T110000
DTSTAMP:20260423T190312
CREATED:20260307T142323Z
LAST-MODIFIED:20260307T142325Z
UID:10017344-1864980000-1864983600@bluewaterparent.com
SUMMARY:Storytime - Yale
DESCRIPTION:
URL:https://bluewaterparent.com/event/storytime-yale-2-2-2/2029-02-05/
LOCATION:Yale Library\, 2 Jones St\, Yale\, MI\, 48097\, United States
CATEGORIES:Free,Playgroups
END:VEVENT
BEGIN:VEVENT
DTSTART;TZID=America/New_York:20290205T103000
DTEND;TZID=America/New_York:20290205T110000
DTSTAMP:20260423T190312
CREATED:20260401T010404Z
LAST-MODIFIED:20260401T010407Z
UID:10025109-1864981800-1864983600@bluewaterparent.com
SUMMARY:Storytime - Burtchville
DESCRIPTION:
URL:https://bluewaterparent.com/event/storytime-burtchville-3-2/2029-02-05/
LOCATION:Burtchville Library\, 7093 2nd St\, Lakeport\, MI\, 48059\, United States
CATEGORIES:Free,Playgroups
END:VEVENT
BEGIN:VEVENT
DTSTART;TZID=America/New_York:20290205T103000
DTEND;TZID=America/New_York:20290205T113000
DTSTAMP:20260423T190312
CREATED:20260321T165751Z
LAST-MODIFIED:20260321T165752Z
UID:10017866-1864981800-1864985400@bluewaterparent.com
SUMMARY:Storytime - Marine City
DESCRIPTION:From SCCLS – Preschoolers and their adults join us at the library for a happy blend of stories and activities.
URL:https://bluewaterparent.com/event/storytime-marine-city-2-2/2029-02-05/
LOCATION:Marine City Library\, 300 S Parker St\, Marine City\, MI\, 48039\, United States
CATEGORIES:Free,Playgroups
END:VEVENT
BEGIN:VEVENT
DTSTART;TZID=America/New_York:20290206T100000
DTEND;TZID=America/New_York:20290206T103000
DTSTAMP:20260423T190312
CREATED:20260418T235804Z
LAST-MODIFIED:20260419T000903Z
UID:10025487-1865066400-1865068200@bluewaterparent.com
SUMMARY:Rhythm and Rhyme - Port Huron
DESCRIPTION:For children ages 0-3 and their caregivers.
URL:https://bluewaterparent.com/event/rhythm-and-rhyme-port-huron/2029-02-06/
LOCATION:Main Library\, 210 McMorran Blvd\, Port Huron\, MI\, 48060\, United States
CATEGORIES:Playgroups
END:VEVENT
BEGIN:VEVENT
DTSTART;TZID=America/New_York:20290206T153000
DTEND;TZID=America/New_York:20290206T173000
DTSTAMP:20260423T190312
CREATED:20260101T184832Z
LAST-MODIFIED:20260101T184832Z
UID:10019054-1865086200-1865093400@bluewaterparent.com
SUMMARY:Teen Zone - Burtchville
DESCRIPTION:Registration requested.
URL:https://bluewaterparent.com/event/teen-zone-burtchville-2/2029-02-06/
LOCATION:Burtchville Library\, 7093 2nd St\, Lakeport\, MI\, 48059\, United States
CATEGORIES:Teens
END:VEVENT
BEGIN:VEVENT
DTSTART;TZID=America/New_York:20290206T180000
DTEND;TZID=America/New_York:20290206T183000
DTSTAMP:20260423T190312
CREATED:20260419T002148Z
LAST-MODIFIED:20260419T003520Z
UID:10025748-1865095200-1865097000@bluewaterparent.com
SUMMARY:Bedtime Storytime - Port Huron
DESCRIPTION:
URL:https://bluewaterparent.com/event/bedtime-storytime/2029-02-06/
LOCATION:Main Library\, 210 McMorran Blvd\, Port Huron\, MI\, 48060\, United States
CATEGORIES:Playgroups
END:VEVENT
BEGIN:VEVENT
DTSTART;TZID=America/New_York:20290207T080000
DTEND;TZID=America/New_York:20290207T170000
DTSTAMP:20260423T190312
CREATED:20260419T012510Z
LAST-MODIFIED:20260419T012510Z
UID:10026680-1865145600-1865178000@bluewaterparent.com
SUMMARY:Discovery Lab for Littles
DESCRIPTION:This event is included with admission.
URL:https://bluewaterparent.com/event/discovery-lab-for-littles/2029-02-07/
LOCATION:Discovery City Children’s Museum\, 317 Grand River Avenue\, Port huron\, MI\, 48060
END:VEVENT
BEGIN:VEVENT
DTSTART;TZID=America/New_York:20290207T100000
DTEND;TZID=America/New_York:20290207T110000
DTSTAMP:20260423T190312
CREATED:20260419T003159Z
LAST-MODIFIED:20260419T003555Z
UID:10026009-1865152800-1865156400@bluewaterparent.com
SUMMARY:Storytime - Port Huron
DESCRIPTION:
URL:https://bluewaterparent.com/event/storytime-port-huron/2029-02-07/
LOCATION:Main Library\, 210 McMorran Blvd\, Port Huron\, MI\, 48060\, United States
CATEGORIES:Playgroups
END:VEVENT
END:VCALENDAR