BEGIN:VCALENDAR
VERSION:2.0
PRODID:-//BlueWaterParent.com - ECPv6.15.20//NONSGML v1.0//EN
CALSCALE:GREGORIAN
METHOD:PUBLISH
X-ORIGINAL-URL:https://bluewaterparent.com
X-WR-CALDESC:Events for BlueWaterParent.com
REFRESH-INTERVAL;VALUE=DURATION:PT1H
X-Robots-Tag:noindex
X-PUBLISHED-TTL:PT1H
BEGIN:VTIMEZONE
TZID:America/New_York
BEGIN:DAYLIGHT
TZOFFSETFROM:-0500
TZOFFSETTO:-0400
TZNAME:EDT
DTSTART:20290311T070000
END:DAYLIGHT
BEGIN:STANDARD
TZOFFSETFROM:-0400
TZOFFSETTO:-0500
TZNAME:EST
DTSTART:20291104T060000
END:STANDARD
BEGIN:DAYLIGHT
TZOFFSETFROM:-0500
TZOFFSETTO:-0400
TZNAME:EDT
DTSTART:20300310T070000
END:DAYLIGHT
BEGIN:STANDARD
TZOFFSETFROM:-0400
TZOFFSETTO:-0500
TZNAME:EST
DTSTART:20301103T060000
END:STANDARD
BEGIN:DAYLIGHT
TZOFFSETFROM:-0500
TZOFFSETTO:-0400
TZNAME:EDT
DTSTART:20310309T070000
END:DAYLIGHT
BEGIN:STANDARD
TZOFFSETFROM:-0400
TZOFFSETTO:-0500
TZNAME:EST
DTSTART:20311102T060000
END:STANDARD
END:VTIMEZONE
BEGIN:VEVENT
DTSTART;TZID=America/New_York:20301028T100000
DTEND;TZID=America/New_York:20301028T110000
DTSTAMP:20260425T230341
CREATED:20260101T192653Z
LAST-MODIFIED:20260307T025320Z
UID:10024586-1919412000-1919415600@bluewaterparent.com
SUMMARY:Storytime - St. Clair
DESCRIPTION:From SCCLS – Join us for a fun and educational blend of stories\, crafts\, movement activities\, and songs.
URL:https://bluewaterparent.com/event/storytime-st-clair/2030-10-28/
LOCATION:St. Clair Library\, 310 S. 2nd Street\, St. Clair\, MI
CATEGORIES:Free,Playgroups
END:VEVENT
BEGIN:VEVENT
DTSTART;TZID=America/New_York:20301028T100000
DTEND;TZID=America/New_York:20301028T110000
DTSTAMP:20260425T230341
CREATED:20260125T194928Z
LAST-MODIFIED:20260125T194929Z
UID:10017695-1919412000-1919415600@bluewaterparent.com
SUMMARY:Storytime - Marysville
DESCRIPTION:From SCCLS – Preschoolers and their adults: Join us at the library for a happy blend of stories\, rhymes\, music and movement\, followed by a creative activity time.
URL:https://bluewaterparent.com/event/storytime-marysville-3/2030-10-28/
LOCATION:Marysville Library\, 1175 Delaware\, Marysville\, MI
CATEGORIES:Free,Playgroups
END:VEVENT
BEGIN:VEVENT
DTSTART;TZID=America/New_York:20301028T100000
DTEND;TZID=America/New_York:20301028T110000
DTSTAMP:20260425T230341
CREATED:20260307T142323Z
LAST-MODIFIED:20260307T142325Z
UID:10017434-1919412000-1919415600@bluewaterparent.com
SUMMARY:Storytime - Yale
DESCRIPTION:
URL:https://bluewaterparent.com/event/storytime-yale-2-2-2/2030-10-28/
LOCATION:Yale Library\, 2 Jones St\, Yale\, MI\, 48097\, United States
CATEGORIES:Free,Playgroups
END:VEVENT
BEGIN:VEVENT
DTSTART;TZID=America/New_York:20301028T103000
DTEND;TZID=America/New_York:20301028T110000
DTSTAMP:20260425T230341
CREATED:20260401T010404Z
LAST-MODIFIED:20260401T010407Z
UID:10025199-1919413800-1919415600@bluewaterparent.com
SUMMARY:Storytime - Burtchville
DESCRIPTION:
URL:https://bluewaterparent.com/event/storytime-burtchville-3-2/2030-10-28/
LOCATION:Burtchville Library\, 7093 2nd St\, Lakeport\, MI\, 48059\, United States
CATEGORIES:Free,Playgroups
END:VEVENT
BEGIN:VEVENT
DTSTART;TZID=America/New_York:20301028T103000
DTEND;TZID=America/New_York:20301028T113000
DTSTAMP:20260425T230341
CREATED:20260321T165751Z
LAST-MODIFIED:20260321T165752Z
UID:10017956-1919413800-1919417400@bluewaterparent.com
SUMMARY:Storytime - Marine City
DESCRIPTION:From SCCLS – Preschoolers and their adults join us at the library for a happy blend of stories and activities.
URL:https://bluewaterparent.com/event/storytime-marine-city-2-2/2030-10-28/
LOCATION:Marine City Library\, 300 S Parker St\, Marine City\, MI\, 48039\, United States
CATEGORIES:Free,Playgroups
END:VEVENT
BEGIN:VEVENT
DTSTART;TZID=America/New_York:20301029T100000
DTEND;TZID=America/New_York:20301029T103000
DTSTAMP:20260425T230341
CREATED:20260418T235804Z
LAST-MODIFIED:20260419T000903Z
UID:10025577-1919498400-1919500200@bluewaterparent.com
SUMMARY:Rhythm and Rhyme - Port Huron
DESCRIPTION:For children ages 0-3 and their caregivers.
URL:https://bluewaterparent.com/event/rhythm-and-rhyme-port-huron/2030-10-29/
LOCATION:Main Library\, 210 McMorran Blvd\, Port Huron\, MI\, 48060\, United States
CATEGORIES:Playgroups
END:VEVENT
BEGIN:VEVENT
DTSTART;TZID=America/New_York:20301029T180000
DTEND;TZID=America/New_York:20301029T183000
DTSTAMP:20260425T230341
CREATED:20260419T002148Z
LAST-MODIFIED:20260419T003520Z
UID:10025838-1919527200-1919529000@bluewaterparent.com
SUMMARY:Bedtime Storytime - Port Huron
DESCRIPTION:
URL:https://bluewaterparent.com/event/bedtime-storytime/2030-10-29/
LOCATION:Main Library\, 210 McMorran Blvd\, Port Huron\, MI\, 48060\, United States
CATEGORIES:Playgroups
END:VEVENT
BEGIN:VEVENT
DTSTART;TZID=America/New_York:20301030T080000
DTEND;TZID=America/New_York:20301030T170000
DTSTAMP:20260425T230341
CREATED:20260419T012510Z
LAST-MODIFIED:20260419T012510Z
UID:10026860-1919577600-1919610000@bluewaterparent.com
SUMMARY:Discovery Lab for Littles
DESCRIPTION:This event is included with admission.
URL:https://bluewaterparent.com/event/discovery-lab-for-littles/2030-10-30/
LOCATION:Discovery City Children’s Museum\, 317 Grand River Avenue\, Port huron\, MI\, 48060
END:VEVENT
BEGIN:VEVENT
DTSTART;TZID=America/New_York:20301030T100000
DTEND;TZID=America/New_York:20301030T110000
DTSTAMP:20260425T230341
CREATED:20260419T003159Z
LAST-MODIFIED:20260419T003555Z
UID:10026099-1919584800-1919588400@bluewaterparent.com
SUMMARY:Storytime - Port Huron
DESCRIPTION:
URL:https://bluewaterparent.com/event/storytime-port-huron/2030-10-30/
LOCATION:Main Library\, 210 McMorran Blvd\, Port Huron\, MI\, 48060\, United States
CATEGORIES:Playgroups
END:VEVENT
BEGIN:VEVENT
DTSTART;TZID=America/New_York:20301031T100000
DTEND;TZID=America/New_York:20301031T110000
DTSTAMP:20260425T230341
CREATED:20251201T004011Z
LAST-MODIFIED:20260307T021133Z
UID:10024065-1919671200-1919674800@bluewaterparent.com
SUMMARY:Great Start Playgroup - Avoca
DESCRIPTION:
URL:https://bluewaterparent.com/event/great-start-playgroup-emmett/2030-10-31/
LOCATION:Avoca Elementary\, 8751 Willow St.\, Avoca\, MI\, 48006\, United States
CATEGORIES:Playgroups
END:VEVENT
BEGIN:VEVENT
DTSTART;TZID=America/New_York:20301031T100000
DTEND;TZID=America/New_York:20301031T110000
DTSTAMP:20260425T230341
CREATED:20260307T014510Z
LAST-MODIFIED:20260307T014908Z
UID:10023804-1919671200-1919674800@bluewaterparent.com
SUMMARY:Great Start Playgroup - Marysville
DESCRIPTION:
URL:https://bluewaterparent.com/event/great-start-playgroup-marysville-3/2030-10-31/
LOCATION:St. Clair County RESA East Campus\, 1111 Delaware Avenue\, Marysville\, MI
CATEGORIES:Playgroups
END:VEVENT
BEGIN:VEVENT
DTSTART;TZID=America/New_York:20301031T110000
DTEND;TZID=America/New_York:20301031T113000
DTSTAMP:20260425T230341
CREATED:20260101T200511Z
LAST-MODIFIED:20260101T213808Z
UID:10021350-1919674800-1919676600@bluewaterparent.com
SUMMARY:Storytime - Algonac
DESCRIPTION:  \n 
URL:https://bluewaterparent.com/event/storytime-algonac-2/2030-10-31/
LOCATION:Algonac-Clay Library\, 2011 St Clair River Dr\, Algonac\, MI\, 48001\, United States
CATEGORIES:Playgroups
END:VEVENT
BEGIN:VEVENT
DTSTART;TZID=America/New_York:20301031T143000
DTEND;TZID=America/New_York:20301031T160000
DTSTAMP:20260425T230341
CREATED:20260101T200828Z
LAST-MODIFIED:20260101T200854Z
UID:10019844-1919687400-1919692800@bluewaterparent.com
SUMMARY:Teen Time - Yale
DESCRIPTION:
URL:https://bluewaterparent.com/event/teen-time-yale-3/2030-10-31/
LOCATION:Yale Library\, 2 Jones St\, Yale\, MI\, 48097\, United States
CATEGORIES:Teens
END:VEVENT
BEGIN:VEVENT
DTSTART;TZID=America/New_York:20301031T171500
DTEND;TZID=America/New_York:20301031T174500
DTSTAMP:20260425T230341
CREATED:20260328T183605Z
LAST-MODIFIED:20260328T183607Z
UID:10022960-1919697300-1919699100@bluewaterparent.com
SUMMARY:Little House on the Prairie Book Club for Kids
DESCRIPTION:  \n 
URL:https://bluewaterparent.com/event/little-house-on-the-prairie-book-club-for-kids-2-3/2030-10-31/
LOCATION:Capac Library\, 111 N Main St\, Capac\, MI\, 48014\, United States
CATEGORIES:Free
END:VEVENT
BEGIN:VEVENT
DTSTART;TZID=America/New_York:20301101T080000
DTEND;TZID=America/New_York:20301101T170000
DTSTAMP:20260425T230341
CREATED:20260419T012510Z
LAST-MODIFIED:20260419T012510Z
UID:10026861-1919750400-1919782800@bluewaterparent.com
SUMMARY:Discovery Lab for Littles
DESCRIPTION:This event is included with admission.
URL:https://bluewaterparent.com/event/discovery-lab-for-littles/2030-11-01/
LOCATION:Discovery City Children’s Museum\, 317 Grand River Avenue\, Port huron\, MI\, 48060
END:VEVENT
BEGIN:VEVENT
DTSTART;TZID=America/New_York:20301101T100000
DTEND;TZID=America/New_York:20301101T104500
DTSTAMP:20260425T230341
CREATED:20260101T202520Z
LAST-MODIFIED:20260131T171318Z
UID:10023491-1919757600-1919760300@bluewaterparent.com
SUMMARY:Family Storytime - Memphis
DESCRIPTION:
URL:https://bluewaterparent.com/event/family-storytime-capac-2-2/2030-11-01/
LOCATION:Memphis Library\, 34830 Potter St\, Memphis\, MI\, 48041\, United States
CATEGORIES:Playgroups
END:VEVENT
BEGIN:VEVENT
DTSTART;TZID=America/New_York:20301101T100000
DTEND;TZID=America/New_York:20301101T110000
DTSTAMP:20260425T230341
CREATED:20260419T003829Z
LAST-MODIFIED:20260419T003829Z
UID:10026360-1919757600-1919761200@bluewaterparent.com
SUMMARY:Storytime - Port Huron
DESCRIPTION:
URL:https://bluewaterparent.com/event/storytime-port-huron-2/2030-11-01/
LOCATION:Main Library\, 210 McMorran Blvd\, Port Huron\, MI\, 48060\, United States
CATEGORIES:Playgroups
END:VEVENT
BEGIN:VEVENT
DTSTART;TZID=America/New_York:20301101T110000
DTEND;TZID=America/New_York:20301101T120000
DTSTAMP:20260425T230341
CREATED:20260101T164906Z
LAST-MODIFIED:20260101T171615Z
UID:10017173-1919761200-1919764800@bluewaterparent.com
SUMMARY:Playgroup Pals
DESCRIPTION:
URL:https://bluewaterparent.com/event/playgroup-pals-2/2030-11-01/
LOCATION:Ira Township Library\, 7013 Meldrum Rd\, Ira Township\, Michigan\, 48023\, United States
CATEGORIES:Playgroups
END:VEVENT
BEGIN:VEVENT
DTSTART;TZID=America/New_York:20301102T130000
DTEND;TZID=America/New_York:20301102T150000
DTSTAMP:20260425T230341
CREATED:20260125T184518Z
LAST-MODIFIED:20260328T185717Z
UID:10022774-1919854800-1919862000@bluewaterparent.com
SUMMARY:LEGO Club
DESCRIPTION:
URL:https://bluewaterparent.com/event/lego-club-2-2/
LOCATION:Ira Township Library\, 7013 Meldrum Rd\, Ira Township\, Michigan\, 48023\, United States
CATEGORIES:Free
END:VEVENT
BEGIN:VEVENT
DTSTART;TZID=America/New_York:20301103T130000
DTEND;TZID=America/New_York:20301103T170000
DTSTAMP:20260425T230341
CREATED:20250807T170824Z
LAST-MODIFIED:20250807T170824Z
UID:10016908-1919941200-1919955600@bluewaterparent.com
SUMMARY:Port Huron Township Heritage Museum
DESCRIPTION:
URL:https://bluewaterparent.com/event/port-huron-township-heritage-museum/2030-11-03/
LOCATION:Port Huron Township Heritage Museum\, 3800 Lapeer Rd.\, Port Huron Township\, MI
END:VEVENT
BEGIN:VEVENT
DTSTART;TZID=America/New_York:20301104T100000
DTEND;TZID=America/New_York:20301104T110000
DTSTAMP:20260425T230341
CREATED:20260101T192653Z
LAST-MODIFIED:20260307T025320Z
UID:10024587-1920016800-1920020400@bluewaterparent.com
SUMMARY:Storytime - St. Clair
DESCRIPTION:From SCCLS – Join us for a fun and educational blend of stories\, crafts\, movement activities\, and songs.
URL:https://bluewaterparent.com/event/storytime-st-clair/2030-11-04/
LOCATION:St. Clair Library\, 310 S. 2nd Street\, St. Clair\, MI
CATEGORIES:Free,Playgroups
END:VEVENT
BEGIN:VEVENT
DTSTART;TZID=America/New_York:20301104T100000
DTEND;TZID=America/New_York:20301104T110000
DTSTAMP:20260425T230341
CREATED:20260125T194928Z
LAST-MODIFIED:20260125T194929Z
UID:10017696-1920016800-1920020400@bluewaterparent.com
SUMMARY:Storytime - Marysville
DESCRIPTION:From SCCLS – Preschoolers and their adults: Join us at the library for a happy blend of stories\, rhymes\, music and movement\, followed by a creative activity time.
URL:https://bluewaterparent.com/event/storytime-marysville-3/2030-11-04/
LOCATION:Marysville Library\, 1175 Delaware\, Marysville\, MI
CATEGORIES:Free,Playgroups
END:VEVENT
BEGIN:VEVENT
DTSTART;TZID=America/New_York:20301104T100000
DTEND;TZID=America/New_York:20301104T110000
DTSTAMP:20260425T230341
CREATED:20260307T142323Z
LAST-MODIFIED:20260307T142325Z
UID:10017435-1920016800-1920020400@bluewaterparent.com
SUMMARY:Storytime - Yale
DESCRIPTION:
URL:https://bluewaterparent.com/event/storytime-yale-2-2-2/2030-11-04/
LOCATION:Yale Library\, 2 Jones St\, Yale\, MI\, 48097\, United States
CATEGORIES:Free,Playgroups
END:VEVENT
BEGIN:VEVENT
DTSTART;TZID=America/New_York:20301104T103000
DTEND;TZID=America/New_York:20301104T110000
DTSTAMP:20260425T230341
CREATED:20260401T010404Z
LAST-MODIFIED:20260401T010407Z
UID:10025200-1920018600-1920020400@bluewaterparent.com
SUMMARY:Storytime - Burtchville
DESCRIPTION:
URL:https://bluewaterparent.com/event/storytime-burtchville-3-2/2030-11-04/
LOCATION:Burtchville Library\, 7093 2nd St\, Lakeport\, MI\, 48059\, United States
CATEGORIES:Free,Playgroups
END:VEVENT
BEGIN:VEVENT
DTSTART;TZID=America/New_York:20301104T103000
DTEND;TZID=America/New_York:20301104T113000
DTSTAMP:20260425T230341
CREATED:20260321T165751Z
LAST-MODIFIED:20260321T165752Z
UID:10024784-1920018600-1920022200@bluewaterparent.com
SUMMARY:Storytime - Marine City
DESCRIPTION:From SCCLS – Preschoolers and their adults join us at the library for a happy blend of stories and activities.
URL:https://bluewaterparent.com/event/storytime-marine-city-2-2/2030-11-04/
LOCATION:Marine City Library\, 300 S Parker St\, Marine City\, MI\, 48039\, United States
CATEGORIES:Free,Playgroups
END:VEVENT
BEGIN:VEVENT
DTSTART;TZID=America/New_York:20301105T100000
DTEND;TZID=America/New_York:20301105T103000
DTSTAMP:20260425T230341
CREATED:20260418T235804Z
LAST-MODIFIED:20260419T000903Z
UID:10025578-1920103200-1920105000@bluewaterparent.com
SUMMARY:Rhythm and Rhyme - Port Huron
DESCRIPTION:For children ages 0-3 and their caregivers.
URL:https://bluewaterparent.com/event/rhythm-and-rhyme-port-huron/2030-11-05/
LOCATION:Main Library\, 210 McMorran Blvd\, Port Huron\, MI\, 48060\, United States
CATEGORIES:Playgroups
END:VEVENT
BEGIN:VEVENT
DTSTART;TZID=America/New_York:20301105T153000
DTEND;TZID=America/New_York:20301105T173000
DTSTAMP:20260425T230341
CREATED:20260101T184832Z
LAST-MODIFIED:20260101T184832Z
UID:10019075-1920123000-1920130200@bluewaterparent.com
SUMMARY:Teen Zone - Burtchville
DESCRIPTION:Registration requested.
URL:https://bluewaterparent.com/event/teen-zone-burtchville-2/2030-11-05/
LOCATION:Burtchville Library\, 7093 2nd St\, Lakeport\, MI\, 48059\, United States
CATEGORIES:Teens
END:VEVENT
BEGIN:VEVENT
DTSTART;TZID=America/New_York:20301105T170000
DTEND;TZID=America/New_York:20301105T193000
DTSTAMP:20260425T230341
CREATED:20260101T190453Z
LAST-MODIFIED:20260103T013002Z
UID:10021496-1920128400-1920137400@bluewaterparent.com
SUMMARY:Teen D&D Group - Algonac-Clay
DESCRIPTION:Registration requested.
URL:https://bluewaterparent.com/event/teen-dd-group-algonac-clay/2030-11-05/
LOCATION:Algonac-Clay Library\, 2011 St Clair River Dr\, Algonac\, MI\, 48001\, United States
CATEGORIES:Teens
END:VEVENT
BEGIN:VEVENT
DTSTART;TZID=America/New_York:20301105T180000
DTEND;TZID=America/New_York:20301105T183000
DTSTAMP:20260425T230341
CREATED:20260419T002148Z
LAST-MODIFIED:20260419T003520Z
UID:10025839-1920132000-1920133800@bluewaterparent.com
SUMMARY:Bedtime Storytime - Port Huron
DESCRIPTION:
URL:https://bluewaterparent.com/event/bedtime-storytime/2030-11-05/
LOCATION:Main Library\, 210 McMorran Blvd\, Port Huron\, MI\, 48060\, United States
CATEGORIES:Playgroups
END:VEVENT
BEGIN:VEVENT
DTSTART;TZID=America/New_York:20301106T080000
DTEND;TZID=America/New_York:20301106T170000
DTSTAMP:20260425T230341
CREATED:20260419T012510Z
LAST-MODIFIED:20260419T012510Z
UID:10026862-1920182400-1920214800@bluewaterparent.com
SUMMARY:Discovery Lab for Littles
DESCRIPTION:This event is included with admission.
URL:https://bluewaterparent.com/event/discovery-lab-for-littles/2030-11-06/
LOCATION:Discovery City Children’s Museum\, 317 Grand River Avenue\, Port huron\, MI\, 48060
END:VEVENT
END:VCALENDAR