BEGIN:VCALENDAR
VERSION:2.0
PRODID:-//BlueWaterParent.com - ECPv6.15.20//NONSGML v1.0//EN
CALSCALE:GREGORIAN
METHOD:PUBLISH
X-WR-CALNAME:BlueWaterParent.com
X-ORIGINAL-URL:https://bluewaterparent.com
X-WR-CALDESC:Events for BlueWaterParent.com
REFRESH-INTERVAL;VALUE=DURATION:PT1H
X-Robots-Tag:noindex
X-PUBLISHED-TTL:PT1H
BEGIN:VTIMEZONE
TZID:America/New_York
BEGIN:DAYLIGHT
TZOFFSETFROM:-0500
TZOFFSETTO:-0400
TZNAME:EDT
DTSTART:20280312T070000
END:DAYLIGHT
BEGIN:STANDARD
TZOFFSETFROM:-0400
TZOFFSETTO:-0500
TZNAME:EST
DTSTART:20281105T060000
END:STANDARD
BEGIN:DAYLIGHT
TZOFFSETFROM:-0500
TZOFFSETTO:-0400
TZNAME:EDT
DTSTART:20290311T070000
END:DAYLIGHT
BEGIN:STANDARD
TZOFFSETFROM:-0400
TZOFFSETTO:-0500
TZNAME:EST
DTSTART:20291104T060000
END:STANDARD
BEGIN:DAYLIGHT
TZOFFSETFROM:-0500
TZOFFSETTO:-0400
TZNAME:EDT
DTSTART:20300310T070000
END:DAYLIGHT
BEGIN:STANDARD
TZOFFSETFROM:-0400
TZOFFSETTO:-0500
TZNAME:EST
DTSTART:20301103T060000
END:STANDARD
END:VTIMEZONE
BEGIN:VEVENT
DTSTART;TZID=America/New_York:20290705T143000
DTEND;TZID=America/New_York:20290705T160000
DTSTAMP:20260424T104156
CREATED:20260101T200828Z
LAST-MODIFIED:20260101T200854Z
UID:10019775-1877956200-1877961600@bluewaterparent.com
SUMMARY:Teen Time - Yale
DESCRIPTION:
URL:https://bluewaterparent.com/event/teen-time-yale-3/2029-07-05/
LOCATION:Yale Library\, 2 Jones St\, Yale\, MI\, 48097\, United States
CATEGORIES:Teens
END:VEVENT
BEGIN:VEVENT
DTSTART;TZID=America/New_York:20290705T153000
DTEND;TZID=America/New_York:20290705T180000
DTSTAMP:20260424T104156
CREATED:20260101T201514Z
LAST-MODIFIED:20260103T021445Z
UID:10021574-1877959800-1877968800@bluewaterparent.com
SUMMARY:To D&D\, And Beyond!
DESCRIPTION:  \n 
URL:https://bluewaterparent.com/event/to-dd-and-beyond-3/2029-07-05/
LOCATION:Marysville Library\, 1175 Delaware\, Marysville\, MI
CATEGORIES:Teens
END:VEVENT
BEGIN:VEVENT
DTSTART;TZID=America/New_York:20290706T080000
DTEND;TZID=America/New_York:20290706T170000
DTSTAMP:20260424T104156
CREATED:20260419T012510Z
LAST-MODIFIED:20260419T012510Z
UID:10026723-1878019200-1878051600@bluewaterparent.com
SUMMARY:Discovery Lab for Littles
DESCRIPTION:This event is included with admission.
URL:https://bluewaterparent.com/event/discovery-lab-for-littles/2029-07-06/
LOCATION:Discovery City Children’s Museum\, 317 Grand River Avenue\, Port huron\, MI\, 48060
END:VEVENT
BEGIN:VEVENT
DTSTART;TZID=America/New_York:20290706T100000
DTEND;TZID=America/New_York:20290706T104500
DTSTAMP:20260424T104156
CREATED:20260101T202520Z
LAST-MODIFIED:20260131T171318Z
UID:10023422-1878026400-1878029100@bluewaterparent.com
SUMMARY:Family Storytime - Memphis
DESCRIPTION:
URL:https://bluewaterparent.com/event/family-storytime-capac-2-2/2029-07-06/
LOCATION:Memphis Library\, 34830 Potter St\, Memphis\, MI\, 48041\, United States
CATEGORIES:Playgroups
END:VEVENT
BEGIN:VEVENT
DTSTART;TZID=America/New_York:20290706T100000
DTEND;TZID=America/New_York:20290706T110000
DTSTAMP:20260424T104156
CREATED:20260419T003829Z
LAST-MODIFIED:20260419T003829Z
UID:10026291-1878026400-1878030000@bluewaterparent.com
SUMMARY:Storytime - Port Huron
DESCRIPTION:
URL:https://bluewaterparent.com/event/storytime-port-huron-2/2029-07-06/
LOCATION:Main Library\, 210 McMorran Blvd\, Port Huron\, MI\, 48060\, United States
CATEGORIES:Playgroups
END:VEVENT
BEGIN:VEVENT
DTSTART;TZID=America/New_York:20290706T110000
DTEND;TZID=America/New_York:20290706T120000
DTSTAMP:20260424T104156
CREATED:20260101T164906Z
LAST-MODIFIED:20260101T171615Z
UID:10017104-1878030000-1878033600@bluewaterparent.com
SUMMARY:Playgroup Pals
DESCRIPTION:
URL:https://bluewaterparent.com/event/playgroup-pals-2/2029-07-06/
LOCATION:Ira Township Library\, 7013 Meldrum Rd\, Ira Township\, Michigan\, 48023\, United States
CATEGORIES:Playgroups
END:VEVENT
BEGIN:VEVENT
DTSTART;TZID=America/New_York:20290706T150000
DTEND;TZID=America/New_York:20290706T163000
DTSTAMP:20260424T104156
CREATED:20260101T204005Z
LAST-MODIFIED:20260103T023339Z
UID:10021696-1878044400-1878049800@bluewaterparent.com
SUMMARY:Friday Game Zone
DESCRIPTION:
URL:https://bluewaterparent.com/event/friday-game-zone/2029-07-06/
LOCATION:Ira Township Library\, 7013 Meldrum Rd\, Ira Township\, Michigan\, 48023\, United States
CATEGORIES:Free
END:VEVENT
BEGIN:VEVENT
DTSTART;TZID=America/New_York:20290707T130000
DTEND;TZID=America/New_York:20290707T150000
DTSTAMP:20260424T104156
CREATED:20260125T184518Z
LAST-MODIFIED:20260328T185717Z
UID:10022758-1878123600-1878130800@bluewaterparent.com
SUMMARY:LEGO Club
DESCRIPTION:
URL:https://bluewaterparent.com/event/lego-club-2-2/
LOCATION:Ira Township Library\, 7013 Meldrum Rd\, Ira Township\, Michigan\, 48023\, United States
CATEGORIES:Free
END:VEVENT
BEGIN:VEVENT
DTSTART;TZID=America/New_York:20290709T100000
DTEND;TZID=America/New_York:20290709T110000
DTSTAMP:20260424T104156
CREATED:20260101T192653Z
LAST-MODIFIED:20260307T025320Z
UID:10024518-1878285600-1878289200@bluewaterparent.com
SUMMARY:Storytime - St. Clair
DESCRIPTION:From SCCLS – Join us for a fun and educational blend of stories\, crafts\, movement activities\, and songs.
URL:https://bluewaterparent.com/event/storytime-st-clair/2029-07-09/
LOCATION:St. Clair Library\, 310 S. 2nd Street\, St. Clair\, MI
CATEGORIES:Free,Playgroups
END:VEVENT
BEGIN:VEVENT
DTSTART;TZID=America/New_York:20290709T100000
DTEND;TZID=America/New_York:20290709T110000
DTSTAMP:20260424T104156
CREATED:20260125T194928Z
LAST-MODIFIED:20260125T194929Z
UID:10017627-1878285600-1878289200@bluewaterparent.com
SUMMARY:Storytime - Marysville
DESCRIPTION:From SCCLS – Preschoolers and their adults: Join us at the library for a happy blend of stories\, rhymes\, music and movement\, followed by a creative activity time.
URL:https://bluewaterparent.com/event/storytime-marysville-3/2029-07-09/
LOCATION:Marysville Library\, 1175 Delaware\, Marysville\, MI
CATEGORIES:Free,Playgroups
END:VEVENT
BEGIN:VEVENT
DTSTART;TZID=America/New_York:20290709T100000
DTEND;TZID=America/New_York:20290709T110000
DTSTAMP:20260424T104156
CREATED:20260307T142323Z
LAST-MODIFIED:20260307T142325Z
UID:10017366-1878285600-1878289200@bluewaterparent.com
SUMMARY:Storytime - Yale
DESCRIPTION:
URL:https://bluewaterparent.com/event/storytime-yale-2-2-2/2029-07-09/
LOCATION:Yale Library\, 2 Jones St\, Yale\, MI\, 48097\, United States
CATEGORIES:Free,Playgroups
END:VEVENT
BEGIN:VEVENT
DTSTART;TZID=America/New_York:20290709T103000
DTEND;TZID=America/New_York:20290709T110000
DTSTAMP:20260424T104156
CREATED:20260401T010404Z
LAST-MODIFIED:20260401T010407Z
UID:10025131-1878287400-1878289200@bluewaterparent.com
SUMMARY:Storytime - Burtchville
DESCRIPTION:
URL:https://bluewaterparent.com/event/storytime-burtchville-3-2/2029-07-09/
LOCATION:Burtchville Library\, 7093 2nd St\, Lakeport\, MI\, 48059\, United States
CATEGORIES:Free,Playgroups
END:VEVENT
BEGIN:VEVENT
DTSTART;TZID=America/New_York:20290709T103000
DTEND;TZID=America/New_York:20290709T113000
DTSTAMP:20260424T104156
CREATED:20260321T165751Z
LAST-MODIFIED:20260321T165752Z
UID:10017888-1878287400-1878291000@bluewaterparent.com
SUMMARY:Storytime - Marine City
DESCRIPTION:From SCCLS – Preschoolers and their adults join us at the library for a happy blend of stories and activities.
URL:https://bluewaterparent.com/event/storytime-marine-city-2-2/2029-07-09/
LOCATION:Marine City Library\, 300 S Parker St\, Marine City\, MI\, 48039\, United States
CATEGORIES:Free,Playgroups
END:VEVENT
BEGIN:VEVENT
DTSTART;TZID=America/New_York:20290709T160000
DTEND;TZID=America/New_York:20290709T180000
DTSTAMP:20260424T104156
CREATED:20260101T211427Z
LAST-MODIFIED:20260101T211427Z
UID:10021074-1878307200-1878314400@bluewaterparent.com
SUMMARY:Teen Scene
DESCRIPTION:Ages 13-18.
URL:https://bluewaterparent.com/event/teen-scene/2029-07-09/
LOCATION:Capac Library\, 111 N Main St\, Capac\, MI\, 48014\, United States
CATEGORIES:Teens
END:VEVENT
BEGIN:VEVENT
DTSTART;TZID=America/New_York:20290710T100000
DTEND;TZID=America/New_York:20290710T103000
DTSTAMP:20260424T104156
CREATED:20260418T235804Z
LAST-MODIFIED:20260419T000903Z
UID:10025509-1878372000-1878373800@bluewaterparent.com
SUMMARY:Rhythm and Rhyme - Port Huron
DESCRIPTION:For children ages 0-3 and their caregivers.
URL:https://bluewaterparent.com/event/rhythm-and-rhyme-port-huron/2029-07-10/
LOCATION:Main Library\, 210 McMorran Blvd\, Port Huron\, MI\, 48060\, United States
CATEGORIES:Playgroups
END:VEVENT
BEGIN:VEVENT
DTSTART;TZID=America/New_York:20290710T180000
DTEND;TZID=America/New_York:20290710T183000
DTSTAMP:20260424T104156
CREATED:20260419T002148Z
LAST-MODIFIED:20260419T003520Z
UID:10025770-1878400800-1878402600@bluewaterparent.com
SUMMARY:Bedtime Storytime - Port Huron
DESCRIPTION:
URL:https://bluewaterparent.com/event/bedtime-storytime/2029-07-10/
LOCATION:Main Library\, 210 McMorran Blvd\, Port Huron\, MI\, 48060\, United States
CATEGORIES:Playgroups
END:VEVENT
BEGIN:VEVENT
DTSTART;TZID=America/New_York:20290711T080000
DTEND;TZID=America/New_York:20290711T170000
DTSTAMP:20260424T104156
CREATED:20260419T012510Z
LAST-MODIFIED:20260419T012510Z
UID:10026724-1878451200-1878483600@bluewaterparent.com
SUMMARY:Discovery Lab for Littles
DESCRIPTION:This event is included with admission.
URL:https://bluewaterparent.com/event/discovery-lab-for-littles/2029-07-11/
LOCATION:Discovery City Children’s Museum\, 317 Grand River Avenue\, Port huron\, MI\, 48060
END:VEVENT
BEGIN:VEVENT
DTSTART;TZID=America/New_York:20290711T100000
DTEND;TZID=America/New_York:20290711T110000
DTSTAMP:20260424T104156
CREATED:20260419T003159Z
LAST-MODIFIED:20260419T003555Z
UID:10026031-1878458400-1878462000@bluewaterparent.com
SUMMARY:Storytime - Port Huron
DESCRIPTION:
URL:https://bluewaterparent.com/event/storytime-port-huron/2029-07-11/
LOCATION:Main Library\, 210 McMorran Blvd\, Port Huron\, MI\, 48060\, United States
CATEGORIES:Playgroups
END:VEVENT
BEGIN:VEVENT
DTSTART;TZID=America/New_York:20290712T100000
DTEND;TZID=America/New_York:20290712T110000
DTSTAMP:20260424T104156
CREATED:20251201T004011Z
LAST-MODIFIED:20260307T021133Z
UID:10023997-1878544800-1878548400@bluewaterparent.com
SUMMARY:Great Start Playgroup - Avoca
DESCRIPTION:
URL:https://bluewaterparent.com/event/great-start-playgroup-emmett/2029-07-12/
LOCATION:Avoca Elementary\, 8751 Willow St.\, Avoca\, MI\, 48006\, United States
CATEGORIES:Playgroups
END:VEVENT
BEGIN:VEVENT
DTSTART;TZID=America/New_York:20290712T100000
DTEND;TZID=America/New_York:20290712T110000
DTSTAMP:20260424T104156
CREATED:20260307T014510Z
LAST-MODIFIED:20260307T014908Z
UID:10023736-1878544800-1878548400@bluewaterparent.com
SUMMARY:Great Start Playgroup - Marysville
DESCRIPTION:
URL:https://bluewaterparent.com/event/great-start-playgroup-marysville-3/2029-07-12/
LOCATION:St. Clair County RESA East Campus\, 1111 Delaware Avenue\, Marysville\, MI
CATEGORIES:Playgroups
END:VEVENT
BEGIN:VEVENT
DTSTART;TZID=America/New_York:20290712T110000
DTEND;TZID=America/New_York:20290712T113000
DTSTAMP:20260424T104156
CREATED:20260101T200511Z
LAST-MODIFIED:20260101T213808Z
UID:10021282-1878548400-1878550200@bluewaterparent.com
SUMMARY:Storytime - Algonac
DESCRIPTION:  \n 
URL:https://bluewaterparent.com/event/storytime-algonac-2/2029-07-12/
LOCATION:Algonac-Clay Library\, 2011 St Clair River Dr\, Algonac\, MI\, 48001\, United States
CATEGORIES:Playgroups
END:VEVENT
BEGIN:VEVENT
DTSTART;TZID=America/New_York:20290712T143000
DTEND;TZID=America/New_York:20290712T160000
DTSTAMP:20260424T104156
CREATED:20260101T200828Z
LAST-MODIFIED:20260101T200854Z
UID:10019776-1878561000-1878566400@bluewaterparent.com
SUMMARY:Teen Time - Yale
DESCRIPTION:
URL:https://bluewaterparent.com/event/teen-time-yale-3/2029-07-12/
LOCATION:Yale Library\, 2 Jones St\, Yale\, MI\, 48097\, United States
CATEGORIES:Teens
END:VEVENT
BEGIN:VEVENT
DTSTART;TZID=America/New_York:20290712T171500
DTEND;TZID=America/New_York:20290712T174500
DTSTAMP:20260424T104156
CREATED:20260328T183605Z
LAST-MODIFIED:20260328T183607Z
UID:10024860-1878570900-1878572700@bluewaterparent.com
SUMMARY:Little House on the Prairie Book Club for Kids
DESCRIPTION:  \n 
URL:https://bluewaterparent.com/event/little-house-on-the-prairie-book-club-for-kids-2-3/2029-07-12/
LOCATION:Capac Library\, 111 N Main St\, Capac\, MI\, 48014\, United States
CATEGORIES:Free
END:VEVENT
BEGIN:VEVENT
DTSTART;TZID=America/New_York:20290713T080000
DTEND;TZID=America/New_York:20290713T170000
DTSTAMP:20260424T104156
CREATED:20260419T012510Z
LAST-MODIFIED:20260419T012510Z
UID:10026725-1878624000-1878656400@bluewaterparent.com
SUMMARY:Discovery Lab for Littles
DESCRIPTION:This event is included with admission.
URL:https://bluewaterparent.com/event/discovery-lab-for-littles/2029-07-13/
LOCATION:Discovery City Children’s Museum\, 317 Grand River Avenue\, Port huron\, MI\, 48060
END:VEVENT
BEGIN:VEVENT
DTSTART;TZID=America/New_York:20290713T100000
DTEND;TZID=America/New_York:20290713T104500
DTSTAMP:20260424T104156
CREATED:20260101T202520Z
LAST-MODIFIED:20260131T171318Z
UID:10023423-1878631200-1878633900@bluewaterparent.com
SUMMARY:Family Storytime - Memphis
DESCRIPTION:
URL:https://bluewaterparent.com/event/family-storytime-capac-2-2/2029-07-13/
LOCATION:Memphis Library\, 34830 Potter St\, Memphis\, MI\, 48041\, United States
CATEGORIES:Playgroups
END:VEVENT
BEGIN:VEVENT
DTSTART;TZID=America/New_York:20290713T100000
DTEND;TZID=America/New_York:20290713T110000
DTSTAMP:20260424T104156
CREATED:20260419T003829Z
LAST-MODIFIED:20260419T003829Z
UID:10026292-1878631200-1878634800@bluewaterparent.com
SUMMARY:Storytime - Port Huron
DESCRIPTION:
URL:https://bluewaterparent.com/event/storytime-port-huron-2/2029-07-13/
LOCATION:Main Library\, 210 McMorran Blvd\, Port Huron\, MI\, 48060\, United States
CATEGORIES:Playgroups
END:VEVENT
BEGIN:VEVENT
DTSTART;TZID=America/New_York:20290713T110000
DTEND;TZID=America/New_York:20290713T120000
DTSTAMP:20260424T104156
CREATED:20260101T164906Z
LAST-MODIFIED:20260101T171615Z
UID:10017105-1878634800-1878638400@bluewaterparent.com
SUMMARY:Playgroup Pals
DESCRIPTION:
URL:https://bluewaterparent.com/event/playgroup-pals-2/2029-07-13/
LOCATION:Ira Township Library\, 7013 Meldrum Rd\, Ira Township\, Michigan\, 48023\, United States
CATEGORIES:Playgroups
END:VEVENT
BEGIN:VEVENT
DTSTART;TZID=America/New_York:20290716T100000
DTEND;TZID=America/New_York:20290716T110000
DTSTAMP:20260424T104156
CREATED:20260101T192653Z
LAST-MODIFIED:20260307T025320Z
UID:10024519-1878890400-1878894000@bluewaterparent.com
SUMMARY:Storytime - St. Clair
DESCRIPTION:From SCCLS – Join us for a fun and educational blend of stories\, crafts\, movement activities\, and songs.
URL:https://bluewaterparent.com/event/storytime-st-clair/2029-07-16/
LOCATION:St. Clair Library\, 310 S. 2nd Street\, St. Clair\, MI
CATEGORIES:Free,Playgroups
END:VEVENT
BEGIN:VEVENT
DTSTART;TZID=America/New_York:20290716T100000
DTEND;TZID=America/New_York:20290716T110000
DTSTAMP:20260424T104156
CREATED:20260125T194928Z
LAST-MODIFIED:20260125T194929Z
UID:10017628-1878890400-1878894000@bluewaterparent.com
SUMMARY:Storytime - Marysville
DESCRIPTION:From SCCLS – Preschoolers and their adults: Join us at the library for a happy blend of stories\, rhymes\, music and movement\, followed by a creative activity time.
URL:https://bluewaterparent.com/event/storytime-marysville-3/2029-07-16/
LOCATION:Marysville Library\, 1175 Delaware\, Marysville\, MI
CATEGORIES:Free,Playgroups
END:VEVENT
BEGIN:VEVENT
DTSTART;TZID=America/New_York:20290716T100000
DTEND;TZID=America/New_York:20290716T110000
DTSTAMP:20260424T104156
CREATED:20260307T142323Z
LAST-MODIFIED:20260307T142325Z
UID:10017367-1878890400-1878894000@bluewaterparent.com
SUMMARY:Storytime - Yale
DESCRIPTION:
URL:https://bluewaterparent.com/event/storytime-yale-2-2-2/2029-07-16/
LOCATION:Yale Library\, 2 Jones St\, Yale\, MI\, 48097\, United States
CATEGORIES:Free,Playgroups
END:VEVENT
END:VCALENDAR