BEGIN:VCALENDAR
VERSION:2.0
PRODID:-//BlueWaterParent.com - ECPv6.15.20//NONSGML v1.0//EN
CALSCALE:GREGORIAN
METHOD:PUBLISH
X-ORIGINAL-URL:https://bluewaterparent.com
X-WR-CALDESC:Events for BlueWaterParent.com
REFRESH-INTERVAL;VALUE=DURATION:PT1H
X-Robots-Tag:noindex
X-PUBLISHED-TTL:PT1H
BEGIN:VTIMEZONE
TZID:America/New_York
BEGIN:DAYLIGHT
TZOFFSETFROM:-0500
TZOFFSETTO:-0400
TZNAME:EDT
DTSTART:20260308T070000
END:DAYLIGHT
BEGIN:STANDARD
TZOFFSETFROM:-0400
TZOFFSETTO:-0500
TZNAME:EST
DTSTART:20261101T060000
END:STANDARD
BEGIN:DAYLIGHT
TZOFFSETFROM:-0500
TZOFFSETTO:-0400
TZNAME:EDT
DTSTART:20270314T070000
END:DAYLIGHT
BEGIN:STANDARD
TZOFFSETFROM:-0400
TZOFFSETTO:-0500
TZNAME:EST
DTSTART:20271107T060000
END:STANDARD
BEGIN:DAYLIGHT
TZOFFSETFROM:-0500
TZOFFSETTO:-0400
TZNAME:EDT
DTSTART:20280312T070000
END:DAYLIGHT
BEGIN:STANDARD
TZOFFSETFROM:-0400
TZOFFSETTO:-0500
TZNAME:EST
DTSTART:20281105T060000
END:STANDARD
END:VTIMEZONE
BEGIN:VEVENT
DTSTART;TZID=America/New_York:20270723T100000
DTEND;TZID=America/New_York:20270723T110000
DTSTAMP:20260419T201213
CREATED:20260419T003829Z
LAST-MODIFIED:20260419T003829Z
UID:10026189-1816336800-1816340400@bluewaterparent.com
SUMMARY:Storytime - Port Huron
DESCRIPTION:
URL:https://bluewaterparent.com/event/storytime-port-huron-2/2027-07-23/
LOCATION:Main Library\, 210 McMorran Blvd\, Port Huron\, MI\, 48060\, United States
CATEGORIES:Playgroups
END:VEVENT
BEGIN:VEVENT
DTSTART;TZID=America/New_York:20270723T110000
DTEND;TZID=America/New_York:20270723T120000
DTSTAMP:20260419T201213
CREATED:20260101T164906Z
LAST-MODIFIED:20260101T171615Z
UID:10017002-1816340400-1816344000@bluewaterparent.com
SUMMARY:Playgroup Pals
DESCRIPTION:
URL:https://bluewaterparent.com/event/playgroup-pals-2/2027-07-23/
LOCATION:Ira Township Library\, 7013 Meldrum Rd\, Ira Township\, Michigan\, 48023\, United States
CATEGORIES:Playgroups
END:VEVENT
BEGIN:VEVENT
DTSTART;TZID=America/New_York:20270723T150000
DTEND;TZID=America/New_York:20270723T163000
DTSTAMP:20260419T201213
CREATED:20260101T204005Z
LAST-MODIFIED:20260103T023339Z
UID:10021645-1816354800-1816360200@bluewaterparent.com
SUMMARY:Friday Game Zone
DESCRIPTION:
URL:https://bluewaterparent.com/event/friday-game-zone/2027-07-23/
LOCATION:Ira Township Library\, 7013 Meldrum Rd\, Ira Township\, Michigan\, 48023\, United States
CATEGORIES:Free
END:VEVENT
BEGIN:VEVENT
DTSTART;TZID=America/New_York:20270726T100000
DTEND;TZID=America/New_York:20270726T110000
DTSTAMP:20260419T201213
CREATED:20260101T192653Z
LAST-MODIFIED:20260307T025320Z
UID:10024416-1816596000-1816599600@bluewaterparent.com
SUMMARY:Storytime - St. Clair
DESCRIPTION:From SCCLS – Join us for a fun and educational blend of stories\, crafts\, movement activities\, and songs.
URL:https://bluewaterparent.com/event/storytime-st-clair/2027-07-26/
LOCATION:St. Clair Library\, 310 S. 2nd Street\, St. Clair\, MI
CATEGORIES:Free,Playgroups
END:VEVENT
BEGIN:VEVENT
DTSTART;TZID=America/New_York:20270726T100000
DTEND;TZID=America/New_York:20270726T110000
DTSTAMP:20260419T201213
CREATED:20260125T194928Z
LAST-MODIFIED:20260125T194929Z
UID:10017525-1816596000-1816599600@bluewaterparent.com
SUMMARY:Storytime - Marysville
DESCRIPTION:From SCCLS – Preschoolers and their adults: Join us at the library for a happy blend of stories\, rhymes\, music and movement\, followed by a creative activity time.
URL:https://bluewaterparent.com/event/storytime-marysville-3/2027-07-26/
LOCATION:Marysville Library\, 1175 Delaware\, Marysville\, MI
CATEGORIES:Free,Playgroups
END:VEVENT
BEGIN:VEVENT
DTSTART;TZID=America/New_York:20270726T100000
DTEND;TZID=America/New_York:20270726T110000
DTSTAMP:20260419T201213
CREATED:20260307T142323Z
LAST-MODIFIED:20260307T142325Z
UID:10017264-1816596000-1816599600@bluewaterparent.com
SUMMARY:Storytime - Yale
DESCRIPTION:
URL:https://bluewaterparent.com/event/storytime-yale-2-2-2/2027-07-26/
LOCATION:Yale Library\, 2 Jones St\, Yale\, MI\, 48097\, United States
CATEGORIES:Free,Playgroups
END:VEVENT
BEGIN:VEVENT
DTSTART;TZID=America/New_York:20270726T103000
DTEND;TZID=America/New_York:20270726T110000
DTSTAMP:20260419T201213
CREATED:20260401T010404Z
LAST-MODIFIED:20260401T010407Z
UID:10025029-1816597800-1816599600@bluewaterparent.com
SUMMARY:Storytime - Burtchville
DESCRIPTION:
URL:https://bluewaterparent.com/event/storytime-burtchville-3-2/2027-07-26/
LOCATION:Burtchville Library\, 7093 2nd St\, Lakeport\, MI\, 48059\, United States
CATEGORIES:Free,Playgroups
END:VEVENT
BEGIN:VEVENT
DTSTART;TZID=America/New_York:20270726T103000
DTEND;TZID=America/New_York:20270726T113000
DTSTAMP:20260419T201213
CREATED:20260321T165751Z
LAST-MODIFIED:20260321T165752Z
UID:10017786-1816597800-1816601400@bluewaterparent.com
SUMMARY:Storytime - Marine City
DESCRIPTION:From SCCLS – Preschoolers and their adults join us at the library for a happy blend of stories and activities.
URL:https://bluewaterparent.com/event/storytime-marine-city-2-2/2027-07-26/
LOCATION:Marine City Library\, 300 S Parker St\, Marine City\, MI\, 48039\, United States
CATEGORIES:Free,Playgroups
END:VEVENT
BEGIN:VEVENT
DTSTART;TZID=America/New_York:20270727T100000
DTEND;TZID=America/New_York:20270727T103000
DTSTAMP:20260419T201213
CREATED:20260418T235804Z
LAST-MODIFIED:20260419T000903Z
UID:10025407-1816682400-1816684200@bluewaterparent.com
SUMMARY:Rhythm and Rhyme - Port Huron
DESCRIPTION:For children ages 0-3 and their caregivers.
URL:https://bluewaterparent.com/event/rhythm-and-rhyme-port-huron/2027-07-27/
LOCATION:Main Library\, 210 McMorran Blvd\, Port Huron\, MI\, 48060\, United States
CATEGORIES:Playgroups
END:VEVENT
BEGIN:VEVENT
DTSTART;TZID=America/New_York:20270727T180000
DTEND;TZID=America/New_York:20270727T183000
DTSTAMP:20260419T201213
CREATED:20260419T002148Z
LAST-MODIFIED:20260419T003520Z
UID:10025668-1816711200-1816713000@bluewaterparent.com
SUMMARY:Bedtime Storytime - Port Huron
DESCRIPTION:
URL:https://bluewaterparent.com/event/bedtime-storytime/2027-07-27/
LOCATION:Main Library\, 210 McMorran Blvd\, Port Huron\, MI\, 48060\, United States
CATEGORIES:Playgroups
END:VEVENT
BEGIN:VEVENT
DTSTART;TZID=America/New_York:20270728T080000
DTEND;TZID=America/New_York:20270728T170000
DTSTAMP:20260419T201213
CREATED:20260419T012510Z
LAST-MODIFIED:20260419T012510Z
UID:10026520-1816761600-1816794000@bluewaterparent.com
SUMMARY:Discovery Lab for Littles
DESCRIPTION:This event is included with admission.
URL:https://bluewaterparent.com/event/discovery-lab-for-littles/2027-07-28/
LOCATION:Discovery City Children’s Museum\, 317 Grand River Avenue\, Port huron\, MI\, 48060
END:VEVENT
BEGIN:VEVENT
DTSTART;TZID=America/New_York:20270728T100000
DTEND;TZID=America/New_York:20270728T110000
DTSTAMP:20260419T201213
CREATED:20260419T003159Z
LAST-MODIFIED:20260419T003555Z
UID:10025929-1816768800-1816772400@bluewaterparent.com
SUMMARY:Storytime - Port Huron
DESCRIPTION:
URL:https://bluewaterparent.com/event/storytime-port-huron/2027-07-28/
LOCATION:Main Library\, 210 McMorran Blvd\, Port Huron\, MI\, 48060\, United States
CATEGORIES:Playgroups
END:VEVENT
BEGIN:VEVENT
DTSTART;TZID=America/New_York:20270729T100000
DTEND;TZID=America/New_York:20270729T110000
DTSTAMP:20260419T201213
CREATED:20251201T004011Z
LAST-MODIFIED:20260307T021133Z
UID:10023895-1816855200-1816858800@bluewaterparent.com
SUMMARY:Great Start Playgroup - Avoca
DESCRIPTION:
URL:https://bluewaterparent.com/event/great-start-playgroup-emmett/2027-07-29/
LOCATION:Avoca Elementary\, 8751 Willow St.\, Avoca\, MI\, 48006\, United States
CATEGORIES:Playgroups
END:VEVENT
BEGIN:VEVENT
DTSTART;TZID=America/New_York:20270729T100000
DTEND;TZID=America/New_York:20270729T110000
DTSTAMP:20260419T201213
CREATED:20260307T014510Z
LAST-MODIFIED:20260307T014908Z
UID:10023634-1816855200-1816858800@bluewaterparent.com
SUMMARY:Great Start Playgroup - Marysville
DESCRIPTION:
URL:https://bluewaterparent.com/event/great-start-playgroup-marysville-3/2027-07-29/
LOCATION:St. Clair County RESA East Campus\, 1111 Delaware Avenue\, Marysville\, MI
CATEGORIES:Playgroups
END:VEVENT
BEGIN:VEVENT
DTSTART;TZID=America/New_York:20270729T110000
DTEND;TZID=America/New_York:20270729T113000
DTSTAMP:20260419T201213
CREATED:20260101T200511Z
LAST-MODIFIED:20260101T213808Z
UID:10021180-1816858800-1816860600@bluewaterparent.com
SUMMARY:Storytime - Algonac
DESCRIPTION:  \n 
URL:https://bluewaterparent.com/event/storytime-algonac-2/2027-07-29/
LOCATION:Algonac-Clay Library\, 2011 St Clair River Dr\, Algonac\, MI\, 48001\, United States
CATEGORIES:Playgroups
END:VEVENT
BEGIN:VEVENT
DTSTART;TZID=America/New_York:20270729T143000
DTEND;TZID=America/New_York:20270729T160000
DTSTAMP:20260419T201213
CREATED:20260101T200828Z
LAST-MODIFIED:20260101T200854Z
UID:10019674-1816871400-1816876800@bluewaterparent.com
SUMMARY:Teen Time - Yale
DESCRIPTION:
URL:https://bluewaterparent.com/event/teen-time-yale-3/2027-07-29/
LOCATION:Yale Library\, 2 Jones St\, Yale\, MI\, 48097\, United States
CATEGORIES:Teens
END:VEVENT
BEGIN:VEVENT
DTSTART;TZID=America/New_York:20270729T171500
DTEND;TZID=America/New_York:20270729T174500
DTSTAMP:20260419T201213
CREATED:20260328T183605Z
LAST-MODIFIED:20260328T183607Z
UID:10024826-1816881300-1816883100@bluewaterparent.com
SUMMARY:Little House on the Prairie Book Club for Kids
DESCRIPTION:  \n 
URL:https://bluewaterparent.com/event/little-house-on-the-prairie-book-club-for-kids-2-3/2027-07-29/
LOCATION:Capac Library\, 111 N Main St\, Capac\, MI\, 48014\, United States
CATEGORIES:Free
END:VEVENT
BEGIN:VEVENT
DTSTART;TZID=America/New_York:20270730T080000
DTEND;TZID=America/New_York:20270730T170000
DTSTAMP:20260419T201213
CREATED:20260419T012510Z
LAST-MODIFIED:20260419T012510Z
UID:10026521-1816934400-1816966800@bluewaterparent.com
SUMMARY:Discovery Lab for Littles
DESCRIPTION:This event is included with admission.
URL:https://bluewaterparent.com/event/discovery-lab-for-littles/2027-07-30/
LOCATION:Discovery City Children’s Museum\, 317 Grand River Avenue\, Port huron\, MI\, 48060
END:VEVENT
BEGIN:VEVENT
DTSTART;TZID=America/New_York:20270730T100000
DTEND;TZID=America/New_York:20270730T104500
DTSTAMP:20260419T201213
CREATED:20260101T202520Z
LAST-MODIFIED:20260131T171318Z
UID:10023321-1816941600-1816944300@bluewaterparent.com
SUMMARY:Family Storytime - Memphis
DESCRIPTION:
URL:https://bluewaterparent.com/event/family-storytime-capac-2-2/2027-07-30/
LOCATION:Memphis Library\, 34830 Potter St\, Memphis\, MI\, 48041\, United States
CATEGORIES:Playgroups
END:VEVENT
BEGIN:VEVENT
DTSTART;TZID=America/New_York:20270730T100000
DTEND;TZID=America/New_York:20270730T110000
DTSTAMP:20260419T201213
CREATED:20260419T003829Z
LAST-MODIFIED:20260419T003829Z
UID:10026190-1816941600-1816945200@bluewaterparent.com
SUMMARY:Storytime - Port Huron
DESCRIPTION:
URL:https://bluewaterparent.com/event/storytime-port-huron-2/2027-07-30/
LOCATION:Main Library\, 210 McMorran Blvd\, Port Huron\, MI\, 48060\, United States
CATEGORIES:Playgroups
END:VEVENT
BEGIN:VEVENT
DTSTART;TZID=America/New_York:20270730T110000
DTEND;TZID=America/New_York:20270730T120000
DTSTAMP:20260419T201213
CREATED:20260101T164906Z
LAST-MODIFIED:20260101T171615Z
UID:10017003-1816945200-1816948800@bluewaterparent.com
SUMMARY:Playgroup Pals
DESCRIPTION:
URL:https://bluewaterparent.com/event/playgroup-pals-2/2027-07-30/
LOCATION:Ira Township Library\, 7013 Meldrum Rd\, Ira Township\, Michigan\, 48023\, United States
CATEGORIES:Playgroups
END:VEVENT
BEGIN:VEVENT
DTSTART;TZID=America/New_York:20270801T130000
DTEND;TZID=America/New_York:20270801T170000
DTSTAMP:20260419T201213
CREATED:20250807T170824Z
LAST-MODIFIED:20250807T170824Z
UID:10015227-1817125200-1817139600@bluewaterparent.com
SUMMARY:Port Huron Township Heritage Museum
DESCRIPTION:
URL:https://bluewaterparent.com/event/port-huron-township-heritage-museum/2027-08-01/
LOCATION:Port Huron Township Heritage Museum\, 3800 Lapeer Rd.\, Port Huron Township\, MI
END:VEVENT
BEGIN:VEVENT
DTSTART;TZID=America/New_York:20270802T100000
DTEND;TZID=America/New_York:20270802T110000
DTSTAMP:20260419T201213
CREATED:20260101T192653Z
LAST-MODIFIED:20260307T025320Z
UID:10024417-1817200800-1817204400@bluewaterparent.com
SUMMARY:Storytime - St. Clair
DESCRIPTION:From SCCLS – Join us for a fun and educational blend of stories\, crafts\, movement activities\, and songs.
URL:https://bluewaterparent.com/event/storytime-st-clair/2027-08-02/
LOCATION:St. Clair Library\, 310 S. 2nd Street\, St. Clair\, MI
CATEGORIES:Free,Playgroups
END:VEVENT
BEGIN:VEVENT
DTSTART;TZID=America/New_York:20270802T100000
DTEND;TZID=America/New_York:20270802T110000
DTSTAMP:20260419T201213
CREATED:20260125T194928Z
LAST-MODIFIED:20260125T194929Z
UID:10017526-1817200800-1817204400@bluewaterparent.com
SUMMARY:Storytime - Marysville
DESCRIPTION:From SCCLS – Preschoolers and their adults: Join us at the library for a happy blend of stories\, rhymes\, music and movement\, followed by a creative activity time.
URL:https://bluewaterparent.com/event/storytime-marysville-3/2027-08-02/
LOCATION:Marysville Library\, 1175 Delaware\, Marysville\, MI
CATEGORIES:Free,Playgroups
END:VEVENT
BEGIN:VEVENT
DTSTART;TZID=America/New_York:20270802T100000
DTEND;TZID=America/New_York:20270802T110000
DTSTAMP:20260419T201213
CREATED:20260307T142323Z
LAST-MODIFIED:20260307T142325Z
UID:10017265-1817200800-1817204400@bluewaterparent.com
SUMMARY:Storytime - Yale
DESCRIPTION:
URL:https://bluewaterparent.com/event/storytime-yale-2-2-2/2027-08-02/
LOCATION:Yale Library\, 2 Jones St\, Yale\, MI\, 48097\, United States
CATEGORIES:Free,Playgroups
END:VEVENT
BEGIN:VEVENT
DTSTART;TZID=America/New_York:20270802T103000
DTEND;TZID=America/New_York:20270802T110000
DTSTAMP:20260419T201213
CREATED:20260401T010404Z
LAST-MODIFIED:20260401T010407Z
UID:10025030-1817202600-1817204400@bluewaterparent.com
SUMMARY:Storytime - Burtchville
DESCRIPTION:
URL:https://bluewaterparent.com/event/storytime-burtchville-3-2/2027-08-02/
LOCATION:Burtchville Library\, 7093 2nd St\, Lakeport\, MI\, 48059\, United States
CATEGORIES:Free,Playgroups
END:VEVENT
BEGIN:VEVENT
DTSTART;TZID=America/New_York:20270802T103000
DTEND;TZID=America/New_York:20270802T113000
DTSTAMP:20260419T201213
CREATED:20260321T165751Z
LAST-MODIFIED:20260321T165752Z
UID:10024699-1817202600-1817206200@bluewaterparent.com
SUMMARY:Storytime - Marine City
DESCRIPTION:From SCCLS – Preschoolers and their adults join us at the library for a happy blend of stories and activities.
URL:https://bluewaterparent.com/event/storytime-marine-city-2-2/2027-08-02/
LOCATION:Marine City Library\, 300 S Parker St\, Marine City\, MI\, 48039\, United States
CATEGORIES:Free,Playgroups
END:VEVENT
BEGIN:VEVENT
DTSTART;TZID=America/New_York:20270803T100000
DTEND;TZID=America/New_York:20270803T103000
DTSTAMP:20260419T201213
CREATED:20260418T235804Z
LAST-MODIFIED:20260419T000903Z
UID:10025408-1817287200-1817289000@bluewaterparent.com
SUMMARY:Rhythm and Rhyme - Port Huron
DESCRIPTION:For children ages 0-3 and their caregivers.
URL:https://bluewaterparent.com/event/rhythm-and-rhyme-port-huron/2027-08-03/
LOCATION:Main Library\, 210 McMorran Blvd\, Port Huron\, MI\, 48060\, United States
CATEGORIES:Playgroups
END:VEVENT
BEGIN:VEVENT
DTSTART;TZID=America/New_York:20270803T153000
DTEND;TZID=America/New_York:20270803T173000
DTSTAMP:20260419T201213
CREATED:20260101T184832Z
LAST-MODIFIED:20260101T184832Z
UID:10019036-1817307000-1817314200@bluewaterparent.com
SUMMARY:Teen Zone - Burtchville
DESCRIPTION:Registration requested.
URL:https://bluewaterparent.com/event/teen-zone-burtchville-2/2027-08-03/
LOCATION:Burtchville Library\, 7093 2nd St\, Lakeport\, MI\, 48059\, United States
CATEGORIES:Teens
END:VEVENT
BEGIN:VEVENT
DTSTART;TZID=America/New_York:20270803T170000
DTEND;TZID=America/New_York:20270803T193000
DTSTAMP:20260419T201213
CREATED:20260101T190453Z
LAST-MODIFIED:20260103T013002Z
UID:10021411-1817312400-1817321400@bluewaterparent.com
SUMMARY:Teen D&D Group - Algonac-Clay
DESCRIPTION:Registration requested.
URL:https://bluewaterparent.com/event/teen-dd-group-algonac-clay/2027-08-03/
LOCATION:Algonac-Clay Library\, 2011 St Clair River Dr\, Algonac\, MI\, 48001\, United States
CATEGORIES:Teens
END:VEVENT
END:VCALENDAR